BEGIN:VCALENDAR
VERSION:2.0
PRODID:-//Haisla Nation - ECPv6.15.20//NONSGML v1.0//EN
CALSCALE:GREGORIAN
METHOD:PUBLISH
X-ORIGINAL-URL:https://haisla.ca
X-WR-CALDESC:Events for Haisla Nation
REFRESH-INTERVAL;VALUE=DURATION:PT1H
X-Robots-Tag:noindex
X-PUBLISHED-TTL:PT1H
BEGIN:VTIMEZONE
TZID:America/Vancouver
BEGIN:DAYLIGHT
TZOFFSETFROM:-0800
TZOFFSETTO:-0700
TZNAME:PDT
DTSTART:20250309T100000
END:DAYLIGHT
BEGIN:STANDARD
TZOFFSETFROM:-0700
TZOFFSETTO:-0800
TZNAME:PST
DTSTART:20251102T090000
END:STANDARD
BEGIN:DAYLIGHT
TZOFFSETFROM:-0800
TZOFFSETTO:-0700
TZNAME:PDT
DTSTART:20260308T100000
END:DAYLIGHT
BEGIN:STANDARD
TZOFFSETFROM:-0700
TZOFFSETTO:-0800
TZNAME:PST
DTSTART:20261101T090000
END:STANDARD
BEGIN:DAYLIGHT
TZOFFSETFROM:-0800
TZOFFSETTO:-0700
TZNAME:PDT
DTSTART:20270314T100000
END:DAYLIGHT
BEGIN:STANDARD
TZOFFSETFROM:-0700
TZOFFSETTO:-0800
TZNAME:PST
DTSTART:20271107T090000
END:STANDARD
END:VTIMEZONE
BEGIN:VEVENT
DTSTART;TZID=America/Vancouver:20260331T180000
DTEND;TZID=America/Vancouver:20260331T210000
DTSTAMP:20260422T021602
CREATED:20260325T004557Z
LAST-MODIFIED:20260325T004557Z
UID:10002430-1774980000-1774990800@haisla.ca
SUMMARY:Communications & Events Information Session +Update from Maureen Nyce
DESCRIPTION:
URL:https://haisla.ca/event/communications-events-information-session-update-from-maureen-nyce/
LOCATION:Haisla Nation Recreation Centre\, 1538 Jassee Street\, Haisla\, British Columbia\, Canada
ATTACH;FMTTYPE=image/jpeg:https://haisla.ca/wp-content/uploads/2026/03/Comms-Events-Info-Session-Update-from-Maureen-Nyce.jpg
END:VEVENT
BEGIN:VEVENT
DTSTART;TZID=America/Vancouver:20260314T133000
DTEND;TZID=America/Vancouver:20260314T143000
DTSTAMP:20260422T021602
CREATED:20260305T224551Z
LAST-MODIFIED:20260305T224634Z
UID:10002427-1773495000-1773498600@haisla.ca
SUMMARY:Theo Fleury Visit
DESCRIPTION:Haisla Nation is honoured to host Theo Fleury for a powerful talk with our youth. His message of hope\, healing\, and resilience is one we’re proud to share with our community. This is an exciting opportunity to share with everyone! \nEveryone is welcome. \nJoin us at the Haisla Nation Recreation Centre located at 1538 Jassee St. in Haisla B.C. from 1:30PM to 2:30PM
URL:https://haisla.ca/event/theo-fleury-visit/
LOCATION:Haisla Nation Recreation Centre\, 1538 Jassee Street\, Haisla\, British Columbia\, Canada
ATTACH;FMTTYPE=image/png:https://haisla.ca/wp-content/uploads/2026/03/Theo-Fluery.png
END:VEVENT
BEGIN:VEVENT
DTSTART;TZID=America/Vancouver:20260307T080000
DTEND;TZID=America/Vancouver:20260307T190000
DTSTAMP:20260422T021602
CREATED:20260302T224941Z
LAST-MODIFIED:20260302T224941Z
UID:10002426-1772870400-1772910000@haisla.ca
SUMMARY:Haisla Member Engagement - NIFCS
DESCRIPTION:
URL:https://haisla.ca/event/haisla-member-engagement-nifcs/
LOCATION:Haisla Nation Recreation Centre\, 1538 Jassee Street\, Haisla\, British Columbia\, Canada
CATEGORIES:Child and Family Services
ATTACH;FMTTYPE=image/png:https://haisla.ca/wp-content/uploads/2026/02/Membership-Engagement-Nifcs-1.png
END:VEVENT
END:VCALENDAR