BEGIN:VCALENDAR
VERSION:2.0
PRODID:-//Haisla Nation - ECPv6.15.20//NONSGML v1.0//EN
CALSCALE:GREGORIAN
METHOD:PUBLISH
X-WR-CALNAME:Haisla Nation
X-ORIGINAL-URL:https://haisla.ca
X-WR-CALDESC:Events for Haisla Nation
REFRESH-INTERVAL;VALUE=DURATION:PT1H
X-Robots-Tag:noindex
X-PUBLISHED-TTL:PT1H
BEGIN:VTIMEZONE
TZID:America/Vancouver
BEGIN:DAYLIGHT
TZOFFSETFROM:-0800
TZOFFSETTO:-0700
TZNAME:PDT
DTSTART:20250309T100000
END:DAYLIGHT
BEGIN:STANDARD
TZOFFSETFROM:-0700
TZOFFSETTO:-0800
TZNAME:PST
DTSTART:20251102T090000
END:STANDARD
BEGIN:DAYLIGHT
TZOFFSETFROM:-0800
TZOFFSETTO:-0700
TZNAME:PDT
DTSTART:20260308T100000
END:DAYLIGHT
BEGIN:STANDARD
TZOFFSETFROM:-0700
TZOFFSETTO:-0800
TZNAME:PST
DTSTART:20261101T090000
END:STANDARD
BEGIN:DAYLIGHT
TZOFFSETFROM:-0800
TZOFFSETTO:-0700
TZNAME:PDT
DTSTART:20270314T100000
END:DAYLIGHT
BEGIN:STANDARD
TZOFFSETFROM:-0700
TZOFFSETTO:-0800
TZNAME:PST
DTSTART:20271107T090000
END:STANDARD
END:VTIMEZONE
BEGIN:VEVENT
DTSTART;TZID=America/Vancouver:20260714T120000
DTEND;TZID=America/Vancouver:20260714T130000
DTSTAMP:20260421T162008
CREATED:20251027T211054Z
LAST-MODIFIED:20251027T211127Z
UID:10001714-1784030400-1784034000@haisla.ca
SUMMARY:Yoga For Wellness
DESCRIPTION:Gentle movement and mindfulness practices to support mental and physical well-being.
URL:https://haisla.ca/event/yoga-for-wellness-2/2026-07-14/
LOCATION:Haisla Health Centre\, 130 Owekeno Avenue\, Haisla\, British Columbia\, Canada
CATEGORIES:Health and Wellness
END:VEVENT
BEGIN:VEVENT
DTSTART;TZID=America/Vancouver:20260714T180000
DTEND;TZID=America/Vancouver:20260714T200000
DTSTAMP:20260421T162008
CREATED:20251027T212049Z
LAST-MODIFIED:20251027T212115Z
UID:10002199-1784052000-1784059200@haisla.ca
SUMMARY:Wellbriety Men's Group
DESCRIPTION:A culturally grounded recovery group rooted in Indigenous teachings and the Medicine Wheel.
URL:https://haisla.ca/event/wellbriety-mens-group/2026-07-14/
LOCATION:Haisla Health Centre\, 130 Owekeno Avenue\, Haisla\, British Columbia\, Canada
CATEGORIES:Health and Wellness
END:VEVENT
BEGIN:VEVENT
DTSTART;TZID=America/Vancouver:20260717T083000
DTEND;TZID=America/Vancouver:20260717T085000
DTSTAMP:20260421T162008
CREATED:20251027T210214Z
LAST-MODIFIED:20251027T210256Z
UID:10000148-1784277000-1784278200@haisla.ca
SUMMARY:Meditation
DESCRIPTION:
URL:https://haisla.ca/event/meditation/2026-07-17/
LOCATION:Haisla Health Centre\, 130 Owekeno Avenue\, Haisla\, British Columbia\, Canada
CATEGORIES:Health and Wellness
END:VEVENT
BEGIN:VEVENT
DTSTART;TZID=America/Vancouver:20260717T094500
DTEND;TZID=America/Vancouver:20260717T224000
DTSTAMP:20260421T162008
CREATED:20251027T210626Z
LAST-MODIFIED:20251027T210951Z
UID:10000671-1784281500-1784328000@haisla.ca
SUMMARY:Yoga For Wellness
DESCRIPTION:Gentle movement and mindfulness practices to support mental and physical well-being.
URL:https://haisla.ca/event/yoga-for-wellness/2026-07-17/
LOCATION:Haisla Health Centre\, 130 Owekeno Avenue\, Haisla\, British Columbia\, Canada
CATEGORIES:Health and Wellness
END:VEVENT
BEGIN:VEVENT
DTSTART;TZID=America/Vancouver:20260717T120000
DTEND;TZID=America/Vancouver:20260717T130000
DTSTAMP:20260421T162008
CREATED:20251027T211054Z
LAST-MODIFIED:20251027T211127Z
UID:10001715-1784289600-1784293200@haisla.ca
SUMMARY:Yoga For Wellness
DESCRIPTION:Gentle movement and mindfulness practices to support mental and physical well-being.
URL:https://haisla.ca/event/yoga-for-wellness-2/2026-07-17/
LOCATION:Haisla Health Centre\, 130 Owekeno Avenue\, Haisla\, British Columbia\, Canada
CATEGORIES:Health and Wellness
END:VEVENT
BEGIN:VEVENT
DTSTART;TZID=America/Vancouver:20260721T083000
DTEND;TZID=America/Vancouver:20260721T085000
DTSTAMP:20260421T162008
CREATED:20251027T210214Z
LAST-MODIFIED:20251027T210256Z
UID:10000149-1784622600-1784623800@haisla.ca
SUMMARY:Meditation
DESCRIPTION:
URL:https://haisla.ca/event/meditation/2026-07-21/
LOCATION:Haisla Health Centre\, 130 Owekeno Avenue\, Haisla\, British Columbia\, Canada
CATEGORIES:Health and Wellness
END:VEVENT
BEGIN:VEVENT
DTSTART;TZID=America/Vancouver:20260721T094500
DTEND;TZID=America/Vancouver:20260721T224000
DTSTAMP:20260421T162008
CREATED:20251027T210626Z
LAST-MODIFIED:20251027T210951Z
UID:10000672-1784627100-1784673600@haisla.ca
SUMMARY:Yoga For Wellness
DESCRIPTION:Gentle movement and mindfulness practices to support mental and physical well-being.
URL:https://haisla.ca/event/yoga-for-wellness/2026-07-21/
LOCATION:Haisla Health Centre\, 130 Owekeno Avenue\, Haisla\, British Columbia\, Canada
CATEGORIES:Health and Wellness
END:VEVENT
BEGIN:VEVENT
DTSTART;TZID=America/Vancouver:20260721T120000
DTEND;TZID=America/Vancouver:20260721T130000
DTSTAMP:20260421T162008
CREATED:20251027T211054Z
LAST-MODIFIED:20251027T211127Z
UID:10001716-1784635200-1784638800@haisla.ca
SUMMARY:Yoga For Wellness
DESCRIPTION:Gentle movement and mindfulness practices to support mental and physical well-being.
URL:https://haisla.ca/event/yoga-for-wellness-2/2026-07-21/
LOCATION:Haisla Health Centre\, 130 Owekeno Avenue\, Haisla\, British Columbia\, Canada
CATEGORIES:Health and Wellness
END:VEVENT
BEGIN:VEVENT
DTSTART;TZID=America/Vancouver:20260721T180000
DTEND;TZID=America/Vancouver:20260721T200000
DTSTAMP:20260421T162008
CREATED:20251027T212049Z
LAST-MODIFIED:20251027T212115Z
UID:10002200-1784656800-1784664000@haisla.ca
SUMMARY:Wellbriety Men's Group
DESCRIPTION:A culturally grounded recovery group rooted in Indigenous teachings and the Medicine Wheel.
URL:https://haisla.ca/event/wellbriety-mens-group/2026-07-21/
LOCATION:Haisla Health Centre\, 130 Owekeno Avenue\, Haisla\, British Columbia\, Canada
CATEGORIES:Health and Wellness
END:VEVENT
BEGIN:VEVENT
DTSTART;TZID=America/Vancouver:20260724T083000
DTEND;TZID=America/Vancouver:20260724T085000
DTSTAMP:20260421T162008
CREATED:20251027T210214Z
LAST-MODIFIED:20251027T210256Z
UID:10000150-1784881800-1784883000@haisla.ca
SUMMARY:Meditation
DESCRIPTION:
URL:https://haisla.ca/event/meditation/2026-07-24/
LOCATION:Haisla Health Centre\, 130 Owekeno Avenue\, Haisla\, British Columbia\, Canada
CATEGORIES:Health and Wellness
END:VEVENT
BEGIN:VEVENT
DTSTART;TZID=America/Vancouver:20260724T094500
DTEND;TZID=America/Vancouver:20260724T224000
DTSTAMP:20260421T162008
CREATED:20251027T210626Z
LAST-MODIFIED:20251027T210951Z
UID:10000673-1784886300-1784932800@haisla.ca
SUMMARY:Yoga For Wellness
DESCRIPTION:Gentle movement and mindfulness practices to support mental and physical well-being.
URL:https://haisla.ca/event/yoga-for-wellness/2026-07-24/
LOCATION:Haisla Health Centre\, 130 Owekeno Avenue\, Haisla\, British Columbia\, Canada
CATEGORIES:Health and Wellness
END:VEVENT
BEGIN:VEVENT
DTSTART;TZID=America/Vancouver:20260724T120000
DTEND;TZID=America/Vancouver:20260724T130000
DTSTAMP:20260421T162008
CREATED:20251027T211054Z
LAST-MODIFIED:20251027T211127Z
UID:10001717-1784894400-1784898000@haisla.ca
SUMMARY:Yoga For Wellness
DESCRIPTION:Gentle movement and mindfulness practices to support mental and physical well-being.
URL:https://haisla.ca/event/yoga-for-wellness-2/2026-07-24/
LOCATION:Haisla Health Centre\, 130 Owekeno Avenue\, Haisla\, British Columbia\, Canada
CATEGORIES:Health and Wellness
END:VEVENT
BEGIN:VEVENT
DTSTART;TZID=America/Vancouver:20260728T083000
DTEND;TZID=America/Vancouver:20260728T085000
DTSTAMP:20260421T162008
CREATED:20251027T210214Z
LAST-MODIFIED:20251027T210256Z
UID:10000151-1785227400-1785228600@haisla.ca
SUMMARY:Meditation
DESCRIPTION:
URL:https://haisla.ca/event/meditation/2026-07-28/
LOCATION:Haisla Health Centre\, 130 Owekeno Avenue\, Haisla\, British Columbia\, Canada
CATEGORIES:Health and Wellness
END:VEVENT
BEGIN:VEVENT
DTSTART;TZID=America/Vancouver:20260728T094500
DTEND;TZID=America/Vancouver:20260728T224000
DTSTAMP:20260421T162008
CREATED:20251027T210626Z
LAST-MODIFIED:20251027T210951Z
UID:10000674-1785231900-1785278400@haisla.ca
SUMMARY:Yoga For Wellness
DESCRIPTION:Gentle movement and mindfulness practices to support mental and physical well-being.
URL:https://haisla.ca/event/yoga-for-wellness/2026-07-28/
LOCATION:Haisla Health Centre\, 130 Owekeno Avenue\, Haisla\, British Columbia\, Canada
CATEGORIES:Health and Wellness
END:VEVENT
BEGIN:VEVENT
DTSTART;TZID=America/Vancouver:20260728T120000
DTEND;TZID=America/Vancouver:20260728T130000
DTSTAMP:20260421T162008
CREATED:20251027T211054Z
LAST-MODIFIED:20251027T211127Z
UID:10001718-1785240000-1785243600@haisla.ca
SUMMARY:Yoga For Wellness
DESCRIPTION:Gentle movement and mindfulness practices to support mental and physical well-being.
URL:https://haisla.ca/event/yoga-for-wellness-2/2026-07-28/
LOCATION:Haisla Health Centre\, 130 Owekeno Avenue\, Haisla\, British Columbia\, Canada
CATEGORIES:Health and Wellness
END:VEVENT
BEGIN:VEVENT
DTSTART;TZID=America/Vancouver:20260728T180000
DTEND;TZID=America/Vancouver:20260728T200000
DTSTAMP:20260421T162008
CREATED:20251027T212049Z
LAST-MODIFIED:20251027T212115Z
UID:10002201-1785261600-1785268800@haisla.ca
SUMMARY:Wellbriety Men's Group
DESCRIPTION:A culturally grounded recovery group rooted in Indigenous teachings and the Medicine Wheel.
URL:https://haisla.ca/event/wellbriety-mens-group/2026-07-28/
LOCATION:Haisla Health Centre\, 130 Owekeno Avenue\, Haisla\, British Columbia\, Canada
CATEGORIES:Health and Wellness
END:VEVENT
BEGIN:VEVENT
DTSTART;TZID=America/Vancouver:20260731T083000
DTEND;TZID=America/Vancouver:20260731T085000
DTSTAMP:20260421T162008
CREATED:20251027T210214Z
LAST-MODIFIED:20251027T210256Z
UID:10000152-1785486600-1785487800@haisla.ca
SUMMARY:Meditation
DESCRIPTION:
URL:https://haisla.ca/event/meditation/2026-07-31/
LOCATION:Haisla Health Centre\, 130 Owekeno Avenue\, Haisla\, British Columbia\, Canada
CATEGORIES:Health and Wellness
END:VEVENT
BEGIN:VEVENT
DTSTART;TZID=America/Vancouver:20260731T094500
DTEND;TZID=America/Vancouver:20260731T224000
DTSTAMP:20260421T162008
CREATED:20251027T210626Z
LAST-MODIFIED:20251027T210951Z
UID:10000675-1785491100-1785537600@haisla.ca
SUMMARY:Yoga For Wellness
DESCRIPTION:Gentle movement and mindfulness practices to support mental and physical well-being.
URL:https://haisla.ca/event/yoga-for-wellness/2026-07-31/
LOCATION:Haisla Health Centre\, 130 Owekeno Avenue\, Haisla\, British Columbia\, Canada
CATEGORIES:Health and Wellness
END:VEVENT
BEGIN:VEVENT
DTSTART;TZID=America/Vancouver:20260731T120000
DTEND;TZID=America/Vancouver:20260731T130000
DTSTAMP:20260421T162008
CREATED:20251027T211054Z
LAST-MODIFIED:20251027T211127Z
UID:10001719-1785499200-1785502800@haisla.ca
SUMMARY:Yoga For Wellness
DESCRIPTION:Gentle movement and mindfulness practices to support mental and physical well-being.
URL:https://haisla.ca/event/yoga-for-wellness-2/2026-07-31/
LOCATION:Haisla Health Centre\, 130 Owekeno Avenue\, Haisla\, British Columbia\, Canada
CATEGORIES:Health and Wellness
END:VEVENT
BEGIN:VEVENT
DTSTART;TZID=America/Vancouver:20260804T083000
DTEND;TZID=America/Vancouver:20260804T085000
DTSTAMP:20260421T162008
CREATED:20251027T210214Z
LAST-MODIFIED:20251027T210256Z
UID:10000153-1785832200-1785833400@haisla.ca
SUMMARY:Meditation
DESCRIPTION:
URL:https://haisla.ca/event/meditation/2026-08-04/
LOCATION:Haisla Health Centre\, 130 Owekeno Avenue\, Haisla\, British Columbia\, Canada
CATEGORIES:Health and Wellness
END:VEVENT
BEGIN:VEVENT
DTSTART;TZID=America/Vancouver:20260804T094500
DTEND;TZID=America/Vancouver:20260804T224000
DTSTAMP:20260421T162008
CREATED:20251027T210626Z
LAST-MODIFIED:20251027T210951Z
UID:10000676-1785836700-1785883200@haisla.ca
SUMMARY:Yoga For Wellness
DESCRIPTION:Gentle movement and mindfulness practices to support mental and physical well-being.
URL:https://haisla.ca/event/yoga-for-wellness/2026-08-04/
LOCATION:Haisla Health Centre\, 130 Owekeno Avenue\, Haisla\, British Columbia\, Canada
CATEGORIES:Health and Wellness
END:VEVENT
BEGIN:VEVENT
DTSTART;TZID=America/Vancouver:20260804T120000
DTEND;TZID=America/Vancouver:20260804T130000
DTSTAMP:20260421T162008
CREATED:20251027T211054Z
LAST-MODIFIED:20251027T211127Z
UID:10001720-1785844800-1785848400@haisla.ca
SUMMARY:Yoga For Wellness
DESCRIPTION:Gentle movement and mindfulness practices to support mental and physical well-being.
URL:https://haisla.ca/event/yoga-for-wellness-2/2026-08-04/
LOCATION:Haisla Health Centre\, 130 Owekeno Avenue\, Haisla\, British Columbia\, Canada
CATEGORIES:Health and Wellness
END:VEVENT
BEGIN:VEVENT
DTSTART;TZID=America/Vancouver:20260804T180000
DTEND;TZID=America/Vancouver:20260804T200000
DTSTAMP:20260421T162008
CREATED:20251027T212049Z
LAST-MODIFIED:20251027T212115Z
UID:10002202-1785866400-1785873600@haisla.ca
SUMMARY:Wellbriety Men's Group
DESCRIPTION:A culturally grounded recovery group rooted in Indigenous teachings and the Medicine Wheel.
URL:https://haisla.ca/event/wellbriety-mens-group/2026-08-04/
LOCATION:Haisla Health Centre\, 130 Owekeno Avenue\, Haisla\, British Columbia\, Canada
CATEGORIES:Health and Wellness
END:VEVENT
BEGIN:VEVENT
DTSTART;TZID=America/Vancouver:20260807T083000
DTEND;TZID=America/Vancouver:20260807T085000
DTSTAMP:20260421T162008
CREATED:20251027T210214Z
LAST-MODIFIED:20251027T210256Z
UID:10000154-1786091400-1786092600@haisla.ca
SUMMARY:Meditation
DESCRIPTION:
URL:https://haisla.ca/event/meditation/2026-08-07/
LOCATION:Haisla Health Centre\, 130 Owekeno Avenue\, Haisla\, British Columbia\, Canada
CATEGORIES:Health and Wellness
END:VEVENT
BEGIN:VEVENT
DTSTART;TZID=America/Vancouver:20260807T094500
DTEND;TZID=America/Vancouver:20260807T224000
DTSTAMP:20260421T162008
CREATED:20251027T210626Z
LAST-MODIFIED:20251027T210951Z
UID:10000677-1786095900-1786142400@haisla.ca
SUMMARY:Yoga For Wellness
DESCRIPTION:Gentle movement and mindfulness practices to support mental and physical well-being.
URL:https://haisla.ca/event/yoga-for-wellness/2026-08-07/
LOCATION:Haisla Health Centre\, 130 Owekeno Avenue\, Haisla\, British Columbia\, Canada
CATEGORIES:Health and Wellness
END:VEVENT
BEGIN:VEVENT
DTSTART;TZID=America/Vancouver:20260807T120000
DTEND;TZID=America/Vancouver:20260807T130000
DTSTAMP:20260421T162008
CREATED:20251027T211054Z
LAST-MODIFIED:20251027T211127Z
UID:10001721-1786104000-1786107600@haisla.ca
SUMMARY:Yoga For Wellness
DESCRIPTION:Gentle movement and mindfulness practices to support mental and physical well-being.
URL:https://haisla.ca/event/yoga-for-wellness-2/2026-08-07/
LOCATION:Haisla Health Centre\, 130 Owekeno Avenue\, Haisla\, British Columbia\, Canada
CATEGORIES:Health and Wellness
END:VEVENT
BEGIN:VEVENT
DTSTART;TZID=America/Vancouver:20260811T083000
DTEND;TZID=America/Vancouver:20260811T085000
DTSTAMP:20260421T162008
CREATED:20251027T210214Z
LAST-MODIFIED:20251027T210256Z
UID:10000155-1786437000-1786438200@haisla.ca
SUMMARY:Meditation
DESCRIPTION:
URL:https://haisla.ca/event/meditation/2026-08-11/
LOCATION:Haisla Health Centre\, 130 Owekeno Avenue\, Haisla\, British Columbia\, Canada
CATEGORIES:Health and Wellness
END:VEVENT
BEGIN:VEVENT
DTSTART;TZID=America/Vancouver:20260811T094500
DTEND;TZID=America/Vancouver:20260811T224000
DTSTAMP:20260421T162008
CREATED:20251027T210626Z
LAST-MODIFIED:20251027T210951Z
UID:10000678-1786441500-1786488000@haisla.ca
SUMMARY:Yoga For Wellness
DESCRIPTION:Gentle movement and mindfulness practices to support mental and physical well-being.
URL:https://haisla.ca/event/yoga-for-wellness/2026-08-11/
LOCATION:Haisla Health Centre\, 130 Owekeno Avenue\, Haisla\, British Columbia\, Canada
CATEGORIES:Health and Wellness
END:VEVENT
BEGIN:VEVENT
DTSTART;TZID=America/Vancouver:20260811T120000
DTEND;TZID=America/Vancouver:20260811T130000
DTSTAMP:20260421T162008
CREATED:20251027T211054Z
LAST-MODIFIED:20251027T211127Z
UID:10001722-1786449600-1786453200@haisla.ca
SUMMARY:Yoga For Wellness
DESCRIPTION:Gentle movement and mindfulness practices to support mental and physical well-being.
URL:https://haisla.ca/event/yoga-for-wellness-2/2026-08-11/
LOCATION:Haisla Health Centre\, 130 Owekeno Avenue\, Haisla\, British Columbia\, Canada
CATEGORIES:Health and Wellness
END:VEVENT
BEGIN:VEVENT
DTSTART;TZID=America/Vancouver:20260811T180000
DTEND;TZID=America/Vancouver:20260811T200000
DTSTAMP:20260421T162008
CREATED:20251027T212049Z
LAST-MODIFIED:20251027T212115Z
UID:10002203-1786471200-1786478400@haisla.ca
SUMMARY:Wellbriety Men's Group
DESCRIPTION:A culturally grounded recovery group rooted in Indigenous teachings and the Medicine Wheel.
URL:https://haisla.ca/event/wellbriety-mens-group/2026-08-11/
LOCATION:Haisla Health Centre\, 130 Owekeno Avenue\, Haisla\, British Columbia\, Canada
CATEGORIES:Health and Wellness
END:VEVENT
END:VCALENDAR