BEGIN:VCALENDAR
VERSION:2.0
PRODID:-//Haisla Nation - ECPv6.15.20//NONSGML v1.0//EN
CALSCALE:GREGORIAN
METHOD:PUBLISH
X-ORIGINAL-URL:https://haisla.ca
X-WR-CALDESC:Events for Haisla Nation
REFRESH-INTERVAL;VALUE=DURATION:PT1H
X-Robots-Tag:noindex
X-PUBLISHED-TTL:PT1H
BEGIN:VTIMEZONE
TZID:America/Vancouver
BEGIN:DAYLIGHT
TZOFFSETFROM:-0800
TZOFFSETTO:-0700
TZNAME:PDT
DTSTART:20250309T100000
END:DAYLIGHT
BEGIN:STANDARD
TZOFFSETFROM:-0700
TZOFFSETTO:-0800
TZNAME:PST
DTSTART:20251102T090000
END:STANDARD
BEGIN:DAYLIGHT
TZOFFSETFROM:-0800
TZOFFSETTO:-0700
TZNAME:PDT
DTSTART:20260308T100000
END:DAYLIGHT
BEGIN:STANDARD
TZOFFSETFROM:-0700
TZOFFSETTO:-0800
TZNAME:PST
DTSTART:20261101T090000
END:STANDARD
BEGIN:DAYLIGHT
TZOFFSETFROM:-0800
TZOFFSETTO:-0700
TZNAME:PDT
DTSTART:20270314T100000
END:DAYLIGHT
BEGIN:STANDARD
TZOFFSETFROM:-0700
TZOFFSETTO:-0800
TZNAME:PST
DTSTART:20271107T090000
END:STANDARD
END:VTIMEZONE
BEGIN:VEVENT
DTSTART;TZID=America/Vancouver:20260619T120000
DTEND;TZID=America/Vancouver:20260619T130000
DTSTAMP:20260421T130421
CREATED:20251027T211054Z
LAST-MODIFIED:20251027T211127Z
UID:10001707-1781870400-1781874000@haisla.ca
SUMMARY:Yoga For Wellness
DESCRIPTION:Gentle movement and mindfulness practices to support mental and physical well-being.
URL:https://haisla.ca/event/yoga-for-wellness-2/2026-06-19/
LOCATION:Haisla Health Centre\, 130 Owekeno Avenue\, Haisla\, British Columbia\, Canada
CATEGORIES:Health and Wellness
END:VEVENT
BEGIN:VEVENT
DTSTART;TZID=America/Vancouver:20260623T083000
DTEND;TZID=America/Vancouver:20260623T085000
DTSTAMP:20260421T130421
CREATED:20251027T210214Z
LAST-MODIFIED:20251027T210256Z
UID:10000141-1782203400-1782204600@haisla.ca
SUMMARY:Meditation
DESCRIPTION:
URL:https://haisla.ca/event/meditation/2026-06-23/
LOCATION:Haisla Health Centre\, 130 Owekeno Avenue\, Haisla\, British Columbia\, Canada
CATEGORIES:Health and Wellness
END:VEVENT
BEGIN:VEVENT
DTSTART;TZID=America/Vancouver:20260623T094500
DTEND;TZID=America/Vancouver:20260623T224000
DTSTAMP:20260421T130421
CREATED:20251027T210626Z
LAST-MODIFIED:20251027T210951Z
UID:10000664-1782207900-1782254400@haisla.ca
SUMMARY:Yoga For Wellness
DESCRIPTION:Gentle movement and mindfulness practices to support mental and physical well-being.
URL:https://haisla.ca/event/yoga-for-wellness/2026-06-23/
LOCATION:Haisla Health Centre\, 130 Owekeno Avenue\, Haisla\, British Columbia\, Canada
CATEGORIES:Health and Wellness
END:VEVENT
BEGIN:VEVENT
DTSTART;TZID=America/Vancouver:20260623T120000
DTEND;TZID=America/Vancouver:20260623T130000
DTSTAMP:20260421T130421
CREATED:20251027T211054Z
LAST-MODIFIED:20251027T211127Z
UID:10001708-1782216000-1782219600@haisla.ca
SUMMARY:Yoga For Wellness
DESCRIPTION:Gentle movement and mindfulness practices to support mental and physical well-being.
URL:https://haisla.ca/event/yoga-for-wellness-2/2026-06-23/
LOCATION:Haisla Health Centre\, 130 Owekeno Avenue\, Haisla\, British Columbia\, Canada
CATEGORIES:Health and Wellness
END:VEVENT
BEGIN:VEVENT
DTSTART;TZID=America/Vancouver:20260623T180000
DTEND;TZID=America/Vancouver:20260623T200000
DTSTAMP:20260421T130421
CREATED:20251027T212049Z
LAST-MODIFIED:20251027T212115Z
UID:10002196-1782237600-1782244800@haisla.ca
SUMMARY:Wellbriety Men's Group
DESCRIPTION:A culturally grounded recovery group rooted in Indigenous teachings and the Medicine Wheel.
URL:https://haisla.ca/event/wellbriety-mens-group/2026-06-23/
LOCATION:Haisla Health Centre\, 130 Owekeno Avenue\, Haisla\, British Columbia\, Canada
CATEGORIES:Health and Wellness
END:VEVENT
BEGIN:VEVENT
DTSTART;TZID=America/Vancouver:20260626T083000
DTEND;TZID=America/Vancouver:20260626T085000
DTSTAMP:20260421T130421
CREATED:20251027T210214Z
LAST-MODIFIED:20251027T210256Z
UID:10000142-1782462600-1782463800@haisla.ca
SUMMARY:Meditation
DESCRIPTION:
URL:https://haisla.ca/event/meditation/2026-06-26/
LOCATION:Haisla Health Centre\, 130 Owekeno Avenue\, Haisla\, British Columbia\, Canada
CATEGORIES:Health and Wellness
END:VEVENT
BEGIN:VEVENT
DTSTART;TZID=America/Vancouver:20260626T094500
DTEND;TZID=America/Vancouver:20260626T224000
DTSTAMP:20260421T130421
CREATED:20251027T210626Z
LAST-MODIFIED:20251027T210951Z
UID:10000665-1782467100-1782513600@haisla.ca
SUMMARY:Yoga For Wellness
DESCRIPTION:Gentle movement and mindfulness practices to support mental and physical well-being.
URL:https://haisla.ca/event/yoga-for-wellness/2026-06-26/
LOCATION:Haisla Health Centre\, 130 Owekeno Avenue\, Haisla\, British Columbia\, Canada
CATEGORIES:Health and Wellness
END:VEVENT
BEGIN:VEVENT
DTSTART;TZID=America/Vancouver:20260626T120000
DTEND;TZID=America/Vancouver:20260626T130000
DTSTAMP:20260421T130421
CREATED:20251027T211054Z
LAST-MODIFIED:20251027T211127Z
UID:10001709-1782475200-1782478800@haisla.ca
SUMMARY:Yoga For Wellness
DESCRIPTION:Gentle movement and mindfulness practices to support mental and physical well-being.
URL:https://haisla.ca/event/yoga-for-wellness-2/2026-06-26/
LOCATION:Haisla Health Centre\, 130 Owekeno Avenue\, Haisla\, British Columbia\, Canada
CATEGORIES:Health and Wellness
END:VEVENT
BEGIN:VEVENT
DTSTART;TZID=America/Vancouver:20260630T083000
DTEND;TZID=America/Vancouver:20260630T085000
DTSTAMP:20260421T130421
CREATED:20251027T210214Z
LAST-MODIFIED:20251027T210256Z
UID:10000143-1782808200-1782809400@haisla.ca
SUMMARY:Meditation
DESCRIPTION:
URL:https://haisla.ca/event/meditation/2026-06-30/
LOCATION:Haisla Health Centre\, 130 Owekeno Avenue\, Haisla\, British Columbia\, Canada
CATEGORIES:Health and Wellness
END:VEVENT
BEGIN:VEVENT
DTSTART;TZID=America/Vancouver:20260630T094500
DTEND;TZID=America/Vancouver:20260630T224000
DTSTAMP:20260421T130421
CREATED:20251027T210626Z
LAST-MODIFIED:20251027T210951Z
UID:10000666-1782812700-1782859200@haisla.ca
SUMMARY:Yoga For Wellness
DESCRIPTION:Gentle movement and mindfulness practices to support mental and physical well-being.
URL:https://haisla.ca/event/yoga-for-wellness/2026-06-30/
LOCATION:Haisla Health Centre\, 130 Owekeno Avenue\, Haisla\, British Columbia\, Canada
CATEGORIES:Health and Wellness
END:VEVENT
BEGIN:VEVENT
DTSTART;TZID=America/Vancouver:20260630T120000
DTEND;TZID=America/Vancouver:20260630T130000
DTSTAMP:20260421T130421
CREATED:20251027T211054Z
LAST-MODIFIED:20251027T211127Z
UID:10001710-1782820800-1782824400@haisla.ca
SUMMARY:Yoga For Wellness
DESCRIPTION:Gentle movement and mindfulness practices to support mental and physical well-being.
URL:https://haisla.ca/event/yoga-for-wellness-2/2026-06-30/
LOCATION:Haisla Health Centre\, 130 Owekeno Avenue\, Haisla\, British Columbia\, Canada
CATEGORIES:Health and Wellness
END:VEVENT
BEGIN:VEVENT
DTSTART;TZID=America/Vancouver:20260630T180000
DTEND;TZID=America/Vancouver:20260630T200000
DTSTAMP:20260421T130421
CREATED:20251027T212049Z
LAST-MODIFIED:20251027T212115Z
UID:10002197-1782842400-1782849600@haisla.ca
SUMMARY:Wellbriety Men's Group
DESCRIPTION:A culturally grounded recovery group rooted in Indigenous teachings and the Medicine Wheel.
URL:https://haisla.ca/event/wellbriety-mens-group/2026-06-30/
LOCATION:Haisla Health Centre\, 130 Owekeno Avenue\, Haisla\, British Columbia\, Canada
CATEGORIES:Health and Wellness
END:VEVENT
BEGIN:VEVENT
DTSTART;TZID=America/Vancouver:20260703T083000
DTEND;TZID=America/Vancouver:20260703T085000
DTSTAMP:20260421T130421
CREATED:20251027T210214Z
LAST-MODIFIED:20251027T210256Z
UID:10000144-1783067400-1783068600@haisla.ca
SUMMARY:Meditation
DESCRIPTION:
URL:https://haisla.ca/event/meditation/2026-07-03/
LOCATION:Haisla Health Centre\, 130 Owekeno Avenue\, Haisla\, British Columbia\, Canada
CATEGORIES:Health and Wellness
END:VEVENT
BEGIN:VEVENT
DTSTART;TZID=America/Vancouver:20260703T094500
DTEND;TZID=America/Vancouver:20260703T224000
DTSTAMP:20260421T130421
CREATED:20251027T210626Z
LAST-MODIFIED:20251027T210951Z
UID:10000667-1783071900-1783118400@haisla.ca
SUMMARY:Yoga For Wellness
DESCRIPTION:Gentle movement and mindfulness practices to support mental and physical well-being.
URL:https://haisla.ca/event/yoga-for-wellness/2026-07-03/
LOCATION:Haisla Health Centre\, 130 Owekeno Avenue\, Haisla\, British Columbia\, Canada
CATEGORIES:Health and Wellness
END:VEVENT
BEGIN:VEVENT
DTSTART;TZID=America/Vancouver:20260703T120000
DTEND;TZID=America/Vancouver:20260703T130000
DTSTAMP:20260421T130421
CREATED:20251027T211054Z
LAST-MODIFIED:20251027T211127Z
UID:10001711-1783080000-1783083600@haisla.ca
SUMMARY:Yoga For Wellness
DESCRIPTION:Gentle movement and mindfulness practices to support mental and physical well-being.
URL:https://haisla.ca/event/yoga-for-wellness-2/2026-07-03/
LOCATION:Haisla Health Centre\, 130 Owekeno Avenue\, Haisla\, British Columbia\, Canada
CATEGORIES:Health and Wellness
END:VEVENT
BEGIN:VEVENT
DTSTART;TZID=America/Vancouver:20260707T083000
DTEND;TZID=America/Vancouver:20260707T085000
DTSTAMP:20260421T130421
CREATED:20251027T210214Z
LAST-MODIFIED:20251027T210256Z
UID:10000145-1783413000-1783414200@haisla.ca
SUMMARY:Meditation
DESCRIPTION:
URL:https://haisla.ca/event/meditation/2026-07-07/
LOCATION:Haisla Health Centre\, 130 Owekeno Avenue\, Haisla\, British Columbia\, Canada
CATEGORIES:Health and Wellness
END:VEVENT
BEGIN:VEVENT
DTSTART;TZID=America/Vancouver:20260707T094500
DTEND;TZID=America/Vancouver:20260707T224000
DTSTAMP:20260421T130421
CREATED:20251027T210626Z
LAST-MODIFIED:20251027T210951Z
UID:10000668-1783417500-1783464000@haisla.ca
SUMMARY:Yoga For Wellness
DESCRIPTION:Gentle movement and mindfulness practices to support mental and physical well-being.
URL:https://haisla.ca/event/yoga-for-wellness/2026-07-07/
LOCATION:Haisla Health Centre\, 130 Owekeno Avenue\, Haisla\, British Columbia\, Canada
CATEGORIES:Health and Wellness
END:VEVENT
BEGIN:VEVENT
DTSTART;TZID=America/Vancouver:20260707T120000
DTEND;TZID=America/Vancouver:20260707T130000
DTSTAMP:20260421T130421
CREATED:20251027T211054Z
LAST-MODIFIED:20251027T211127Z
UID:10001712-1783425600-1783429200@haisla.ca
SUMMARY:Yoga For Wellness
DESCRIPTION:Gentle movement and mindfulness practices to support mental and physical well-being.
URL:https://haisla.ca/event/yoga-for-wellness-2/2026-07-07/
LOCATION:Haisla Health Centre\, 130 Owekeno Avenue\, Haisla\, British Columbia\, Canada
CATEGORIES:Health and Wellness
END:VEVENT
BEGIN:VEVENT
DTSTART;TZID=America/Vancouver:20260707T180000
DTEND;TZID=America/Vancouver:20260707T200000
DTSTAMP:20260421T130421
CREATED:20251027T212049Z
LAST-MODIFIED:20251027T212115Z
UID:10002198-1783447200-1783454400@haisla.ca
SUMMARY:Wellbriety Men's Group
DESCRIPTION:A culturally grounded recovery group rooted in Indigenous teachings and the Medicine Wheel.
URL:https://haisla.ca/event/wellbriety-mens-group/2026-07-07/
LOCATION:Haisla Health Centre\, 130 Owekeno Avenue\, Haisla\, British Columbia\, Canada
CATEGORIES:Health and Wellness
END:VEVENT
BEGIN:VEVENT
DTSTART;TZID=America/Vancouver:20260710T083000
DTEND;TZID=America/Vancouver:20260710T085000
DTSTAMP:20260421T130421
CREATED:20251027T210214Z
LAST-MODIFIED:20251027T210256Z
UID:10000146-1783672200-1783673400@haisla.ca
SUMMARY:Meditation
DESCRIPTION:
URL:https://haisla.ca/event/meditation/2026-07-10/
LOCATION:Haisla Health Centre\, 130 Owekeno Avenue\, Haisla\, British Columbia\, Canada
CATEGORIES:Health and Wellness
END:VEVENT
BEGIN:VEVENT
DTSTART;TZID=America/Vancouver:20260710T094500
DTEND;TZID=America/Vancouver:20260710T224000
DTSTAMP:20260421T130421
CREATED:20251027T210626Z
LAST-MODIFIED:20251027T210951Z
UID:10000669-1783676700-1783723200@haisla.ca
SUMMARY:Yoga For Wellness
DESCRIPTION:Gentle movement and mindfulness practices to support mental and physical well-being.
URL:https://haisla.ca/event/yoga-for-wellness/2026-07-10/
LOCATION:Haisla Health Centre\, 130 Owekeno Avenue\, Haisla\, British Columbia\, Canada
CATEGORIES:Health and Wellness
END:VEVENT
BEGIN:VEVENT
DTSTART;TZID=America/Vancouver:20260710T120000
DTEND;TZID=America/Vancouver:20260710T130000
DTSTAMP:20260421T130421
CREATED:20251027T211054Z
LAST-MODIFIED:20251027T211127Z
UID:10001713-1783684800-1783688400@haisla.ca
SUMMARY:Yoga For Wellness
DESCRIPTION:Gentle movement and mindfulness practices to support mental and physical well-being.
URL:https://haisla.ca/event/yoga-for-wellness-2/2026-07-10/
LOCATION:Haisla Health Centre\, 130 Owekeno Avenue\, Haisla\, British Columbia\, Canada
CATEGORIES:Health and Wellness
END:VEVENT
BEGIN:VEVENT
DTSTART;TZID=America/Vancouver:20260714T083000
DTEND;TZID=America/Vancouver:20260714T085000
DTSTAMP:20260421T130421
CREATED:20251027T210214Z
LAST-MODIFIED:20251027T210256Z
UID:10000147-1784017800-1784019000@haisla.ca
SUMMARY:Meditation
DESCRIPTION:
URL:https://haisla.ca/event/meditation/2026-07-14/
LOCATION:Haisla Health Centre\, 130 Owekeno Avenue\, Haisla\, British Columbia\, Canada
CATEGORIES:Health and Wellness
END:VEVENT
BEGIN:VEVENT
DTSTART;TZID=America/Vancouver:20260714T094500
DTEND;TZID=America/Vancouver:20260714T224000
DTSTAMP:20260421T130421
CREATED:20251027T210626Z
LAST-MODIFIED:20251027T210951Z
UID:10000670-1784022300-1784068800@haisla.ca
SUMMARY:Yoga For Wellness
DESCRIPTION:Gentle movement and mindfulness practices to support mental and physical well-being.
URL:https://haisla.ca/event/yoga-for-wellness/2026-07-14/
LOCATION:Haisla Health Centre\, 130 Owekeno Avenue\, Haisla\, British Columbia\, Canada
CATEGORIES:Health and Wellness
END:VEVENT
BEGIN:VEVENT
DTSTART;TZID=America/Vancouver:20260714T120000
DTEND;TZID=America/Vancouver:20260714T130000
DTSTAMP:20260421T130421
CREATED:20251027T211054Z
LAST-MODIFIED:20251027T211127Z
UID:10001714-1784030400-1784034000@haisla.ca
SUMMARY:Yoga For Wellness
DESCRIPTION:Gentle movement and mindfulness practices to support mental and physical well-being.
URL:https://haisla.ca/event/yoga-for-wellness-2/2026-07-14/
LOCATION:Haisla Health Centre\, 130 Owekeno Avenue\, Haisla\, British Columbia\, Canada
CATEGORIES:Health and Wellness
END:VEVENT
BEGIN:VEVENT
DTSTART;TZID=America/Vancouver:20260714T180000
DTEND;TZID=America/Vancouver:20260714T200000
DTSTAMP:20260421T130421
CREATED:20251027T212049Z
LAST-MODIFIED:20251027T212115Z
UID:10002199-1784052000-1784059200@haisla.ca
SUMMARY:Wellbriety Men's Group
DESCRIPTION:A culturally grounded recovery group rooted in Indigenous teachings and the Medicine Wheel.
URL:https://haisla.ca/event/wellbriety-mens-group/2026-07-14/
LOCATION:Haisla Health Centre\, 130 Owekeno Avenue\, Haisla\, British Columbia\, Canada
CATEGORIES:Health and Wellness
END:VEVENT
BEGIN:VEVENT
DTSTART;TZID=America/Vancouver:20260717T083000
DTEND;TZID=America/Vancouver:20260717T085000
DTSTAMP:20260421T130421
CREATED:20251027T210214Z
LAST-MODIFIED:20251027T210256Z
UID:10000148-1784277000-1784278200@haisla.ca
SUMMARY:Meditation
DESCRIPTION:
URL:https://haisla.ca/event/meditation/2026-07-17/
LOCATION:Haisla Health Centre\, 130 Owekeno Avenue\, Haisla\, British Columbia\, Canada
CATEGORIES:Health and Wellness
END:VEVENT
BEGIN:VEVENT
DTSTART;TZID=America/Vancouver:20260717T094500
DTEND;TZID=America/Vancouver:20260717T224000
DTSTAMP:20260421T130421
CREATED:20251027T210626Z
LAST-MODIFIED:20251027T210951Z
UID:10000671-1784281500-1784328000@haisla.ca
SUMMARY:Yoga For Wellness
DESCRIPTION:Gentle movement and mindfulness practices to support mental and physical well-being.
URL:https://haisla.ca/event/yoga-for-wellness/2026-07-17/
LOCATION:Haisla Health Centre\, 130 Owekeno Avenue\, Haisla\, British Columbia\, Canada
CATEGORIES:Health and Wellness
END:VEVENT
BEGIN:VEVENT
DTSTART;TZID=America/Vancouver:20260717T120000
DTEND;TZID=America/Vancouver:20260717T130000
DTSTAMP:20260421T130421
CREATED:20251027T211054Z
LAST-MODIFIED:20251027T211127Z
UID:10001715-1784289600-1784293200@haisla.ca
SUMMARY:Yoga For Wellness
DESCRIPTION:Gentle movement and mindfulness practices to support mental and physical well-being.
URL:https://haisla.ca/event/yoga-for-wellness-2/2026-07-17/
LOCATION:Haisla Health Centre\, 130 Owekeno Avenue\, Haisla\, British Columbia\, Canada
CATEGORIES:Health and Wellness
END:VEVENT
BEGIN:VEVENT
DTSTART;TZID=America/Vancouver:20260721T083000
DTEND;TZID=America/Vancouver:20260721T085000
DTSTAMP:20260421T130421
CREATED:20251027T210214Z
LAST-MODIFIED:20251027T210256Z
UID:10000149-1784622600-1784623800@haisla.ca
SUMMARY:Meditation
DESCRIPTION:
URL:https://haisla.ca/event/meditation/2026-07-21/
LOCATION:Haisla Health Centre\, 130 Owekeno Avenue\, Haisla\, British Columbia\, Canada
CATEGORIES:Health and Wellness
END:VEVENT
END:VCALENDAR