BEGIN:VCALENDAR
VERSION:2.0
PRODID:-//Haisla Nation - ECPv6.15.20//NONSGML v1.0//EN
CALSCALE:GREGORIAN
METHOD:PUBLISH
X-WR-CALNAME:Haisla Nation
X-ORIGINAL-URL:https://haisla.ca
X-WR-CALDESC:Events for Haisla Nation
REFRESH-INTERVAL;VALUE=DURATION:PT1H
X-Robots-Tag:noindex
X-PUBLISHED-TTL:PT1H
BEGIN:VTIMEZONE
TZID:America/Vancouver
BEGIN:DAYLIGHT
TZOFFSETFROM:-0800
TZOFFSETTO:-0700
TZNAME:PDT
DTSTART:20250309T100000
END:DAYLIGHT
BEGIN:STANDARD
TZOFFSETFROM:-0700
TZOFFSETTO:-0800
TZNAME:PST
DTSTART:20251102T090000
END:STANDARD
BEGIN:DAYLIGHT
TZOFFSETFROM:-0800
TZOFFSETTO:-0700
TZNAME:PDT
DTSTART:20260308T100000
END:DAYLIGHT
BEGIN:STANDARD
TZOFFSETFROM:-0700
TZOFFSETTO:-0800
TZNAME:PST
DTSTART:20261101T090000
END:STANDARD
BEGIN:DAYLIGHT
TZOFFSETFROM:-0800
TZOFFSETTO:-0700
TZNAME:PDT
DTSTART:20270314T100000
END:DAYLIGHT
BEGIN:STANDARD
TZOFFSETFROM:-0700
TZOFFSETTO:-0800
TZNAME:PST
DTSTART:20271107T090000
END:STANDARD
END:VTIMEZONE
BEGIN:VEVENT
DTSTART;TZID=America/Vancouver:20261009T083000
DTEND;TZID=America/Vancouver:20261009T085000
DTSTAMP:20260422T031218
CREATED:20251027T210214Z
LAST-MODIFIED:20251027T210256Z
UID:10000172-1791534600-1791535800@haisla.ca
SUMMARY:Meditation
DESCRIPTION:
URL:https://haisla.ca/event/meditation/2026-10-09/
LOCATION:Haisla Health Centre\, 130 Owekeno Avenue\, Haisla\, British Columbia\, Canada
CATEGORIES:Health and Wellness
END:VEVENT
BEGIN:VEVENT
DTSTART;TZID=America/Vancouver:20261009T094500
DTEND;TZID=America/Vancouver:20261009T224000
DTSTAMP:20260422T031218
CREATED:20251027T210626Z
LAST-MODIFIED:20251027T210951Z
UID:10000695-1791539100-1791585600@haisla.ca
SUMMARY:Yoga For Wellness
DESCRIPTION:Gentle movement and mindfulness practices to support mental and physical well-being.
URL:https://haisla.ca/event/yoga-for-wellness/2026-10-09/
LOCATION:Haisla Health Centre\, 130 Owekeno Avenue\, Haisla\, British Columbia\, Canada
CATEGORIES:Health and Wellness
END:VEVENT
BEGIN:VEVENT
DTSTART;TZID=America/Vancouver:20261009T120000
DTEND;TZID=America/Vancouver:20261009T130000
DTSTAMP:20260422T031218
CREATED:20251027T211054Z
LAST-MODIFIED:20251027T211127Z
UID:10001739-1791547200-1791550800@haisla.ca
SUMMARY:Yoga For Wellness
DESCRIPTION:Gentle movement and mindfulness practices to support mental and physical well-being.
URL:https://haisla.ca/event/yoga-for-wellness-2/2026-10-09/
LOCATION:Haisla Health Centre\, 130 Owekeno Avenue\, Haisla\, British Columbia\, Canada
CATEGORIES:Health and Wellness
END:VEVENT
BEGIN:VEVENT
DTSTART;TZID=America/Vancouver:20261013T083000
DTEND;TZID=America/Vancouver:20261013T085000
DTSTAMP:20260422T031218
CREATED:20251027T210214Z
LAST-MODIFIED:20251027T210256Z
UID:10000173-1791880200-1791881400@haisla.ca
SUMMARY:Meditation
DESCRIPTION:
URL:https://haisla.ca/event/meditation/2026-10-13/
LOCATION:Haisla Health Centre\, 130 Owekeno Avenue\, Haisla\, British Columbia\, Canada
CATEGORIES:Health and Wellness
END:VEVENT
BEGIN:VEVENT
DTSTART;TZID=America/Vancouver:20261013T094500
DTEND;TZID=America/Vancouver:20261013T224000
DTSTAMP:20260422T031218
CREATED:20251027T210626Z
LAST-MODIFIED:20251027T210951Z
UID:10000696-1791884700-1791931200@haisla.ca
SUMMARY:Yoga For Wellness
DESCRIPTION:Gentle movement and mindfulness practices to support mental and physical well-being.
URL:https://haisla.ca/event/yoga-for-wellness/2026-10-13/
LOCATION:Haisla Health Centre\, 130 Owekeno Avenue\, Haisla\, British Columbia\, Canada
CATEGORIES:Health and Wellness
END:VEVENT
BEGIN:VEVENT
DTSTART;TZID=America/Vancouver:20261013T120000
DTEND;TZID=America/Vancouver:20261013T130000
DTSTAMP:20260422T031218
CREATED:20251027T211054Z
LAST-MODIFIED:20251027T211127Z
UID:10001740-1791892800-1791896400@haisla.ca
SUMMARY:Yoga For Wellness
DESCRIPTION:Gentle movement and mindfulness practices to support mental and physical well-being.
URL:https://haisla.ca/event/yoga-for-wellness-2/2026-10-13/
LOCATION:Haisla Health Centre\, 130 Owekeno Avenue\, Haisla\, British Columbia\, Canada
CATEGORIES:Health and Wellness
END:VEVENT
BEGIN:VEVENT
DTSTART;TZID=America/Vancouver:20261013T180000
DTEND;TZID=America/Vancouver:20261013T200000
DTSTAMP:20260422T031218
CREATED:20251027T212049Z
LAST-MODIFIED:20251027T212115Z
UID:10002212-1791914400-1791921600@haisla.ca
SUMMARY:Wellbriety Men's Group
DESCRIPTION:A culturally grounded recovery group rooted in Indigenous teachings and the Medicine Wheel.
URL:https://haisla.ca/event/wellbriety-mens-group/2026-10-13/
LOCATION:Haisla Health Centre\, 130 Owekeno Avenue\, Haisla\, British Columbia\, Canada
CATEGORIES:Health and Wellness
END:VEVENT
BEGIN:VEVENT
DTSTART;TZID=America/Vancouver:20261016T083000
DTEND;TZID=America/Vancouver:20261016T085000
DTSTAMP:20260422T031218
CREATED:20251027T210214Z
LAST-MODIFIED:20251027T210256Z
UID:10000174-1792139400-1792140600@haisla.ca
SUMMARY:Meditation
DESCRIPTION:
URL:https://haisla.ca/event/meditation/2026-10-16/
LOCATION:Haisla Health Centre\, 130 Owekeno Avenue\, Haisla\, British Columbia\, Canada
CATEGORIES:Health and Wellness
END:VEVENT
BEGIN:VEVENT
DTSTART;TZID=America/Vancouver:20261016T094500
DTEND;TZID=America/Vancouver:20261016T224000
DTSTAMP:20260422T031218
CREATED:20251027T210626Z
LAST-MODIFIED:20251027T210951Z
UID:10000697-1792143900-1792190400@haisla.ca
SUMMARY:Yoga For Wellness
DESCRIPTION:Gentle movement and mindfulness practices to support mental and physical well-being.
URL:https://haisla.ca/event/yoga-for-wellness/2026-10-16/
LOCATION:Haisla Health Centre\, 130 Owekeno Avenue\, Haisla\, British Columbia\, Canada
CATEGORIES:Health and Wellness
END:VEVENT
BEGIN:VEVENT
DTSTART;TZID=America/Vancouver:20261016T120000
DTEND;TZID=America/Vancouver:20261016T130000
DTSTAMP:20260422T031218
CREATED:20251027T211054Z
LAST-MODIFIED:20251027T211127Z
UID:10001741-1792152000-1792155600@haisla.ca
SUMMARY:Yoga For Wellness
DESCRIPTION:Gentle movement and mindfulness practices to support mental and physical well-being.
URL:https://haisla.ca/event/yoga-for-wellness-2/2026-10-16/
LOCATION:Haisla Health Centre\, 130 Owekeno Avenue\, Haisla\, British Columbia\, Canada
CATEGORIES:Health and Wellness
END:VEVENT
BEGIN:VEVENT
DTSTART;TZID=America/Vancouver:20261020T083000
DTEND;TZID=America/Vancouver:20261020T085000
DTSTAMP:20260422T031218
CREATED:20251027T210214Z
LAST-MODIFIED:20251027T210256Z
UID:10000175-1792485000-1792486200@haisla.ca
SUMMARY:Meditation
DESCRIPTION:
URL:https://haisla.ca/event/meditation/2026-10-20/
LOCATION:Haisla Health Centre\, 130 Owekeno Avenue\, Haisla\, British Columbia\, Canada
CATEGORIES:Health and Wellness
END:VEVENT
BEGIN:VEVENT
DTSTART;TZID=America/Vancouver:20261020T094500
DTEND;TZID=America/Vancouver:20261020T224000
DTSTAMP:20260422T031218
CREATED:20251027T210626Z
LAST-MODIFIED:20251027T210951Z
UID:10000698-1792489500-1792536000@haisla.ca
SUMMARY:Yoga For Wellness
DESCRIPTION:Gentle movement and mindfulness practices to support mental and physical well-being.
URL:https://haisla.ca/event/yoga-for-wellness/2026-10-20/
LOCATION:Haisla Health Centre\, 130 Owekeno Avenue\, Haisla\, British Columbia\, Canada
CATEGORIES:Health and Wellness
END:VEVENT
BEGIN:VEVENT
DTSTART;TZID=America/Vancouver:20261020T120000
DTEND;TZID=America/Vancouver:20261020T130000
DTSTAMP:20260422T031218
CREATED:20251027T211054Z
LAST-MODIFIED:20251027T211127Z
UID:10001742-1792497600-1792501200@haisla.ca
SUMMARY:Yoga For Wellness
DESCRIPTION:Gentle movement and mindfulness practices to support mental and physical well-being.
URL:https://haisla.ca/event/yoga-for-wellness-2/2026-10-20/
LOCATION:Haisla Health Centre\, 130 Owekeno Avenue\, Haisla\, British Columbia\, Canada
CATEGORIES:Health and Wellness
END:VEVENT
BEGIN:VEVENT
DTSTART;TZID=America/Vancouver:20261020T180000
DTEND;TZID=America/Vancouver:20261020T200000
DTSTAMP:20260422T031218
CREATED:20251027T212049Z
LAST-MODIFIED:20251027T212115Z
UID:10002213-1792519200-1792526400@haisla.ca
SUMMARY:Wellbriety Men's Group
DESCRIPTION:A culturally grounded recovery group rooted in Indigenous teachings and the Medicine Wheel.
URL:https://haisla.ca/event/wellbriety-mens-group/2026-10-20/
LOCATION:Haisla Health Centre\, 130 Owekeno Avenue\, Haisla\, British Columbia\, Canada
CATEGORIES:Health and Wellness
END:VEVENT
BEGIN:VEVENT
DTSTART;TZID=America/Vancouver:20261023T083000
DTEND;TZID=America/Vancouver:20261023T085000
DTSTAMP:20260422T031218
CREATED:20251027T210214Z
LAST-MODIFIED:20251027T210256Z
UID:10000176-1792744200-1792745400@haisla.ca
SUMMARY:Meditation
DESCRIPTION:
URL:https://haisla.ca/event/meditation/2026-10-23/
LOCATION:Haisla Health Centre\, 130 Owekeno Avenue\, Haisla\, British Columbia\, Canada
CATEGORIES:Health and Wellness
END:VEVENT
BEGIN:VEVENT
DTSTART;TZID=America/Vancouver:20261023T094500
DTEND;TZID=America/Vancouver:20261023T224000
DTSTAMP:20260422T031218
CREATED:20251027T210626Z
LAST-MODIFIED:20251027T210951Z
UID:10000699-1792748700-1792795200@haisla.ca
SUMMARY:Yoga For Wellness
DESCRIPTION:Gentle movement and mindfulness practices to support mental and physical well-being.
URL:https://haisla.ca/event/yoga-for-wellness/2026-10-23/
LOCATION:Haisla Health Centre\, 130 Owekeno Avenue\, Haisla\, British Columbia\, Canada
CATEGORIES:Health and Wellness
END:VEVENT
BEGIN:VEVENT
DTSTART;TZID=America/Vancouver:20261023T120000
DTEND;TZID=America/Vancouver:20261023T130000
DTSTAMP:20260422T031218
CREATED:20251027T211054Z
LAST-MODIFIED:20251027T211127Z
UID:10001743-1792756800-1792760400@haisla.ca
SUMMARY:Yoga For Wellness
DESCRIPTION:Gentle movement and mindfulness practices to support mental and physical well-being.
URL:https://haisla.ca/event/yoga-for-wellness-2/2026-10-23/
LOCATION:Haisla Health Centre\, 130 Owekeno Avenue\, Haisla\, British Columbia\, Canada
CATEGORIES:Health and Wellness
END:VEVENT
BEGIN:VEVENT
DTSTART;TZID=America/Vancouver:20261027T083000
DTEND;TZID=America/Vancouver:20261027T085000
DTSTAMP:20260422T031218
CREATED:20251027T210214Z
LAST-MODIFIED:20251027T210256Z
UID:10000177-1793089800-1793091000@haisla.ca
SUMMARY:Meditation
DESCRIPTION:
URL:https://haisla.ca/event/meditation/2026-10-27/
LOCATION:Haisla Health Centre\, 130 Owekeno Avenue\, Haisla\, British Columbia\, Canada
CATEGORIES:Health and Wellness
END:VEVENT
BEGIN:VEVENT
DTSTART;TZID=America/Vancouver:20261027T094500
DTEND;TZID=America/Vancouver:20261027T224000
DTSTAMP:20260422T031218
CREATED:20251027T210626Z
LAST-MODIFIED:20251027T210951Z
UID:10000700-1793094300-1793140800@haisla.ca
SUMMARY:Yoga For Wellness
DESCRIPTION:Gentle movement and mindfulness practices to support mental and physical well-being.
URL:https://haisla.ca/event/yoga-for-wellness/2026-10-27/
LOCATION:Haisla Health Centre\, 130 Owekeno Avenue\, Haisla\, British Columbia\, Canada
CATEGORIES:Health and Wellness
END:VEVENT
BEGIN:VEVENT
DTSTART;TZID=America/Vancouver:20261027T120000
DTEND;TZID=America/Vancouver:20261027T130000
DTSTAMP:20260422T031218
CREATED:20251027T211054Z
LAST-MODIFIED:20251027T211127Z
UID:10001744-1793102400-1793106000@haisla.ca
SUMMARY:Yoga For Wellness
DESCRIPTION:Gentle movement and mindfulness practices to support mental and physical well-being.
URL:https://haisla.ca/event/yoga-for-wellness-2/2026-10-27/
LOCATION:Haisla Health Centre\, 130 Owekeno Avenue\, Haisla\, British Columbia\, Canada
CATEGORIES:Health and Wellness
END:VEVENT
BEGIN:VEVENT
DTSTART;TZID=America/Vancouver:20261027T180000
DTEND;TZID=America/Vancouver:20261027T200000
DTSTAMP:20260422T031218
CREATED:20251027T212049Z
LAST-MODIFIED:20251027T212115Z
UID:10002214-1793124000-1793131200@haisla.ca
SUMMARY:Wellbriety Men's Group
DESCRIPTION:A culturally grounded recovery group rooted in Indigenous teachings and the Medicine Wheel.
URL:https://haisla.ca/event/wellbriety-mens-group/2026-10-27/
LOCATION:Haisla Health Centre\, 130 Owekeno Avenue\, Haisla\, British Columbia\, Canada
CATEGORIES:Health and Wellness
END:VEVENT
BEGIN:VEVENT
DTSTART;TZID=America/Vancouver:20261030T083000
DTEND;TZID=America/Vancouver:20261030T085000
DTSTAMP:20260422T031218
CREATED:20251027T210214Z
LAST-MODIFIED:20251027T210256Z
UID:10000178-1793349000-1793350200@haisla.ca
SUMMARY:Meditation
DESCRIPTION:
URL:https://haisla.ca/event/meditation/2026-10-30/
LOCATION:Haisla Health Centre\, 130 Owekeno Avenue\, Haisla\, British Columbia\, Canada
CATEGORIES:Health and Wellness
END:VEVENT
BEGIN:VEVENT
DTSTART;TZID=America/Vancouver:20261030T094500
DTEND;TZID=America/Vancouver:20261030T224000
DTSTAMP:20260422T031218
CREATED:20251027T210626Z
LAST-MODIFIED:20251027T210951Z
UID:10000701-1793353500-1793400000@haisla.ca
SUMMARY:Yoga For Wellness
DESCRIPTION:Gentle movement and mindfulness practices to support mental and physical well-being.
URL:https://haisla.ca/event/yoga-for-wellness/2026-10-30/
LOCATION:Haisla Health Centre\, 130 Owekeno Avenue\, Haisla\, British Columbia\, Canada
CATEGORIES:Health and Wellness
END:VEVENT
BEGIN:VEVENT
DTSTART;TZID=America/Vancouver:20261030T120000
DTEND;TZID=America/Vancouver:20261030T130000
DTSTAMP:20260422T031218
CREATED:20251027T211054Z
LAST-MODIFIED:20251027T211127Z
UID:10001745-1793361600-1793365200@haisla.ca
SUMMARY:Yoga For Wellness
DESCRIPTION:Gentle movement and mindfulness practices to support mental and physical well-being.
URL:https://haisla.ca/event/yoga-for-wellness-2/2026-10-30/
LOCATION:Haisla Health Centre\, 130 Owekeno Avenue\, Haisla\, British Columbia\, Canada
CATEGORIES:Health and Wellness
END:VEVENT
BEGIN:VEVENT
DTSTART;TZID=America/Vancouver:20261103T083000
DTEND;TZID=America/Vancouver:20261103T085000
DTSTAMP:20260422T031218
CREATED:20251027T210214Z
LAST-MODIFIED:20251027T210256Z
UID:10000179-1793694600-1793695800@haisla.ca
SUMMARY:Meditation
DESCRIPTION:
URL:https://haisla.ca/event/meditation/2026-11-03/
LOCATION:Haisla Health Centre\, 130 Owekeno Avenue\, Haisla\, British Columbia\, Canada
CATEGORIES:Health and Wellness
END:VEVENT
BEGIN:VEVENT
DTSTART;TZID=America/Vancouver:20261103T094500
DTEND;TZID=America/Vancouver:20261103T224000
DTSTAMP:20260422T031218
CREATED:20251027T210626Z
LAST-MODIFIED:20251027T210951Z
UID:10000702-1793699100-1793745600@haisla.ca
SUMMARY:Yoga For Wellness
DESCRIPTION:Gentle movement and mindfulness practices to support mental and physical well-being.
URL:https://haisla.ca/event/yoga-for-wellness/2026-11-03/
LOCATION:Haisla Health Centre\, 130 Owekeno Avenue\, Haisla\, British Columbia\, Canada
CATEGORIES:Health and Wellness
END:VEVENT
BEGIN:VEVENT
DTSTART;TZID=America/Vancouver:20261103T120000
DTEND;TZID=America/Vancouver:20261103T130000
DTSTAMP:20260422T031218
CREATED:20251027T211054Z
LAST-MODIFIED:20251027T211127Z
UID:10001746-1793707200-1793710800@haisla.ca
SUMMARY:Yoga For Wellness
DESCRIPTION:Gentle movement and mindfulness practices to support mental and physical well-being.
URL:https://haisla.ca/event/yoga-for-wellness-2/2026-11-03/
LOCATION:Haisla Health Centre\, 130 Owekeno Avenue\, Haisla\, British Columbia\, Canada
CATEGORIES:Health and Wellness
END:VEVENT
BEGIN:VEVENT
DTSTART;TZID=America/Vancouver:20261103T180000
DTEND;TZID=America/Vancouver:20261103T200000
DTSTAMP:20260422T031218
CREATED:20251027T212049Z
LAST-MODIFIED:20251027T212115Z
UID:10002215-1793728800-1793736000@haisla.ca
SUMMARY:Wellbriety Men's Group
DESCRIPTION:A culturally grounded recovery group rooted in Indigenous teachings and the Medicine Wheel.
URL:https://haisla.ca/event/wellbriety-mens-group/2026-11-03/
LOCATION:Haisla Health Centre\, 130 Owekeno Avenue\, Haisla\, British Columbia\, Canada
CATEGORIES:Health and Wellness
END:VEVENT
BEGIN:VEVENT
DTSTART;TZID=America/Vancouver:20261106T083000
DTEND;TZID=America/Vancouver:20261106T085000
DTSTAMP:20260422T031218
CREATED:20251027T210214Z
LAST-MODIFIED:20251027T210256Z
UID:10000180-1793953800-1793955000@haisla.ca
SUMMARY:Meditation
DESCRIPTION:
URL:https://haisla.ca/event/meditation/2026-11-06/
LOCATION:Haisla Health Centre\, 130 Owekeno Avenue\, Haisla\, British Columbia\, Canada
CATEGORIES:Health and Wellness
END:VEVENT
BEGIN:VEVENT
DTSTART;TZID=America/Vancouver:20261106T094500
DTEND;TZID=America/Vancouver:20261106T224000
DTSTAMP:20260422T031218
CREATED:20251027T210626Z
LAST-MODIFIED:20251027T210951Z
UID:10000703-1793958300-1794004800@haisla.ca
SUMMARY:Yoga For Wellness
DESCRIPTION:Gentle movement and mindfulness practices to support mental and physical well-being.
URL:https://haisla.ca/event/yoga-for-wellness/2026-11-06/
LOCATION:Haisla Health Centre\, 130 Owekeno Avenue\, Haisla\, British Columbia\, Canada
CATEGORIES:Health and Wellness
END:VEVENT
END:VCALENDAR