BEGIN:VCALENDAR
VERSION:2.0
PRODID:-//Haisla Nation - ECPv6.15.20//NONSGML v1.0//EN
CALSCALE:GREGORIAN
METHOD:PUBLISH
X-WR-CALNAME:Haisla Nation
X-ORIGINAL-URL:https://haisla.ca
X-WR-CALDESC:Events for Haisla Nation
REFRESH-INTERVAL;VALUE=DURATION:PT1H
X-Robots-Tag:noindex
X-PUBLISHED-TTL:PT1H
BEGIN:VTIMEZONE
TZID:America/Vancouver
BEGIN:DAYLIGHT
TZOFFSETFROM:-0800
TZOFFSETTO:-0700
TZNAME:PDT
DTSTART:20260308T100000
END:DAYLIGHT
BEGIN:STANDARD
TZOFFSETFROM:-0700
TZOFFSETTO:-0800
TZNAME:PST
DTSTART:20261101T090000
END:STANDARD
BEGIN:DAYLIGHT
TZOFFSETFROM:-0800
TZOFFSETTO:-0700
TZNAME:PDT
DTSTART:20270314T100000
END:DAYLIGHT
BEGIN:STANDARD
TZOFFSETFROM:-0700
TZOFFSETTO:-0800
TZNAME:PST
DTSTART:20271107T090000
END:STANDARD
BEGIN:DAYLIGHT
TZOFFSETFROM:-0800
TZOFFSETTO:-0700
TZNAME:PDT
DTSTART:20280312T100000
END:DAYLIGHT
BEGIN:STANDARD
TZOFFSETFROM:-0700
TZOFFSETTO:-0800
TZNAME:PST
DTSTART:20281105T090000
END:STANDARD
BEGIN:DAYLIGHT
TZOFFSETFROM:-0800
TZOFFSETTO:-0700
TZNAME:PDT
DTSTART:20290311T100000
END:DAYLIGHT
BEGIN:STANDARD
TZOFFSETFROM:-0700
TZOFFSETTO:-0800
TZNAME:PST
DTSTART:20291104T090000
END:STANDARD
END:VTIMEZONE
BEGIN:VEVENT
DTSTART;TZID=America/Vancouver:20271207T180000
DTEND;TZID=America/Vancouver:20271207T200000
DTSTAMP:20260422T154914
CREATED:20251027T212049Z
LAST-MODIFIED:20251027T212115Z
UID:10002272-1828202400-1828209600@haisla.ca
SUMMARY:Wellbriety Men's Group
DESCRIPTION:A culturally grounded recovery group rooted in Indigenous teachings and the Medicine Wheel.
URL:https://haisla.ca/event/wellbriety-mens-group/2027-12-07/
LOCATION:Haisla Health Centre\, 130 Owekeno Avenue\, Haisla\, British Columbia\, Canada
CATEGORIES:Health and Wellness
END:VEVENT
BEGIN:VEVENT
DTSTART;TZID=America/Vancouver:20271214T180000
DTEND;TZID=America/Vancouver:20271214T200000
DTSTAMP:20260422T154914
CREATED:20251027T212049Z
LAST-MODIFIED:20251027T212115Z
UID:10002273-1828807200-1828814400@haisla.ca
SUMMARY:Wellbriety Men's Group
DESCRIPTION:A culturally grounded recovery group rooted in Indigenous teachings and the Medicine Wheel.
URL:https://haisla.ca/event/wellbriety-mens-group/2027-12-14/
LOCATION:Haisla Health Centre\, 130 Owekeno Avenue\, Haisla\, British Columbia\, Canada
CATEGORIES:Health and Wellness
END:VEVENT
BEGIN:VEVENT
DTSTART;TZID=America/Vancouver:20271221T180000
DTEND;TZID=America/Vancouver:20271221T200000
DTSTAMP:20260422T154914
CREATED:20251027T212049Z
LAST-MODIFIED:20251027T212115Z
UID:10002274-1829412000-1829419200@haisla.ca
SUMMARY:Wellbriety Men's Group
DESCRIPTION:A culturally grounded recovery group rooted in Indigenous teachings and the Medicine Wheel.
URL:https://haisla.ca/event/wellbriety-mens-group/2027-12-21/
LOCATION:Haisla Health Centre\, 130 Owekeno Avenue\, Haisla\, British Columbia\, Canada
CATEGORIES:Health and Wellness
END:VEVENT
BEGIN:VEVENT
DTSTART;TZID=America/Vancouver:20271228T180000
DTEND;TZID=America/Vancouver:20271228T200000
DTSTAMP:20260422T154914
CREATED:20251027T212049Z
LAST-MODIFIED:20251027T212115Z
UID:10002275-1830016800-1830024000@haisla.ca
SUMMARY:Wellbriety Men's Group
DESCRIPTION:A culturally grounded recovery group rooted in Indigenous teachings and the Medicine Wheel.
URL:https://haisla.ca/event/wellbriety-mens-group/2027-12-28/
LOCATION:Haisla Health Centre\, 130 Owekeno Avenue\, Haisla\, British Columbia\, Canada
CATEGORIES:Health and Wellness
END:VEVENT
BEGIN:VEVENT
DTSTART;TZID=America/Vancouver:20280104T180000
DTEND;TZID=America/Vancouver:20280104T200000
DTSTAMP:20260422T154914
CREATED:20251027T212049Z
LAST-MODIFIED:20251027T212115Z
UID:10002276-1830621600-1830628800@haisla.ca
SUMMARY:Wellbriety Men's Group
DESCRIPTION:A culturally grounded recovery group rooted in Indigenous teachings and the Medicine Wheel.
URL:https://haisla.ca/event/wellbriety-mens-group/2028-01-04/
LOCATION:Haisla Health Centre\, 130 Owekeno Avenue\, Haisla\, British Columbia\, Canada
CATEGORIES:Health and Wellness
END:VEVENT
BEGIN:VEVENT
DTSTART;TZID=America/Vancouver:20280111T180000
DTEND;TZID=America/Vancouver:20280111T200000
DTSTAMP:20260422T154914
CREATED:20251027T212049Z
LAST-MODIFIED:20251027T212115Z
UID:10002277-1831226400-1831233600@haisla.ca
SUMMARY:Wellbriety Men's Group
DESCRIPTION:A culturally grounded recovery group rooted in Indigenous teachings and the Medicine Wheel.
URL:https://haisla.ca/event/wellbriety-mens-group/2028-01-11/
LOCATION:Haisla Health Centre\, 130 Owekeno Avenue\, Haisla\, British Columbia\, Canada
CATEGORIES:Health and Wellness
END:VEVENT
BEGIN:VEVENT
DTSTART;TZID=America/Vancouver:20280118T180000
DTEND;TZID=America/Vancouver:20280118T200000
DTSTAMP:20260422T154914
CREATED:20251027T212049Z
LAST-MODIFIED:20251027T212115Z
UID:10002278-1831831200-1831838400@haisla.ca
SUMMARY:Wellbriety Men's Group
DESCRIPTION:A culturally grounded recovery group rooted in Indigenous teachings and the Medicine Wheel.
URL:https://haisla.ca/event/wellbriety-mens-group/2028-01-18/
LOCATION:Haisla Health Centre\, 130 Owekeno Avenue\, Haisla\, British Columbia\, Canada
CATEGORIES:Health and Wellness
END:VEVENT
BEGIN:VEVENT
DTSTART;TZID=America/Vancouver:20280125T180000
DTEND;TZID=America/Vancouver:20280125T200000
DTSTAMP:20260422T154914
CREATED:20251027T212049Z
LAST-MODIFIED:20251027T212115Z
UID:10002279-1832436000-1832443200@haisla.ca
SUMMARY:Wellbriety Men's Group
DESCRIPTION:A culturally grounded recovery group rooted in Indigenous teachings and the Medicine Wheel.
URL:https://haisla.ca/event/wellbriety-mens-group/2028-01-25/
LOCATION:Haisla Health Centre\, 130 Owekeno Avenue\, Haisla\, British Columbia\, Canada
CATEGORIES:Health and Wellness
END:VEVENT
BEGIN:VEVENT
DTSTART;TZID=America/Vancouver:20280201T180000
DTEND;TZID=America/Vancouver:20280201T200000
DTSTAMP:20260422T154914
CREATED:20251027T212049Z
LAST-MODIFIED:20251027T212115Z
UID:10002280-1833040800-1833048000@haisla.ca
SUMMARY:Wellbriety Men's Group
DESCRIPTION:A culturally grounded recovery group rooted in Indigenous teachings and the Medicine Wheel.
URL:https://haisla.ca/event/wellbriety-mens-group/2028-02-01/
LOCATION:Haisla Health Centre\, 130 Owekeno Avenue\, Haisla\, British Columbia\, Canada
CATEGORIES:Health and Wellness
END:VEVENT
BEGIN:VEVENT
DTSTART;TZID=America/Vancouver:20280208T180000
DTEND;TZID=America/Vancouver:20280208T200000
DTSTAMP:20260422T154914
CREATED:20251027T212049Z
LAST-MODIFIED:20251027T212115Z
UID:10002281-1833645600-1833652800@haisla.ca
SUMMARY:Wellbriety Men's Group
DESCRIPTION:A culturally grounded recovery group rooted in Indigenous teachings and the Medicine Wheel.
URL:https://haisla.ca/event/wellbriety-mens-group/2028-02-08/
LOCATION:Haisla Health Centre\, 130 Owekeno Avenue\, Haisla\, British Columbia\, Canada
CATEGORIES:Health and Wellness
END:VEVENT
BEGIN:VEVENT
DTSTART;TZID=America/Vancouver:20280215T180000
DTEND;TZID=America/Vancouver:20280215T200000
DTSTAMP:20260422T154914
CREATED:20251027T212049Z
LAST-MODIFIED:20251027T212115Z
UID:10002282-1834250400-1834257600@haisla.ca
SUMMARY:Wellbriety Men's Group
DESCRIPTION:A culturally grounded recovery group rooted in Indigenous teachings and the Medicine Wheel.
URL:https://haisla.ca/event/wellbriety-mens-group/2028-02-15/
LOCATION:Haisla Health Centre\, 130 Owekeno Avenue\, Haisla\, British Columbia\, Canada
CATEGORIES:Health and Wellness
END:VEVENT
BEGIN:VEVENT
DTSTART;TZID=America/Vancouver:20280222T180000
DTEND;TZID=America/Vancouver:20280222T200000
DTSTAMP:20260422T154914
CREATED:20251027T212049Z
LAST-MODIFIED:20251027T212115Z
UID:10002283-1834855200-1834862400@haisla.ca
SUMMARY:Wellbriety Men's Group
DESCRIPTION:A culturally grounded recovery group rooted in Indigenous teachings and the Medicine Wheel.
URL:https://haisla.ca/event/wellbriety-mens-group/2028-02-22/
LOCATION:Haisla Health Centre\, 130 Owekeno Avenue\, Haisla\, British Columbia\, Canada
CATEGORIES:Health and Wellness
END:VEVENT
BEGIN:VEVENT
DTSTART;TZID=America/Vancouver:20280229T180000
DTEND;TZID=America/Vancouver:20280229T200000
DTSTAMP:20260422T154914
CREATED:20251027T212049Z
LAST-MODIFIED:20251027T212115Z
UID:10002284-1835460000-1835467200@haisla.ca
SUMMARY:Wellbriety Men's Group
DESCRIPTION:A culturally grounded recovery group rooted in Indigenous teachings and the Medicine Wheel.
URL:https://haisla.ca/event/wellbriety-mens-group/2028-02-29/
LOCATION:Haisla Health Centre\, 130 Owekeno Avenue\, Haisla\, British Columbia\, Canada
CATEGORIES:Health and Wellness
END:VEVENT
BEGIN:VEVENT
DTSTART;TZID=America/Vancouver:20280307T180000
DTEND;TZID=America/Vancouver:20280307T200000
DTSTAMP:20260422T154914
CREATED:20251027T212049Z
LAST-MODIFIED:20251027T212115Z
UID:10002285-1836064800-1836072000@haisla.ca
SUMMARY:Wellbriety Men's Group
DESCRIPTION:A culturally grounded recovery group rooted in Indigenous teachings and the Medicine Wheel.
URL:https://haisla.ca/event/wellbriety-mens-group/2028-03-07/
LOCATION:Haisla Health Centre\, 130 Owekeno Avenue\, Haisla\, British Columbia\, Canada
CATEGORIES:Health and Wellness
END:VEVENT
BEGIN:VEVENT
DTSTART;TZID=America/Vancouver:20280314T180000
DTEND;TZID=America/Vancouver:20280314T200000
DTSTAMP:20260422T154914
CREATED:20251027T212049Z
LAST-MODIFIED:20251027T212115Z
UID:10002286-1836669600-1836676800@haisla.ca
SUMMARY:Wellbriety Men's Group
DESCRIPTION:A culturally grounded recovery group rooted in Indigenous teachings and the Medicine Wheel.
URL:https://haisla.ca/event/wellbriety-mens-group/2028-03-14/
LOCATION:Haisla Health Centre\, 130 Owekeno Avenue\, Haisla\, British Columbia\, Canada
CATEGORIES:Health and Wellness
END:VEVENT
BEGIN:VEVENT
DTSTART;TZID=America/Vancouver:20280321T180000
DTEND;TZID=America/Vancouver:20280321T200000
DTSTAMP:20260422T154914
CREATED:20251027T212049Z
LAST-MODIFIED:20251027T212115Z
UID:10002287-1837274400-1837281600@haisla.ca
SUMMARY:Wellbriety Men's Group
DESCRIPTION:A culturally grounded recovery group rooted in Indigenous teachings and the Medicine Wheel.
URL:https://haisla.ca/event/wellbriety-mens-group/2028-03-21/
LOCATION:Haisla Health Centre\, 130 Owekeno Avenue\, Haisla\, British Columbia\, Canada
CATEGORIES:Health and Wellness
END:VEVENT
BEGIN:VEVENT
DTSTART;TZID=America/Vancouver:20280328T180000
DTEND;TZID=America/Vancouver:20280328T200000
DTSTAMP:20260422T154914
CREATED:20251027T212049Z
LAST-MODIFIED:20251027T212115Z
UID:10002288-1837879200-1837886400@haisla.ca
SUMMARY:Wellbriety Men's Group
DESCRIPTION:A culturally grounded recovery group rooted in Indigenous teachings and the Medicine Wheel.
URL:https://haisla.ca/event/wellbriety-mens-group/2028-03-28/
LOCATION:Haisla Health Centre\, 130 Owekeno Avenue\, Haisla\, British Columbia\, Canada
CATEGORIES:Health and Wellness
END:VEVENT
BEGIN:VEVENT
DTSTART;TZID=America/Vancouver:20280404T180000
DTEND;TZID=America/Vancouver:20280404T200000
DTSTAMP:20260422T154914
CREATED:20251027T212049Z
LAST-MODIFIED:20251027T212115Z
UID:10002289-1838484000-1838491200@haisla.ca
SUMMARY:Wellbriety Men's Group
DESCRIPTION:A culturally grounded recovery group rooted in Indigenous teachings and the Medicine Wheel.
URL:https://haisla.ca/event/wellbriety-mens-group/2028-04-04/
LOCATION:Haisla Health Centre\, 130 Owekeno Avenue\, Haisla\, British Columbia\, Canada
CATEGORIES:Health and Wellness
END:VEVENT
BEGIN:VEVENT
DTSTART;TZID=America/Vancouver:20280411T180000
DTEND;TZID=America/Vancouver:20280411T200000
DTSTAMP:20260422T154914
CREATED:20251027T212049Z
LAST-MODIFIED:20251027T212115Z
UID:10002290-1839088800-1839096000@haisla.ca
SUMMARY:Wellbriety Men's Group
DESCRIPTION:A culturally grounded recovery group rooted in Indigenous teachings and the Medicine Wheel.
URL:https://haisla.ca/event/wellbriety-mens-group/2028-04-11/
LOCATION:Haisla Health Centre\, 130 Owekeno Avenue\, Haisla\, British Columbia\, Canada
CATEGORIES:Health and Wellness
END:VEVENT
BEGIN:VEVENT
DTSTART;TZID=America/Vancouver:20280418T180000
DTEND;TZID=America/Vancouver:20280418T200000
DTSTAMP:20260422T154914
CREATED:20251027T212049Z
LAST-MODIFIED:20251027T212115Z
UID:10002291-1839693600-1839700800@haisla.ca
SUMMARY:Wellbriety Men's Group
DESCRIPTION:A culturally grounded recovery group rooted in Indigenous teachings and the Medicine Wheel.
URL:https://haisla.ca/event/wellbriety-mens-group/2028-04-18/
LOCATION:Haisla Health Centre\, 130 Owekeno Avenue\, Haisla\, British Columbia\, Canada
CATEGORIES:Health and Wellness
END:VEVENT
BEGIN:VEVENT
DTSTART;TZID=America/Vancouver:20280425T180000
DTEND;TZID=America/Vancouver:20280425T200000
DTSTAMP:20260422T154914
CREATED:20251027T212049Z
LAST-MODIFIED:20251027T212115Z
UID:10002292-1840298400-1840305600@haisla.ca
SUMMARY:Wellbriety Men's Group
DESCRIPTION:A culturally grounded recovery group rooted in Indigenous teachings and the Medicine Wheel.
URL:https://haisla.ca/event/wellbriety-mens-group/2028-04-25/
LOCATION:Haisla Health Centre\, 130 Owekeno Avenue\, Haisla\, British Columbia\, Canada
CATEGORIES:Health and Wellness
END:VEVENT
BEGIN:VEVENT
DTSTART;TZID=America/Vancouver:20280502T180000
DTEND;TZID=America/Vancouver:20280502T200000
DTSTAMP:20260422T154914
CREATED:20251027T212049Z
LAST-MODIFIED:20251027T212115Z
UID:10002293-1840903200-1840910400@haisla.ca
SUMMARY:Wellbriety Men's Group
DESCRIPTION:A culturally grounded recovery group rooted in Indigenous teachings and the Medicine Wheel.
URL:https://haisla.ca/event/wellbriety-mens-group/2028-05-02/
LOCATION:Haisla Health Centre\, 130 Owekeno Avenue\, Haisla\, British Columbia\, Canada
CATEGORIES:Health and Wellness
END:VEVENT
BEGIN:VEVENT
DTSTART;TZID=America/Vancouver:20280509T180000
DTEND;TZID=America/Vancouver:20280509T200000
DTSTAMP:20260422T154914
CREATED:20251027T212049Z
LAST-MODIFIED:20251027T212115Z
UID:10002294-1841508000-1841515200@haisla.ca
SUMMARY:Wellbriety Men's Group
DESCRIPTION:A culturally grounded recovery group rooted in Indigenous teachings and the Medicine Wheel.
URL:https://haisla.ca/event/wellbriety-mens-group/2028-05-09/
LOCATION:Haisla Health Centre\, 130 Owekeno Avenue\, Haisla\, British Columbia\, Canada
CATEGORIES:Health and Wellness
END:VEVENT
BEGIN:VEVENT
DTSTART;TZID=America/Vancouver:20280516T180000
DTEND;TZID=America/Vancouver:20280516T200000
DTSTAMP:20260422T154914
CREATED:20251027T212049Z
LAST-MODIFIED:20251027T212115Z
UID:10002295-1842112800-1842120000@haisla.ca
SUMMARY:Wellbriety Men's Group
DESCRIPTION:A culturally grounded recovery group rooted in Indigenous teachings and the Medicine Wheel.
URL:https://haisla.ca/event/wellbriety-mens-group/2028-05-16/
LOCATION:Haisla Health Centre\, 130 Owekeno Avenue\, Haisla\, British Columbia\, Canada
CATEGORIES:Health and Wellness
END:VEVENT
BEGIN:VEVENT
DTSTART;TZID=America/Vancouver:20280523T180000
DTEND;TZID=America/Vancouver:20280523T200000
DTSTAMP:20260422T154914
CREATED:20251027T212049Z
LAST-MODIFIED:20251027T212115Z
UID:10002296-1842717600-1842724800@haisla.ca
SUMMARY:Wellbriety Men's Group
DESCRIPTION:A culturally grounded recovery group rooted in Indigenous teachings and the Medicine Wheel.
URL:https://haisla.ca/event/wellbriety-mens-group/2028-05-23/
LOCATION:Haisla Health Centre\, 130 Owekeno Avenue\, Haisla\, British Columbia\, Canada
CATEGORIES:Health and Wellness
END:VEVENT
BEGIN:VEVENT
DTSTART;TZID=America/Vancouver:20280530T180000
DTEND;TZID=America/Vancouver:20280530T200000
DTSTAMP:20260422T154914
CREATED:20251027T212049Z
LAST-MODIFIED:20251027T212115Z
UID:10002297-1843322400-1843329600@haisla.ca
SUMMARY:Wellbriety Men's Group
DESCRIPTION:A culturally grounded recovery group rooted in Indigenous teachings and the Medicine Wheel.
URL:https://haisla.ca/event/wellbriety-mens-group/2028-05-30/
LOCATION:Haisla Health Centre\, 130 Owekeno Avenue\, Haisla\, British Columbia\, Canada
CATEGORIES:Health and Wellness
END:VEVENT
BEGIN:VEVENT
DTSTART;TZID=America/Vancouver:20280606T180000
DTEND;TZID=America/Vancouver:20280606T200000
DTSTAMP:20260422T154914
CREATED:20251027T212049Z
LAST-MODIFIED:20251027T212115Z
UID:10002298-1843927200-1843934400@haisla.ca
SUMMARY:Wellbriety Men's Group
DESCRIPTION:A culturally grounded recovery group rooted in Indigenous teachings and the Medicine Wheel.
URL:https://haisla.ca/event/wellbriety-mens-group/2028-06-06/
LOCATION:Haisla Health Centre\, 130 Owekeno Avenue\, Haisla\, British Columbia\, Canada
CATEGORIES:Health and Wellness
END:VEVENT
BEGIN:VEVENT
DTSTART;TZID=America/Vancouver:20280613T180000
DTEND;TZID=America/Vancouver:20280613T200000
DTSTAMP:20260422T154914
CREATED:20251027T212049Z
LAST-MODIFIED:20251027T212115Z
UID:10002299-1844532000-1844539200@haisla.ca
SUMMARY:Wellbriety Men's Group
DESCRIPTION:A culturally grounded recovery group rooted in Indigenous teachings and the Medicine Wheel.
URL:https://haisla.ca/event/wellbriety-mens-group/2028-06-13/
LOCATION:Haisla Health Centre\, 130 Owekeno Avenue\, Haisla\, British Columbia\, Canada
CATEGORIES:Health and Wellness
END:VEVENT
BEGIN:VEVENT
DTSTART;TZID=America/Vancouver:20280620T180000
DTEND;TZID=America/Vancouver:20280620T200000
DTSTAMP:20260422T154914
CREATED:20251027T212049Z
LAST-MODIFIED:20251027T212115Z
UID:10002300-1845136800-1845144000@haisla.ca
SUMMARY:Wellbriety Men's Group
DESCRIPTION:A culturally grounded recovery group rooted in Indigenous teachings and the Medicine Wheel.
URL:https://haisla.ca/event/wellbriety-mens-group/2028-06-20/
LOCATION:Haisla Health Centre\, 130 Owekeno Avenue\, Haisla\, British Columbia\, Canada
CATEGORIES:Health and Wellness
END:VEVENT
BEGIN:VEVENT
DTSTART;TZID=America/Vancouver:20280627T180000
DTEND;TZID=America/Vancouver:20280627T200000
DTSTAMP:20260422T154914
CREATED:20251027T212049Z
LAST-MODIFIED:20251027T212115Z
UID:10002301-1845741600-1845748800@haisla.ca
SUMMARY:Wellbriety Men's Group
DESCRIPTION:A culturally grounded recovery group rooted in Indigenous teachings and the Medicine Wheel.
URL:https://haisla.ca/event/wellbriety-mens-group/2028-06-27/
LOCATION:Haisla Health Centre\, 130 Owekeno Avenue\, Haisla\, British Columbia\, Canada
CATEGORIES:Health and Wellness
END:VEVENT
END:VCALENDAR