BEGIN:VCALENDAR
VERSION:2.0
PRODID:-//Haisla Nation - ECPv6.15.20//NONSGML v1.0//EN
CALSCALE:GREGORIAN
METHOD:PUBLISH
X-ORIGINAL-URL:https://haisla.ca
X-WR-CALDESC:Events for Haisla Nation
REFRESH-INTERVAL;VALUE=DURATION:PT1H
X-Robots-Tag:noindex
X-PUBLISHED-TTL:PT1H
BEGIN:VTIMEZONE
TZID:America/Vancouver
BEGIN:DAYLIGHT
TZOFFSETFROM:-0800
TZOFFSETTO:-0700
TZNAME:PDT
DTSTART:20260308T100000
END:DAYLIGHT
BEGIN:STANDARD
TZOFFSETFROM:-0700
TZOFFSETTO:-0800
TZNAME:PST
DTSTART:20261101T090000
END:STANDARD
BEGIN:DAYLIGHT
TZOFFSETFROM:-0800
TZOFFSETTO:-0700
TZNAME:PDT
DTSTART:20270314T100000
END:DAYLIGHT
BEGIN:STANDARD
TZOFFSETFROM:-0700
TZOFFSETTO:-0800
TZNAME:PST
DTSTART:20271107T090000
END:STANDARD
BEGIN:DAYLIGHT
TZOFFSETFROM:-0800
TZOFFSETTO:-0700
TZNAME:PDT
DTSTART:20280312T100000
END:DAYLIGHT
BEGIN:STANDARD
TZOFFSETFROM:-0700
TZOFFSETTO:-0800
TZNAME:PST
DTSTART:20281105T090000
END:STANDARD
BEGIN:DAYLIGHT
TZOFFSETFROM:-0800
TZOFFSETTO:-0700
TZNAME:PDT
DTSTART:20290311T100000
END:DAYLIGHT
BEGIN:STANDARD
TZOFFSETFROM:-0700
TZOFFSETTO:-0800
TZNAME:PST
DTSTART:20291104T090000
END:STANDARD
END:VTIMEZONE
BEGIN:VEVENT
DTSTART;TZID=America/Vancouver:20270622T180000
DTEND;TZID=America/Vancouver:20270622T200000
DTSTAMP:20260422T123938
CREATED:20251027T212049Z
LAST-MODIFIED:20251027T212115Z
UID:10002248-1813687200-1813694400@haisla.ca
SUMMARY:Wellbriety Men's Group
DESCRIPTION:A culturally grounded recovery group rooted in Indigenous teachings and the Medicine Wheel.
URL:https://haisla.ca/event/wellbriety-mens-group/2027-06-22/
LOCATION:Haisla Health Centre\, 130 Owekeno Avenue\, Haisla\, British Columbia\, Canada
CATEGORIES:Health and Wellness
END:VEVENT
BEGIN:VEVENT
DTSTART;TZID=America/Vancouver:20270629T180000
DTEND;TZID=America/Vancouver:20270629T200000
DTSTAMP:20260422T123938
CREATED:20251027T212049Z
LAST-MODIFIED:20251027T212115Z
UID:10002249-1814292000-1814299200@haisla.ca
SUMMARY:Wellbriety Men's Group
DESCRIPTION:A culturally grounded recovery group rooted in Indigenous teachings and the Medicine Wheel.
URL:https://haisla.ca/event/wellbriety-mens-group/2027-06-29/
LOCATION:Haisla Health Centre\, 130 Owekeno Avenue\, Haisla\, British Columbia\, Canada
CATEGORIES:Health and Wellness
END:VEVENT
BEGIN:VEVENT
DTSTART;TZID=America/Vancouver:20270706T180000
DTEND;TZID=America/Vancouver:20270706T200000
DTSTAMP:20260422T123938
CREATED:20251027T212049Z
LAST-MODIFIED:20251027T212115Z
UID:10002250-1814896800-1814904000@haisla.ca
SUMMARY:Wellbriety Men's Group
DESCRIPTION:A culturally grounded recovery group rooted in Indigenous teachings and the Medicine Wheel.
URL:https://haisla.ca/event/wellbriety-mens-group/2027-07-06/
LOCATION:Haisla Health Centre\, 130 Owekeno Avenue\, Haisla\, British Columbia\, Canada
CATEGORIES:Health and Wellness
END:VEVENT
BEGIN:VEVENT
DTSTART;TZID=America/Vancouver:20270713T180000
DTEND;TZID=America/Vancouver:20270713T200000
DTSTAMP:20260422T123938
CREATED:20251027T212049Z
LAST-MODIFIED:20251027T212115Z
UID:10002251-1815501600-1815508800@haisla.ca
SUMMARY:Wellbriety Men's Group
DESCRIPTION:A culturally grounded recovery group rooted in Indigenous teachings and the Medicine Wheel.
URL:https://haisla.ca/event/wellbriety-mens-group/2027-07-13/
LOCATION:Haisla Health Centre\, 130 Owekeno Avenue\, Haisla\, British Columbia\, Canada
CATEGORIES:Health and Wellness
END:VEVENT
BEGIN:VEVENT
DTSTART;TZID=America/Vancouver:20270720T180000
DTEND;TZID=America/Vancouver:20270720T200000
DTSTAMP:20260422T123938
CREATED:20251027T212049Z
LAST-MODIFIED:20251027T212115Z
UID:10002252-1816106400-1816113600@haisla.ca
SUMMARY:Wellbriety Men's Group
DESCRIPTION:A culturally grounded recovery group rooted in Indigenous teachings and the Medicine Wheel.
URL:https://haisla.ca/event/wellbriety-mens-group/2027-07-20/
LOCATION:Haisla Health Centre\, 130 Owekeno Avenue\, Haisla\, British Columbia\, Canada
CATEGORIES:Health and Wellness
END:VEVENT
BEGIN:VEVENT
DTSTART;TZID=America/Vancouver:20270727T180000
DTEND;TZID=America/Vancouver:20270727T200000
DTSTAMP:20260422T123938
CREATED:20251027T212049Z
LAST-MODIFIED:20251027T212115Z
UID:10002253-1816711200-1816718400@haisla.ca
SUMMARY:Wellbriety Men's Group
DESCRIPTION:A culturally grounded recovery group rooted in Indigenous teachings and the Medicine Wheel.
URL:https://haisla.ca/event/wellbriety-mens-group/2027-07-27/
LOCATION:Haisla Health Centre\, 130 Owekeno Avenue\, Haisla\, British Columbia\, Canada
CATEGORIES:Health and Wellness
END:VEVENT
BEGIN:VEVENT
DTSTART;TZID=America/Vancouver:20270803T180000
DTEND;TZID=America/Vancouver:20270803T200000
DTSTAMP:20260422T123938
CREATED:20251027T212049Z
LAST-MODIFIED:20251027T212115Z
UID:10002254-1817316000-1817323200@haisla.ca
SUMMARY:Wellbriety Men's Group
DESCRIPTION:A culturally grounded recovery group rooted in Indigenous teachings and the Medicine Wheel.
URL:https://haisla.ca/event/wellbriety-mens-group/2027-08-03/
LOCATION:Haisla Health Centre\, 130 Owekeno Avenue\, Haisla\, British Columbia\, Canada
CATEGORIES:Health and Wellness
END:VEVENT
BEGIN:VEVENT
DTSTART;TZID=America/Vancouver:20270810T180000
DTEND;TZID=America/Vancouver:20270810T200000
DTSTAMP:20260422T123938
CREATED:20251027T212049Z
LAST-MODIFIED:20251027T212115Z
UID:10002255-1817920800-1817928000@haisla.ca
SUMMARY:Wellbriety Men's Group
DESCRIPTION:A culturally grounded recovery group rooted in Indigenous teachings and the Medicine Wheel.
URL:https://haisla.ca/event/wellbriety-mens-group/2027-08-10/
LOCATION:Haisla Health Centre\, 130 Owekeno Avenue\, Haisla\, British Columbia\, Canada
CATEGORIES:Health and Wellness
END:VEVENT
BEGIN:VEVENT
DTSTART;TZID=America/Vancouver:20270817T180000
DTEND;TZID=America/Vancouver:20270817T200000
DTSTAMP:20260422T123938
CREATED:20251027T212049Z
LAST-MODIFIED:20251027T212115Z
UID:10002256-1818525600-1818532800@haisla.ca
SUMMARY:Wellbriety Men's Group
DESCRIPTION:A culturally grounded recovery group rooted in Indigenous teachings and the Medicine Wheel.
URL:https://haisla.ca/event/wellbriety-mens-group/2027-08-17/
LOCATION:Haisla Health Centre\, 130 Owekeno Avenue\, Haisla\, British Columbia\, Canada
CATEGORIES:Health and Wellness
END:VEVENT
BEGIN:VEVENT
DTSTART;TZID=America/Vancouver:20270824T180000
DTEND;TZID=America/Vancouver:20270824T200000
DTSTAMP:20260422T123938
CREATED:20251027T212049Z
LAST-MODIFIED:20251027T212115Z
UID:10002257-1819130400-1819137600@haisla.ca
SUMMARY:Wellbriety Men's Group
DESCRIPTION:A culturally grounded recovery group rooted in Indigenous teachings and the Medicine Wheel.
URL:https://haisla.ca/event/wellbriety-mens-group/2027-08-24/
LOCATION:Haisla Health Centre\, 130 Owekeno Avenue\, Haisla\, British Columbia\, Canada
CATEGORIES:Health and Wellness
END:VEVENT
BEGIN:VEVENT
DTSTART;TZID=America/Vancouver:20270831T180000
DTEND;TZID=America/Vancouver:20270831T200000
DTSTAMP:20260422T123938
CREATED:20251027T212049Z
LAST-MODIFIED:20251027T212115Z
UID:10002258-1819735200-1819742400@haisla.ca
SUMMARY:Wellbriety Men's Group
DESCRIPTION:A culturally grounded recovery group rooted in Indigenous teachings and the Medicine Wheel.
URL:https://haisla.ca/event/wellbriety-mens-group/2027-08-31/
LOCATION:Haisla Health Centre\, 130 Owekeno Avenue\, Haisla\, British Columbia\, Canada
CATEGORIES:Health and Wellness
END:VEVENT
BEGIN:VEVENT
DTSTART;TZID=America/Vancouver:20270907T180000
DTEND;TZID=America/Vancouver:20270907T200000
DTSTAMP:20260422T123938
CREATED:20251027T212049Z
LAST-MODIFIED:20251027T212115Z
UID:10002259-1820340000-1820347200@haisla.ca
SUMMARY:Wellbriety Men's Group
DESCRIPTION:A culturally grounded recovery group rooted in Indigenous teachings and the Medicine Wheel.
URL:https://haisla.ca/event/wellbriety-mens-group/2027-09-07/
LOCATION:Haisla Health Centre\, 130 Owekeno Avenue\, Haisla\, British Columbia\, Canada
CATEGORIES:Health and Wellness
END:VEVENT
BEGIN:VEVENT
DTSTART;TZID=America/Vancouver:20270914T180000
DTEND;TZID=America/Vancouver:20270914T200000
DTSTAMP:20260422T123938
CREATED:20251027T212049Z
LAST-MODIFIED:20251027T212115Z
UID:10002260-1820944800-1820952000@haisla.ca
SUMMARY:Wellbriety Men's Group
DESCRIPTION:A culturally grounded recovery group rooted in Indigenous teachings and the Medicine Wheel.
URL:https://haisla.ca/event/wellbriety-mens-group/2027-09-14/
LOCATION:Haisla Health Centre\, 130 Owekeno Avenue\, Haisla\, British Columbia\, Canada
CATEGORIES:Health and Wellness
END:VEVENT
BEGIN:VEVENT
DTSTART;TZID=America/Vancouver:20270921T180000
DTEND;TZID=America/Vancouver:20270921T200000
DTSTAMP:20260422T123938
CREATED:20251027T212049Z
LAST-MODIFIED:20251027T212115Z
UID:10002261-1821549600-1821556800@haisla.ca
SUMMARY:Wellbriety Men's Group
DESCRIPTION:A culturally grounded recovery group rooted in Indigenous teachings and the Medicine Wheel.
URL:https://haisla.ca/event/wellbriety-mens-group/2027-09-21/
LOCATION:Haisla Health Centre\, 130 Owekeno Avenue\, Haisla\, British Columbia\, Canada
CATEGORIES:Health and Wellness
END:VEVENT
BEGIN:VEVENT
DTSTART;TZID=America/Vancouver:20270928T180000
DTEND;TZID=America/Vancouver:20270928T200000
DTSTAMP:20260422T123938
CREATED:20251027T212049Z
LAST-MODIFIED:20251027T212115Z
UID:10002262-1822154400-1822161600@haisla.ca
SUMMARY:Wellbriety Men's Group
DESCRIPTION:A culturally grounded recovery group rooted in Indigenous teachings and the Medicine Wheel.
URL:https://haisla.ca/event/wellbriety-mens-group/2027-09-28/
LOCATION:Haisla Health Centre\, 130 Owekeno Avenue\, Haisla\, British Columbia\, Canada
CATEGORIES:Health and Wellness
END:VEVENT
BEGIN:VEVENT
DTSTART;TZID=America/Vancouver:20271005T180000
DTEND;TZID=America/Vancouver:20271005T200000
DTSTAMP:20260422T123938
CREATED:20251027T212049Z
LAST-MODIFIED:20251027T212115Z
UID:10002263-1822759200-1822766400@haisla.ca
SUMMARY:Wellbriety Men's Group
DESCRIPTION:A culturally grounded recovery group rooted in Indigenous teachings and the Medicine Wheel.
URL:https://haisla.ca/event/wellbriety-mens-group/2027-10-05/
LOCATION:Haisla Health Centre\, 130 Owekeno Avenue\, Haisla\, British Columbia\, Canada
CATEGORIES:Health and Wellness
END:VEVENT
BEGIN:VEVENT
DTSTART;TZID=America/Vancouver:20271012T180000
DTEND;TZID=America/Vancouver:20271012T200000
DTSTAMP:20260422T123938
CREATED:20251027T212049Z
LAST-MODIFIED:20251027T212115Z
UID:10002264-1823364000-1823371200@haisla.ca
SUMMARY:Wellbriety Men's Group
DESCRIPTION:A culturally grounded recovery group rooted in Indigenous teachings and the Medicine Wheel.
URL:https://haisla.ca/event/wellbriety-mens-group/2027-10-12/
LOCATION:Haisla Health Centre\, 130 Owekeno Avenue\, Haisla\, British Columbia\, Canada
CATEGORIES:Health and Wellness
END:VEVENT
BEGIN:VEVENT
DTSTART;TZID=America/Vancouver:20271019T180000
DTEND;TZID=America/Vancouver:20271019T200000
DTSTAMP:20260422T123938
CREATED:20251027T212049Z
LAST-MODIFIED:20251027T212115Z
UID:10002265-1823968800-1823976000@haisla.ca
SUMMARY:Wellbriety Men's Group
DESCRIPTION:A culturally grounded recovery group rooted in Indigenous teachings and the Medicine Wheel.
URL:https://haisla.ca/event/wellbriety-mens-group/2027-10-19/
LOCATION:Haisla Health Centre\, 130 Owekeno Avenue\, Haisla\, British Columbia\, Canada
CATEGORIES:Health and Wellness
END:VEVENT
BEGIN:VEVENT
DTSTART;TZID=America/Vancouver:20271026T180000
DTEND;TZID=America/Vancouver:20271026T200000
DTSTAMP:20260422T123938
CREATED:20251027T212049Z
LAST-MODIFIED:20251027T212115Z
UID:10002266-1824573600-1824580800@haisla.ca
SUMMARY:Wellbriety Men's Group
DESCRIPTION:A culturally grounded recovery group rooted in Indigenous teachings and the Medicine Wheel.
URL:https://haisla.ca/event/wellbriety-mens-group/2027-10-26/
LOCATION:Haisla Health Centre\, 130 Owekeno Avenue\, Haisla\, British Columbia\, Canada
CATEGORIES:Health and Wellness
END:VEVENT
BEGIN:VEVENT
DTSTART;TZID=America/Vancouver:20271102T180000
DTEND;TZID=America/Vancouver:20271102T200000
DTSTAMP:20260422T123938
CREATED:20251027T212049Z
LAST-MODIFIED:20251027T212115Z
UID:10002267-1825178400-1825185600@haisla.ca
SUMMARY:Wellbriety Men's Group
DESCRIPTION:A culturally grounded recovery group rooted in Indigenous teachings and the Medicine Wheel.
URL:https://haisla.ca/event/wellbriety-mens-group/2027-11-02/
LOCATION:Haisla Health Centre\, 130 Owekeno Avenue\, Haisla\, British Columbia\, Canada
CATEGORIES:Health and Wellness
END:VEVENT
BEGIN:VEVENT
DTSTART;TZID=America/Vancouver:20271109T180000
DTEND;TZID=America/Vancouver:20271109T200000
DTSTAMP:20260422T123938
CREATED:20251027T212049Z
LAST-MODIFIED:20251027T212115Z
UID:10002268-1825783200-1825790400@haisla.ca
SUMMARY:Wellbriety Men's Group
DESCRIPTION:A culturally grounded recovery group rooted in Indigenous teachings and the Medicine Wheel.
URL:https://haisla.ca/event/wellbriety-mens-group/2027-11-09/
LOCATION:Haisla Health Centre\, 130 Owekeno Avenue\, Haisla\, British Columbia\, Canada
CATEGORIES:Health and Wellness
END:VEVENT
BEGIN:VEVENT
DTSTART;TZID=America/Vancouver:20271116T180000
DTEND;TZID=America/Vancouver:20271116T200000
DTSTAMP:20260422T123938
CREATED:20251027T212049Z
LAST-MODIFIED:20251027T212115Z
UID:10002269-1826388000-1826395200@haisla.ca
SUMMARY:Wellbriety Men's Group
DESCRIPTION:A culturally grounded recovery group rooted in Indigenous teachings and the Medicine Wheel.
URL:https://haisla.ca/event/wellbriety-mens-group/2027-11-16/
LOCATION:Haisla Health Centre\, 130 Owekeno Avenue\, Haisla\, British Columbia\, Canada
CATEGORIES:Health and Wellness
END:VEVENT
BEGIN:VEVENT
DTSTART;TZID=America/Vancouver:20271123T180000
DTEND;TZID=America/Vancouver:20271123T200000
DTSTAMP:20260422T123938
CREATED:20251027T212049Z
LAST-MODIFIED:20251027T212115Z
UID:10002270-1826992800-1827000000@haisla.ca
SUMMARY:Wellbriety Men's Group
DESCRIPTION:A culturally grounded recovery group rooted in Indigenous teachings and the Medicine Wheel.
URL:https://haisla.ca/event/wellbriety-mens-group/2027-11-23/
LOCATION:Haisla Health Centre\, 130 Owekeno Avenue\, Haisla\, British Columbia\, Canada
CATEGORIES:Health and Wellness
END:VEVENT
BEGIN:VEVENT
DTSTART;TZID=America/Vancouver:20271130T180000
DTEND;TZID=America/Vancouver:20271130T200000
DTSTAMP:20260422T123938
CREATED:20251027T212049Z
LAST-MODIFIED:20251027T212115Z
UID:10002271-1827597600-1827604800@haisla.ca
SUMMARY:Wellbriety Men's Group
DESCRIPTION:A culturally grounded recovery group rooted in Indigenous teachings and the Medicine Wheel.
URL:https://haisla.ca/event/wellbriety-mens-group/2027-11-30/
LOCATION:Haisla Health Centre\, 130 Owekeno Avenue\, Haisla\, British Columbia\, Canada
CATEGORIES:Health and Wellness
END:VEVENT
BEGIN:VEVENT
DTSTART;TZID=America/Vancouver:20271207T180000
DTEND;TZID=America/Vancouver:20271207T200000
DTSTAMP:20260422T123938
CREATED:20251027T212049Z
LAST-MODIFIED:20251027T212115Z
UID:10002272-1828202400-1828209600@haisla.ca
SUMMARY:Wellbriety Men's Group
DESCRIPTION:A culturally grounded recovery group rooted in Indigenous teachings and the Medicine Wheel.
URL:https://haisla.ca/event/wellbriety-mens-group/2027-12-07/
LOCATION:Haisla Health Centre\, 130 Owekeno Avenue\, Haisla\, British Columbia\, Canada
CATEGORIES:Health and Wellness
END:VEVENT
BEGIN:VEVENT
DTSTART;TZID=America/Vancouver:20271214T180000
DTEND;TZID=America/Vancouver:20271214T200000
DTSTAMP:20260422T123938
CREATED:20251027T212049Z
LAST-MODIFIED:20251027T212115Z
UID:10002273-1828807200-1828814400@haisla.ca
SUMMARY:Wellbriety Men's Group
DESCRIPTION:A culturally grounded recovery group rooted in Indigenous teachings and the Medicine Wheel.
URL:https://haisla.ca/event/wellbriety-mens-group/2027-12-14/
LOCATION:Haisla Health Centre\, 130 Owekeno Avenue\, Haisla\, British Columbia\, Canada
CATEGORIES:Health and Wellness
END:VEVENT
BEGIN:VEVENT
DTSTART;TZID=America/Vancouver:20271221T180000
DTEND;TZID=America/Vancouver:20271221T200000
DTSTAMP:20260422T123938
CREATED:20251027T212049Z
LAST-MODIFIED:20251027T212115Z
UID:10002274-1829412000-1829419200@haisla.ca
SUMMARY:Wellbriety Men's Group
DESCRIPTION:A culturally grounded recovery group rooted in Indigenous teachings and the Medicine Wheel.
URL:https://haisla.ca/event/wellbriety-mens-group/2027-12-21/
LOCATION:Haisla Health Centre\, 130 Owekeno Avenue\, Haisla\, British Columbia\, Canada
CATEGORIES:Health and Wellness
END:VEVENT
BEGIN:VEVENT
DTSTART;TZID=America/Vancouver:20271228T180000
DTEND;TZID=America/Vancouver:20271228T200000
DTSTAMP:20260422T123938
CREATED:20251027T212049Z
LAST-MODIFIED:20251027T212115Z
UID:10002275-1830016800-1830024000@haisla.ca
SUMMARY:Wellbriety Men's Group
DESCRIPTION:A culturally grounded recovery group rooted in Indigenous teachings and the Medicine Wheel.
URL:https://haisla.ca/event/wellbriety-mens-group/2027-12-28/
LOCATION:Haisla Health Centre\, 130 Owekeno Avenue\, Haisla\, British Columbia\, Canada
CATEGORIES:Health and Wellness
END:VEVENT
BEGIN:VEVENT
DTSTART;TZID=America/Vancouver:20280104T180000
DTEND;TZID=America/Vancouver:20280104T200000
DTSTAMP:20260422T123938
CREATED:20251027T212049Z
LAST-MODIFIED:20251027T212115Z
UID:10002276-1830621600-1830628800@haisla.ca
SUMMARY:Wellbriety Men's Group
DESCRIPTION:A culturally grounded recovery group rooted in Indigenous teachings and the Medicine Wheel.
URL:https://haisla.ca/event/wellbriety-mens-group/2028-01-04/
LOCATION:Haisla Health Centre\, 130 Owekeno Avenue\, Haisla\, British Columbia\, Canada
CATEGORIES:Health and Wellness
END:VEVENT
BEGIN:VEVENT
DTSTART;TZID=America/Vancouver:20280111T180000
DTEND;TZID=America/Vancouver:20280111T200000
DTSTAMP:20260422T123938
CREATED:20251027T212049Z
LAST-MODIFIED:20251027T212115Z
UID:10002277-1831226400-1831233600@haisla.ca
SUMMARY:Wellbriety Men's Group
DESCRIPTION:A culturally grounded recovery group rooted in Indigenous teachings and the Medicine Wheel.
URL:https://haisla.ca/event/wellbriety-mens-group/2028-01-11/
LOCATION:Haisla Health Centre\, 130 Owekeno Avenue\, Haisla\, British Columbia\, Canada
CATEGORIES:Health and Wellness
END:VEVENT
END:VCALENDAR