BEGIN:VCALENDAR
VERSION:2.0
PRODID:-//Haisla Nation - ECPv6.15.20//NONSGML v1.0//EN
CALSCALE:GREGORIAN
METHOD:PUBLISH
X-WR-CALNAME:Haisla Nation
X-ORIGINAL-URL:https://haisla.ca
X-WR-CALDESC:Events for Haisla Nation
REFRESH-INTERVAL;VALUE=DURATION:PT1H
X-Robots-Tag:noindex
X-PUBLISHED-TTL:PT1H
BEGIN:VTIMEZONE
TZID:America/Vancouver
BEGIN:DAYLIGHT
TZOFFSETFROM:-0800
TZOFFSETTO:-0700
TZNAME:PDT
DTSTART:20250309T100000
END:DAYLIGHT
BEGIN:STANDARD
TZOFFSETFROM:-0700
TZOFFSETTO:-0800
TZNAME:PST
DTSTART:20251102T090000
END:STANDARD
BEGIN:DAYLIGHT
TZOFFSETFROM:-0800
TZOFFSETTO:-0700
TZNAME:PDT
DTSTART:20260308T100000
END:DAYLIGHT
BEGIN:STANDARD
TZOFFSETFROM:-0700
TZOFFSETTO:-0800
TZNAME:PST
DTSTART:20261101T090000
END:STANDARD
BEGIN:DAYLIGHT
TZOFFSETFROM:-0800
TZOFFSETTO:-0700
TZNAME:PDT
DTSTART:20270314T100000
END:DAYLIGHT
BEGIN:STANDARD
TZOFFSETFROM:-0700
TZOFFSETTO:-0800
TZNAME:PST
DTSTART:20271107T090000
END:STANDARD
END:VTIMEZONE
BEGIN:VEVENT
DTSTART;TZID=America/Vancouver:20260804T120000
DTEND;TZID=America/Vancouver:20260804T130000
DTSTAMP:20260421T131926
CREATED:20251027T211054Z
LAST-MODIFIED:20251027T211127Z
UID:10001720-1785844800-1785848400@haisla.ca
SUMMARY:Yoga For Wellness
DESCRIPTION:Gentle movement and mindfulness practices to support mental and physical well-being.
URL:https://haisla.ca/event/yoga-for-wellness-2/2026-08-04/
LOCATION:Haisla Health Centre\, 130 Owekeno Avenue\, Haisla\, British Columbia\, Canada
CATEGORIES:Health and Wellness
END:VEVENT
BEGIN:VEVENT
DTSTART;TZID=America/Vancouver:20260807T094500
DTEND;TZID=America/Vancouver:20260807T224000
DTSTAMP:20260421T131927
CREATED:20251027T210626Z
LAST-MODIFIED:20251027T210951Z
UID:10000677-1786095900-1786142400@haisla.ca
SUMMARY:Yoga For Wellness
DESCRIPTION:Gentle movement and mindfulness practices to support mental and physical well-being.
URL:https://haisla.ca/event/yoga-for-wellness/2026-08-07/
LOCATION:Haisla Health Centre\, 130 Owekeno Avenue\, Haisla\, British Columbia\, Canada
CATEGORIES:Health and Wellness
END:VEVENT
BEGIN:VEVENT
DTSTART;TZID=America/Vancouver:20260807T120000
DTEND;TZID=America/Vancouver:20260807T130000
DTSTAMP:20260421T131927
CREATED:20251027T211054Z
LAST-MODIFIED:20251027T211127Z
UID:10001721-1786104000-1786107600@haisla.ca
SUMMARY:Yoga For Wellness
DESCRIPTION:Gentle movement and mindfulness practices to support mental and physical well-being.
URL:https://haisla.ca/event/yoga-for-wellness-2/2026-08-07/
LOCATION:Haisla Health Centre\, 130 Owekeno Avenue\, Haisla\, British Columbia\, Canada
CATEGORIES:Health and Wellness
END:VEVENT
BEGIN:VEVENT
DTSTART;TZID=America/Vancouver:20260811T094500
DTEND;TZID=America/Vancouver:20260811T224000
DTSTAMP:20260421T131927
CREATED:20251027T210626Z
LAST-MODIFIED:20251027T210951Z
UID:10000678-1786441500-1786488000@haisla.ca
SUMMARY:Yoga For Wellness
DESCRIPTION:Gentle movement and mindfulness practices to support mental and physical well-being.
URL:https://haisla.ca/event/yoga-for-wellness/2026-08-11/
LOCATION:Haisla Health Centre\, 130 Owekeno Avenue\, Haisla\, British Columbia\, Canada
CATEGORIES:Health and Wellness
END:VEVENT
BEGIN:VEVENT
DTSTART;TZID=America/Vancouver:20260811T120000
DTEND;TZID=America/Vancouver:20260811T130000
DTSTAMP:20260421T131927
CREATED:20251027T211054Z
LAST-MODIFIED:20251027T211127Z
UID:10001722-1786449600-1786453200@haisla.ca
SUMMARY:Yoga For Wellness
DESCRIPTION:Gentle movement and mindfulness practices to support mental and physical well-being.
URL:https://haisla.ca/event/yoga-for-wellness-2/2026-08-11/
LOCATION:Haisla Health Centre\, 130 Owekeno Avenue\, Haisla\, British Columbia\, Canada
CATEGORIES:Health and Wellness
END:VEVENT
BEGIN:VEVENT
DTSTART;TZID=America/Vancouver:20260814T094500
DTEND;TZID=America/Vancouver:20260814T224000
DTSTAMP:20260421T131927
CREATED:20251027T210626Z
LAST-MODIFIED:20251027T210951Z
UID:10000679-1786700700-1786747200@haisla.ca
SUMMARY:Yoga For Wellness
DESCRIPTION:Gentle movement and mindfulness practices to support mental and physical well-being.
URL:https://haisla.ca/event/yoga-for-wellness/2026-08-14/
LOCATION:Haisla Health Centre\, 130 Owekeno Avenue\, Haisla\, British Columbia\, Canada
CATEGORIES:Health and Wellness
END:VEVENT
BEGIN:VEVENT
DTSTART;TZID=America/Vancouver:20260814T120000
DTEND;TZID=America/Vancouver:20260814T130000
DTSTAMP:20260421T131927
CREATED:20251027T211054Z
LAST-MODIFIED:20251027T211127Z
UID:10001723-1786708800-1786712400@haisla.ca
SUMMARY:Yoga For Wellness
DESCRIPTION:Gentle movement and mindfulness practices to support mental and physical well-being.
URL:https://haisla.ca/event/yoga-for-wellness-2/2026-08-14/
LOCATION:Haisla Health Centre\, 130 Owekeno Avenue\, Haisla\, British Columbia\, Canada
CATEGORIES:Health and Wellness
END:VEVENT
BEGIN:VEVENT
DTSTART;TZID=America/Vancouver:20260818T094500
DTEND;TZID=America/Vancouver:20260818T224000
DTSTAMP:20260421T131927
CREATED:20251027T210626Z
LAST-MODIFIED:20251027T210951Z
UID:10000680-1787046300-1787092800@haisla.ca
SUMMARY:Yoga For Wellness
DESCRIPTION:Gentle movement and mindfulness practices to support mental and physical well-being.
URL:https://haisla.ca/event/yoga-for-wellness/2026-08-18/
LOCATION:Haisla Health Centre\, 130 Owekeno Avenue\, Haisla\, British Columbia\, Canada
CATEGORIES:Health and Wellness
END:VEVENT
BEGIN:VEVENT
DTSTART;TZID=America/Vancouver:20260818T120000
DTEND;TZID=America/Vancouver:20260818T130000
DTSTAMP:20260421T131927
CREATED:20251027T211054Z
LAST-MODIFIED:20251027T211127Z
UID:10001724-1787054400-1787058000@haisla.ca
SUMMARY:Yoga For Wellness
DESCRIPTION:Gentle movement and mindfulness practices to support mental and physical well-being.
URL:https://haisla.ca/event/yoga-for-wellness-2/2026-08-18/
LOCATION:Haisla Health Centre\, 130 Owekeno Avenue\, Haisla\, British Columbia\, Canada
CATEGORIES:Health and Wellness
END:VEVENT
BEGIN:VEVENT
DTSTART;TZID=America/Vancouver:20260821T094500
DTEND;TZID=America/Vancouver:20260821T224000
DTSTAMP:20260421T131927
CREATED:20251027T210626Z
LAST-MODIFIED:20251027T210951Z
UID:10000681-1787305500-1787352000@haisla.ca
SUMMARY:Yoga For Wellness
DESCRIPTION:Gentle movement and mindfulness practices to support mental and physical well-being.
URL:https://haisla.ca/event/yoga-for-wellness/2026-08-21/
LOCATION:Haisla Health Centre\, 130 Owekeno Avenue\, Haisla\, British Columbia\, Canada
CATEGORIES:Health and Wellness
END:VEVENT
BEGIN:VEVENT
DTSTART;TZID=America/Vancouver:20260821T120000
DTEND;TZID=America/Vancouver:20260821T130000
DTSTAMP:20260421T131927
CREATED:20251027T211054Z
LAST-MODIFIED:20251027T211127Z
UID:10001725-1787313600-1787317200@haisla.ca
SUMMARY:Yoga For Wellness
DESCRIPTION:Gentle movement and mindfulness practices to support mental and physical well-being.
URL:https://haisla.ca/event/yoga-for-wellness-2/2026-08-21/
LOCATION:Haisla Health Centre\, 130 Owekeno Avenue\, Haisla\, British Columbia\, Canada
CATEGORIES:Health and Wellness
END:VEVENT
BEGIN:VEVENT
DTSTART;TZID=America/Vancouver:20260825T094500
DTEND;TZID=America/Vancouver:20260825T224000
DTSTAMP:20260421T131927
CREATED:20251027T210626Z
LAST-MODIFIED:20251027T210951Z
UID:10000682-1787651100-1787697600@haisla.ca
SUMMARY:Yoga For Wellness
DESCRIPTION:Gentle movement and mindfulness practices to support mental and physical well-being.
URL:https://haisla.ca/event/yoga-for-wellness/2026-08-25/
LOCATION:Haisla Health Centre\, 130 Owekeno Avenue\, Haisla\, British Columbia\, Canada
CATEGORIES:Health and Wellness
END:VEVENT
BEGIN:VEVENT
DTSTART;TZID=America/Vancouver:20260825T120000
DTEND;TZID=America/Vancouver:20260825T130000
DTSTAMP:20260421T131927
CREATED:20251027T211054Z
LAST-MODIFIED:20251027T211127Z
UID:10001726-1787659200-1787662800@haisla.ca
SUMMARY:Yoga For Wellness
DESCRIPTION:Gentle movement and mindfulness practices to support mental and physical well-being.
URL:https://haisla.ca/event/yoga-for-wellness-2/2026-08-25/
LOCATION:Haisla Health Centre\, 130 Owekeno Avenue\, Haisla\, British Columbia\, Canada
CATEGORIES:Health and Wellness
END:VEVENT
BEGIN:VEVENT
DTSTART;TZID=America/Vancouver:20260828T094500
DTEND;TZID=America/Vancouver:20260828T224000
DTSTAMP:20260421T131927
CREATED:20251027T210626Z
LAST-MODIFIED:20251027T210951Z
UID:10000683-1787910300-1787956800@haisla.ca
SUMMARY:Yoga For Wellness
DESCRIPTION:Gentle movement and mindfulness practices to support mental and physical well-being.
URL:https://haisla.ca/event/yoga-for-wellness/2026-08-28/
LOCATION:Haisla Health Centre\, 130 Owekeno Avenue\, Haisla\, British Columbia\, Canada
CATEGORIES:Health and Wellness
END:VEVENT
BEGIN:VEVENT
DTSTART;TZID=America/Vancouver:20260828T120000
DTEND;TZID=America/Vancouver:20260828T130000
DTSTAMP:20260421T131927
CREATED:20251027T211054Z
LAST-MODIFIED:20251027T211127Z
UID:10001727-1787918400-1787922000@haisla.ca
SUMMARY:Yoga For Wellness
DESCRIPTION:Gentle movement and mindfulness practices to support mental and physical well-being.
URL:https://haisla.ca/event/yoga-for-wellness-2/2026-08-28/
LOCATION:Haisla Health Centre\, 130 Owekeno Avenue\, Haisla\, British Columbia\, Canada
CATEGORIES:Health and Wellness
END:VEVENT
BEGIN:VEVENT
DTSTART;TZID=America/Vancouver:20260901T094500
DTEND;TZID=America/Vancouver:20260901T224000
DTSTAMP:20260421T131927
CREATED:20251027T210626Z
LAST-MODIFIED:20251027T210951Z
UID:10000684-1788255900-1788302400@haisla.ca
SUMMARY:Yoga For Wellness
DESCRIPTION:Gentle movement and mindfulness practices to support mental and physical well-being.
URL:https://haisla.ca/event/yoga-for-wellness/2026-09-01/
LOCATION:Haisla Health Centre\, 130 Owekeno Avenue\, Haisla\, British Columbia\, Canada
CATEGORIES:Health and Wellness
END:VEVENT
BEGIN:VEVENT
DTSTART;TZID=America/Vancouver:20260901T120000
DTEND;TZID=America/Vancouver:20260901T130000
DTSTAMP:20260421T131927
CREATED:20251027T211054Z
LAST-MODIFIED:20251027T211127Z
UID:10001728-1788264000-1788267600@haisla.ca
SUMMARY:Yoga For Wellness
DESCRIPTION:Gentle movement and mindfulness practices to support mental and physical well-being.
URL:https://haisla.ca/event/yoga-for-wellness-2/2026-09-01/
LOCATION:Haisla Health Centre\, 130 Owekeno Avenue\, Haisla\, British Columbia\, Canada
CATEGORIES:Health and Wellness
END:VEVENT
BEGIN:VEVENT
DTSTART;TZID=America/Vancouver:20260904T094500
DTEND;TZID=America/Vancouver:20260904T224000
DTSTAMP:20260421T131927
CREATED:20251027T210626Z
LAST-MODIFIED:20251027T210951Z
UID:10000685-1788515100-1788561600@haisla.ca
SUMMARY:Yoga For Wellness
DESCRIPTION:Gentle movement and mindfulness practices to support mental and physical well-being.
URL:https://haisla.ca/event/yoga-for-wellness/2026-09-04/
LOCATION:Haisla Health Centre\, 130 Owekeno Avenue\, Haisla\, British Columbia\, Canada
CATEGORIES:Health and Wellness
END:VEVENT
BEGIN:VEVENT
DTSTART;TZID=America/Vancouver:20260904T120000
DTEND;TZID=America/Vancouver:20260904T130000
DTSTAMP:20260421T131927
CREATED:20251027T211054Z
LAST-MODIFIED:20251027T211127Z
UID:10001729-1788523200-1788526800@haisla.ca
SUMMARY:Yoga For Wellness
DESCRIPTION:Gentle movement and mindfulness practices to support mental and physical well-being.
URL:https://haisla.ca/event/yoga-for-wellness-2/2026-09-04/
LOCATION:Haisla Health Centre\, 130 Owekeno Avenue\, Haisla\, British Columbia\, Canada
CATEGORIES:Health and Wellness
END:VEVENT
BEGIN:VEVENT
DTSTART;TZID=America/Vancouver:20260908T094500
DTEND;TZID=America/Vancouver:20260908T224000
DTSTAMP:20260421T131927
CREATED:20251027T210626Z
LAST-MODIFIED:20251027T210951Z
UID:10000686-1788860700-1788907200@haisla.ca
SUMMARY:Yoga For Wellness
DESCRIPTION:Gentle movement and mindfulness practices to support mental and physical well-being.
URL:https://haisla.ca/event/yoga-for-wellness/2026-09-08/
LOCATION:Haisla Health Centre\, 130 Owekeno Avenue\, Haisla\, British Columbia\, Canada
CATEGORIES:Health and Wellness
END:VEVENT
BEGIN:VEVENT
DTSTART;TZID=America/Vancouver:20260908T120000
DTEND;TZID=America/Vancouver:20260908T130000
DTSTAMP:20260421T131927
CREATED:20251027T211054Z
LAST-MODIFIED:20251027T211127Z
UID:10001730-1788868800-1788872400@haisla.ca
SUMMARY:Yoga For Wellness
DESCRIPTION:Gentle movement and mindfulness practices to support mental and physical well-being.
URL:https://haisla.ca/event/yoga-for-wellness-2/2026-09-08/
LOCATION:Haisla Health Centre\, 130 Owekeno Avenue\, Haisla\, British Columbia\, Canada
CATEGORIES:Health and Wellness
END:VEVENT
BEGIN:VEVENT
DTSTART;TZID=America/Vancouver:20260911T094500
DTEND;TZID=America/Vancouver:20260911T224000
DTSTAMP:20260421T131927
CREATED:20251027T210626Z
LAST-MODIFIED:20251027T210951Z
UID:10000687-1789119900-1789166400@haisla.ca
SUMMARY:Yoga For Wellness
DESCRIPTION:Gentle movement and mindfulness practices to support mental and physical well-being.
URL:https://haisla.ca/event/yoga-for-wellness/2026-09-11/
LOCATION:Haisla Health Centre\, 130 Owekeno Avenue\, Haisla\, British Columbia\, Canada
CATEGORIES:Health and Wellness
END:VEVENT
BEGIN:VEVENT
DTSTART;TZID=America/Vancouver:20260911T120000
DTEND;TZID=America/Vancouver:20260911T130000
DTSTAMP:20260421T131927
CREATED:20251027T211054Z
LAST-MODIFIED:20251027T211127Z
UID:10001731-1789128000-1789131600@haisla.ca
SUMMARY:Yoga For Wellness
DESCRIPTION:Gentle movement and mindfulness practices to support mental and physical well-being.
URL:https://haisla.ca/event/yoga-for-wellness-2/2026-09-11/
LOCATION:Haisla Health Centre\, 130 Owekeno Avenue\, Haisla\, British Columbia\, Canada
CATEGORIES:Health and Wellness
END:VEVENT
BEGIN:VEVENT
DTSTART;TZID=America/Vancouver:20260915T094500
DTEND;TZID=America/Vancouver:20260915T224000
DTSTAMP:20260421T131927
CREATED:20251027T210626Z
LAST-MODIFIED:20251027T210951Z
UID:10000688-1789465500-1789512000@haisla.ca
SUMMARY:Yoga For Wellness
DESCRIPTION:Gentle movement and mindfulness practices to support mental and physical well-being.
URL:https://haisla.ca/event/yoga-for-wellness/2026-09-15/
LOCATION:Haisla Health Centre\, 130 Owekeno Avenue\, Haisla\, British Columbia\, Canada
CATEGORIES:Health and Wellness
END:VEVENT
BEGIN:VEVENT
DTSTART;TZID=America/Vancouver:20260915T120000
DTEND;TZID=America/Vancouver:20260915T130000
DTSTAMP:20260421T131927
CREATED:20251027T211054Z
LAST-MODIFIED:20251027T211127Z
UID:10001732-1789473600-1789477200@haisla.ca
SUMMARY:Yoga For Wellness
DESCRIPTION:Gentle movement and mindfulness practices to support mental and physical well-being.
URL:https://haisla.ca/event/yoga-for-wellness-2/2026-09-15/
LOCATION:Haisla Health Centre\, 130 Owekeno Avenue\, Haisla\, British Columbia\, Canada
CATEGORIES:Health and Wellness
END:VEVENT
BEGIN:VEVENT
DTSTART;TZID=America/Vancouver:20260918T094500
DTEND;TZID=America/Vancouver:20260918T224000
DTSTAMP:20260421T131927
CREATED:20251027T210626Z
LAST-MODIFIED:20251027T210951Z
UID:10000689-1789724700-1789771200@haisla.ca
SUMMARY:Yoga For Wellness
DESCRIPTION:Gentle movement and mindfulness practices to support mental and physical well-being.
URL:https://haisla.ca/event/yoga-for-wellness/2026-09-18/
LOCATION:Haisla Health Centre\, 130 Owekeno Avenue\, Haisla\, British Columbia\, Canada
CATEGORIES:Health and Wellness
END:VEVENT
BEGIN:VEVENT
DTSTART;TZID=America/Vancouver:20260918T120000
DTEND;TZID=America/Vancouver:20260918T130000
DTSTAMP:20260421T131927
CREATED:20251027T211054Z
LAST-MODIFIED:20251027T211127Z
UID:10001733-1789732800-1789736400@haisla.ca
SUMMARY:Yoga For Wellness
DESCRIPTION:Gentle movement and mindfulness practices to support mental and physical well-being.
URL:https://haisla.ca/event/yoga-for-wellness-2/2026-09-18/
LOCATION:Haisla Health Centre\, 130 Owekeno Avenue\, Haisla\, British Columbia\, Canada
CATEGORIES:Health and Wellness
END:VEVENT
BEGIN:VEVENT
DTSTART;TZID=America/Vancouver:20260922T094500
DTEND;TZID=America/Vancouver:20260922T224000
DTSTAMP:20260421T131927
CREATED:20251027T210626Z
LAST-MODIFIED:20251027T210951Z
UID:10000690-1790070300-1790116800@haisla.ca
SUMMARY:Yoga For Wellness
DESCRIPTION:Gentle movement and mindfulness practices to support mental and physical well-being.
URL:https://haisla.ca/event/yoga-for-wellness/2026-09-22/
LOCATION:Haisla Health Centre\, 130 Owekeno Avenue\, Haisla\, British Columbia\, Canada
CATEGORIES:Health and Wellness
END:VEVENT
BEGIN:VEVENT
DTSTART;TZID=America/Vancouver:20260922T120000
DTEND;TZID=America/Vancouver:20260922T130000
DTSTAMP:20260421T131927
CREATED:20251027T211054Z
LAST-MODIFIED:20251027T211127Z
UID:10001734-1790078400-1790082000@haisla.ca
SUMMARY:Yoga For Wellness
DESCRIPTION:Gentle movement and mindfulness practices to support mental and physical well-being.
URL:https://haisla.ca/event/yoga-for-wellness-2/2026-09-22/
LOCATION:Haisla Health Centre\, 130 Owekeno Avenue\, Haisla\, British Columbia\, Canada
CATEGORIES:Health and Wellness
END:VEVENT
BEGIN:VEVENT
DTSTART;TZID=America/Vancouver:20260925T094500
DTEND;TZID=America/Vancouver:20260925T224000
DTSTAMP:20260421T131927
CREATED:20251027T210626Z
LAST-MODIFIED:20251027T210951Z
UID:10000691-1790329500-1790376000@haisla.ca
SUMMARY:Yoga For Wellness
DESCRIPTION:Gentle movement and mindfulness practices to support mental and physical well-being.
URL:https://haisla.ca/event/yoga-for-wellness/2026-09-25/
LOCATION:Haisla Health Centre\, 130 Owekeno Avenue\, Haisla\, British Columbia\, Canada
CATEGORIES:Health and Wellness
END:VEVENT
END:VCALENDAR