BEGIN:VCALENDAR
VERSION:2.0
PRODID:-//Haisla Nation - ECPv6.15.20//NONSGML v1.0//EN
CALSCALE:GREGORIAN
METHOD:PUBLISH
X-WR-CALNAME:Haisla Nation
X-ORIGINAL-URL:https://haisla.ca
X-WR-CALDESC:Events for Haisla Nation
REFRESH-INTERVAL;VALUE=DURATION:PT1H
X-Robots-Tag:noindex
X-PUBLISHED-TTL:PT1H
BEGIN:VTIMEZONE
TZID:America/Vancouver
BEGIN:DAYLIGHT
TZOFFSETFROM:-0800
TZOFFSETTO:-0700
TZNAME:PDT
DTSTART:20250309T100000
END:DAYLIGHT
BEGIN:STANDARD
TZOFFSETFROM:-0700
TZOFFSETTO:-0800
TZNAME:PST
DTSTART:20251102T090000
END:STANDARD
BEGIN:DAYLIGHT
TZOFFSETFROM:-0800
TZOFFSETTO:-0700
TZNAME:PDT
DTSTART:20260308T100000
END:DAYLIGHT
BEGIN:STANDARD
TZOFFSETFROM:-0700
TZOFFSETTO:-0800
TZNAME:PST
DTSTART:20261101T090000
END:STANDARD
BEGIN:DAYLIGHT
TZOFFSETFROM:-0800
TZOFFSETTO:-0700
TZNAME:PDT
DTSTART:20270314T100000
END:DAYLIGHT
BEGIN:STANDARD
TZOFFSETFROM:-0700
TZOFFSETTO:-0800
TZNAME:PST
DTSTART:20271107T090000
END:STANDARD
BEGIN:DAYLIGHT
TZOFFSETFROM:-0800
TZOFFSETTO:-0700
TZNAME:PDT
DTSTART:20280312T100000
END:DAYLIGHT
BEGIN:STANDARD
TZOFFSETFROM:-0700
TZOFFSETTO:-0800
TZNAME:PST
DTSTART:20281105T090000
END:STANDARD
END:VTIMEZONE
BEGIN:VEVENT
DTSTART;TZID=America/Vancouver:20261120T083000
DTEND;TZID=America/Vancouver:20261120T085000
DTSTAMP:20260422T044955
CREATED:20251027T210214Z
LAST-MODIFIED:20251027T210256Z
UID:10000184-1795163400-1795164600@haisla.ca
SUMMARY:Meditation
DESCRIPTION:
URL:https://haisla.ca/event/meditation/2026-11-20/
LOCATION:Haisla Health Centre\, 130 Owekeno Avenue\, Haisla\, British Columbia\, Canada
CATEGORIES:Health and Wellness
END:VEVENT
BEGIN:VEVENT
DTSTART;TZID=America/Vancouver:20261124T083000
DTEND;TZID=America/Vancouver:20261124T085000
DTSTAMP:20260422T044955
CREATED:20251027T210214Z
LAST-MODIFIED:20251027T210256Z
UID:10000185-1795509000-1795510200@haisla.ca
SUMMARY:Meditation
DESCRIPTION:
URL:https://haisla.ca/event/meditation/2026-11-24/
LOCATION:Haisla Health Centre\, 130 Owekeno Avenue\, Haisla\, British Columbia\, Canada
CATEGORIES:Health and Wellness
END:VEVENT
BEGIN:VEVENT
DTSTART;TZID=America/Vancouver:20261127T083000
DTEND;TZID=America/Vancouver:20261127T085000
DTSTAMP:20260422T044955
CREATED:20251027T210214Z
LAST-MODIFIED:20251027T210256Z
UID:10000186-1795768200-1795769400@haisla.ca
SUMMARY:Meditation
DESCRIPTION:
URL:https://haisla.ca/event/meditation/2026-11-27/
LOCATION:Haisla Health Centre\, 130 Owekeno Avenue\, Haisla\, British Columbia\, Canada
CATEGORIES:Health and Wellness
END:VEVENT
BEGIN:VEVENT
DTSTART;TZID=America/Vancouver:20261201T083000
DTEND;TZID=America/Vancouver:20261201T085000
DTSTAMP:20260422T044955
CREATED:20251027T210214Z
LAST-MODIFIED:20251027T210256Z
UID:10000187-1796113800-1796115000@haisla.ca
SUMMARY:Meditation
DESCRIPTION:
URL:https://haisla.ca/event/meditation/2026-12-01/
LOCATION:Haisla Health Centre\, 130 Owekeno Avenue\, Haisla\, British Columbia\, Canada
CATEGORIES:Health and Wellness
END:VEVENT
BEGIN:VEVENT
DTSTART;TZID=America/Vancouver:20261204T083000
DTEND;TZID=America/Vancouver:20261204T085000
DTSTAMP:20260422T044955
CREATED:20251027T210214Z
LAST-MODIFIED:20251027T210256Z
UID:10000188-1796373000-1796374200@haisla.ca
SUMMARY:Meditation
DESCRIPTION:
URL:https://haisla.ca/event/meditation/2026-12-04/
LOCATION:Haisla Health Centre\, 130 Owekeno Avenue\, Haisla\, British Columbia\, Canada
CATEGORIES:Health and Wellness
END:VEVENT
BEGIN:VEVENT
DTSTART;TZID=America/Vancouver:20261208T083000
DTEND;TZID=America/Vancouver:20261208T085000
DTSTAMP:20260422T044955
CREATED:20251027T210214Z
LAST-MODIFIED:20251027T210256Z
UID:10000189-1796718600-1796719800@haisla.ca
SUMMARY:Meditation
DESCRIPTION:
URL:https://haisla.ca/event/meditation/2026-12-08/
LOCATION:Haisla Health Centre\, 130 Owekeno Avenue\, Haisla\, British Columbia\, Canada
CATEGORIES:Health and Wellness
END:VEVENT
BEGIN:VEVENT
DTSTART;TZID=America/Vancouver:20261211T083000
DTEND;TZID=America/Vancouver:20261211T085000
DTSTAMP:20260422T044955
CREATED:20251027T210214Z
LAST-MODIFIED:20251027T210256Z
UID:10000190-1796977800-1796979000@haisla.ca
SUMMARY:Meditation
DESCRIPTION:
URL:https://haisla.ca/event/meditation/2026-12-11/
LOCATION:Haisla Health Centre\, 130 Owekeno Avenue\, Haisla\, British Columbia\, Canada
CATEGORIES:Health and Wellness
END:VEVENT
BEGIN:VEVENT
DTSTART;TZID=America/Vancouver:20261215T083000
DTEND;TZID=America/Vancouver:20261215T085000
DTSTAMP:20260422T044955
CREATED:20251027T210214Z
LAST-MODIFIED:20251027T210256Z
UID:10000191-1797323400-1797324600@haisla.ca
SUMMARY:Meditation
DESCRIPTION:
URL:https://haisla.ca/event/meditation/2026-12-15/
LOCATION:Haisla Health Centre\, 130 Owekeno Avenue\, Haisla\, British Columbia\, Canada
CATEGORIES:Health and Wellness
END:VEVENT
BEGIN:VEVENT
DTSTART;TZID=America/Vancouver:20261218T083000
DTEND;TZID=America/Vancouver:20261218T085000
DTSTAMP:20260422T044955
CREATED:20251027T210214Z
LAST-MODIFIED:20251027T210256Z
UID:10000192-1797582600-1797583800@haisla.ca
SUMMARY:Meditation
DESCRIPTION:
URL:https://haisla.ca/event/meditation/2026-12-18/
LOCATION:Haisla Health Centre\, 130 Owekeno Avenue\, Haisla\, British Columbia\, Canada
CATEGORIES:Health and Wellness
END:VEVENT
BEGIN:VEVENT
DTSTART;TZID=America/Vancouver:20261222T083000
DTEND;TZID=America/Vancouver:20261222T085000
DTSTAMP:20260422T044955
CREATED:20251027T210214Z
LAST-MODIFIED:20251027T210256Z
UID:10000193-1797928200-1797929400@haisla.ca
SUMMARY:Meditation
DESCRIPTION:
URL:https://haisla.ca/event/meditation/2026-12-22/
LOCATION:Haisla Health Centre\, 130 Owekeno Avenue\, Haisla\, British Columbia\, Canada
CATEGORIES:Health and Wellness
END:VEVENT
BEGIN:VEVENT
DTSTART;TZID=America/Vancouver:20261225T083000
DTEND;TZID=America/Vancouver:20261225T085000
DTSTAMP:20260422T044955
CREATED:20251027T210214Z
LAST-MODIFIED:20251027T210256Z
UID:10000194-1798187400-1798188600@haisla.ca
SUMMARY:Meditation
DESCRIPTION:
URL:https://haisla.ca/event/meditation/2026-12-25/
LOCATION:Haisla Health Centre\, 130 Owekeno Avenue\, Haisla\, British Columbia\, Canada
CATEGORIES:Health and Wellness
END:VEVENT
BEGIN:VEVENT
DTSTART;TZID=America/Vancouver:20261229T083000
DTEND;TZID=America/Vancouver:20261229T085000
DTSTAMP:20260422T044955
CREATED:20251027T210214Z
LAST-MODIFIED:20251027T210256Z
UID:10000195-1798533000-1798534200@haisla.ca
SUMMARY:Meditation
DESCRIPTION:
URL:https://haisla.ca/event/meditation/2026-12-29/
LOCATION:Haisla Health Centre\, 130 Owekeno Avenue\, Haisla\, British Columbia\, Canada
CATEGORIES:Health and Wellness
END:VEVENT
BEGIN:VEVENT
DTSTART;TZID=America/Vancouver:20270101T083000
DTEND;TZID=America/Vancouver:20270101T085000
DTSTAMP:20260422T044955
CREATED:20251027T210214Z
LAST-MODIFIED:20251027T210256Z
UID:10000196-1798792200-1798793400@haisla.ca
SUMMARY:Meditation
DESCRIPTION:
URL:https://haisla.ca/event/meditation/2027-01-01/
LOCATION:Haisla Health Centre\, 130 Owekeno Avenue\, Haisla\, British Columbia\, Canada
CATEGORIES:Health and Wellness
END:VEVENT
BEGIN:VEVENT
DTSTART;TZID=America/Vancouver:20270105T083000
DTEND;TZID=America/Vancouver:20270105T085000
DTSTAMP:20260422T044955
CREATED:20251027T210214Z
LAST-MODIFIED:20251027T210256Z
UID:10000197-1799137800-1799139000@haisla.ca
SUMMARY:Meditation
DESCRIPTION:
URL:https://haisla.ca/event/meditation/2027-01-05/
LOCATION:Haisla Health Centre\, 130 Owekeno Avenue\, Haisla\, British Columbia\, Canada
CATEGORIES:Health and Wellness
END:VEVENT
BEGIN:VEVENT
DTSTART;TZID=America/Vancouver:20270108T083000
DTEND;TZID=America/Vancouver:20270108T085000
DTSTAMP:20260422T044955
CREATED:20251027T210214Z
LAST-MODIFIED:20251027T210256Z
UID:10000198-1799397000-1799398200@haisla.ca
SUMMARY:Meditation
DESCRIPTION:
URL:https://haisla.ca/event/meditation/2027-01-08/
LOCATION:Haisla Health Centre\, 130 Owekeno Avenue\, Haisla\, British Columbia\, Canada
CATEGORIES:Health and Wellness
END:VEVENT
BEGIN:VEVENT
DTSTART;TZID=America/Vancouver:20270112T083000
DTEND;TZID=America/Vancouver:20270112T085000
DTSTAMP:20260422T044955
CREATED:20251027T210214Z
LAST-MODIFIED:20251027T210256Z
UID:10000199-1799742600-1799743800@haisla.ca
SUMMARY:Meditation
DESCRIPTION:
URL:https://haisla.ca/event/meditation/2027-01-12/
LOCATION:Haisla Health Centre\, 130 Owekeno Avenue\, Haisla\, British Columbia\, Canada
CATEGORIES:Health and Wellness
END:VEVENT
BEGIN:VEVENT
DTSTART;TZID=America/Vancouver:20270115T083000
DTEND;TZID=America/Vancouver:20270115T085000
DTSTAMP:20260422T044955
CREATED:20251027T210214Z
LAST-MODIFIED:20251027T210256Z
UID:10000200-1800001800-1800003000@haisla.ca
SUMMARY:Meditation
DESCRIPTION:
URL:https://haisla.ca/event/meditation/2027-01-15/
LOCATION:Haisla Health Centre\, 130 Owekeno Avenue\, Haisla\, British Columbia\, Canada
CATEGORIES:Health and Wellness
END:VEVENT
BEGIN:VEVENT
DTSTART;TZID=America/Vancouver:20270119T083000
DTEND;TZID=America/Vancouver:20270119T085000
DTSTAMP:20260422T044955
CREATED:20251027T210214Z
LAST-MODIFIED:20251027T210256Z
UID:10000201-1800347400-1800348600@haisla.ca
SUMMARY:Meditation
DESCRIPTION:
URL:https://haisla.ca/event/meditation/2027-01-19/
LOCATION:Haisla Health Centre\, 130 Owekeno Avenue\, Haisla\, British Columbia\, Canada
CATEGORIES:Health and Wellness
END:VEVENT
BEGIN:VEVENT
DTSTART;TZID=America/Vancouver:20270122T083000
DTEND;TZID=America/Vancouver:20270122T085000
DTSTAMP:20260422T044955
CREATED:20251027T210214Z
LAST-MODIFIED:20251027T210256Z
UID:10000202-1800606600-1800607800@haisla.ca
SUMMARY:Meditation
DESCRIPTION:
URL:https://haisla.ca/event/meditation/2027-01-22/
LOCATION:Haisla Health Centre\, 130 Owekeno Avenue\, Haisla\, British Columbia\, Canada
CATEGORIES:Health and Wellness
END:VEVENT
BEGIN:VEVENT
DTSTART;TZID=America/Vancouver:20270126T083000
DTEND;TZID=America/Vancouver:20270126T085000
DTSTAMP:20260422T044955
CREATED:20251027T210214Z
LAST-MODIFIED:20251027T210256Z
UID:10000203-1800952200-1800953400@haisla.ca
SUMMARY:Meditation
DESCRIPTION:
URL:https://haisla.ca/event/meditation/2027-01-26/
LOCATION:Haisla Health Centre\, 130 Owekeno Avenue\, Haisla\, British Columbia\, Canada
CATEGORIES:Health and Wellness
END:VEVENT
BEGIN:VEVENT
DTSTART;TZID=America/Vancouver:20270129T083000
DTEND;TZID=America/Vancouver:20270129T085000
DTSTAMP:20260422T044955
CREATED:20251027T210214Z
LAST-MODIFIED:20251027T210256Z
UID:10000204-1801211400-1801212600@haisla.ca
SUMMARY:Meditation
DESCRIPTION:
URL:https://haisla.ca/event/meditation/2027-01-29/
LOCATION:Haisla Health Centre\, 130 Owekeno Avenue\, Haisla\, British Columbia\, Canada
CATEGORIES:Health and Wellness
END:VEVENT
BEGIN:VEVENT
DTSTART;TZID=America/Vancouver:20270202T083000
DTEND;TZID=America/Vancouver:20270202T085000
DTSTAMP:20260422T044955
CREATED:20251027T210214Z
LAST-MODIFIED:20251027T210256Z
UID:10000205-1801557000-1801558200@haisla.ca
SUMMARY:Meditation
DESCRIPTION:
URL:https://haisla.ca/event/meditation/2027-02-02/
LOCATION:Haisla Health Centre\, 130 Owekeno Avenue\, Haisla\, British Columbia\, Canada
CATEGORIES:Health and Wellness
END:VEVENT
BEGIN:VEVENT
DTSTART;TZID=America/Vancouver:20270205T083000
DTEND;TZID=America/Vancouver:20270205T085000
DTSTAMP:20260422T044955
CREATED:20251027T210214Z
LAST-MODIFIED:20251027T210256Z
UID:10000206-1801816200-1801817400@haisla.ca
SUMMARY:Meditation
DESCRIPTION:
URL:https://haisla.ca/event/meditation/2027-02-05/
LOCATION:Haisla Health Centre\, 130 Owekeno Avenue\, Haisla\, British Columbia\, Canada
CATEGORIES:Health and Wellness
END:VEVENT
BEGIN:VEVENT
DTSTART;TZID=America/Vancouver:20270209T083000
DTEND;TZID=America/Vancouver:20270209T085000
DTSTAMP:20260422T044955
CREATED:20251027T210214Z
LAST-MODIFIED:20251027T210256Z
UID:10000207-1802161800-1802163000@haisla.ca
SUMMARY:Meditation
DESCRIPTION:
URL:https://haisla.ca/event/meditation/2027-02-09/
LOCATION:Haisla Health Centre\, 130 Owekeno Avenue\, Haisla\, British Columbia\, Canada
CATEGORIES:Health and Wellness
END:VEVENT
BEGIN:VEVENT
DTSTART;TZID=America/Vancouver:20270212T083000
DTEND;TZID=America/Vancouver:20270212T085000
DTSTAMP:20260422T044955
CREATED:20251027T210214Z
LAST-MODIFIED:20251027T210256Z
UID:10000208-1802421000-1802422200@haisla.ca
SUMMARY:Meditation
DESCRIPTION:
URL:https://haisla.ca/event/meditation/2027-02-12/
LOCATION:Haisla Health Centre\, 130 Owekeno Avenue\, Haisla\, British Columbia\, Canada
CATEGORIES:Health and Wellness
END:VEVENT
BEGIN:VEVENT
DTSTART;TZID=America/Vancouver:20270216T083000
DTEND;TZID=America/Vancouver:20270216T085000
DTSTAMP:20260422T044955
CREATED:20251027T210214Z
LAST-MODIFIED:20251027T210256Z
UID:10000209-1802766600-1802767800@haisla.ca
SUMMARY:Meditation
DESCRIPTION:
URL:https://haisla.ca/event/meditation/2027-02-16/
LOCATION:Haisla Health Centre\, 130 Owekeno Avenue\, Haisla\, British Columbia\, Canada
CATEGORIES:Health and Wellness
END:VEVENT
BEGIN:VEVENT
DTSTART;TZID=America/Vancouver:20270219T083000
DTEND;TZID=America/Vancouver:20270219T085000
DTSTAMP:20260422T044955
CREATED:20251027T210214Z
LAST-MODIFIED:20251027T210256Z
UID:10000210-1803025800-1803027000@haisla.ca
SUMMARY:Meditation
DESCRIPTION:
URL:https://haisla.ca/event/meditation/2027-02-19/
LOCATION:Haisla Health Centre\, 130 Owekeno Avenue\, Haisla\, British Columbia\, Canada
CATEGORIES:Health and Wellness
END:VEVENT
BEGIN:VEVENT
DTSTART;TZID=America/Vancouver:20270223T083000
DTEND;TZID=America/Vancouver:20270223T085000
DTSTAMP:20260422T044955
CREATED:20251027T210214Z
LAST-MODIFIED:20251027T210256Z
UID:10000211-1803371400-1803372600@haisla.ca
SUMMARY:Meditation
DESCRIPTION:
URL:https://haisla.ca/event/meditation/2027-02-23/
LOCATION:Haisla Health Centre\, 130 Owekeno Avenue\, Haisla\, British Columbia\, Canada
CATEGORIES:Health and Wellness
END:VEVENT
BEGIN:VEVENT
DTSTART;TZID=America/Vancouver:20270226T083000
DTEND;TZID=America/Vancouver:20270226T085000
DTSTAMP:20260422T044955
CREATED:20251027T210214Z
LAST-MODIFIED:20251027T210256Z
UID:10000212-1803630600-1803631800@haisla.ca
SUMMARY:Meditation
DESCRIPTION:
URL:https://haisla.ca/event/meditation/2027-02-26/
LOCATION:Haisla Health Centre\, 130 Owekeno Avenue\, Haisla\, British Columbia\, Canada
CATEGORIES:Health and Wellness
END:VEVENT
BEGIN:VEVENT
DTSTART;TZID=America/Vancouver:20270302T083000
DTEND;TZID=America/Vancouver:20270302T085000
DTSTAMP:20260422T044955
CREATED:20251027T210214Z
LAST-MODIFIED:20251027T210256Z
UID:10000213-1803976200-1803977400@haisla.ca
SUMMARY:Meditation
DESCRIPTION:
URL:https://haisla.ca/event/meditation/2027-03-02/
LOCATION:Haisla Health Centre\, 130 Owekeno Avenue\, Haisla\, British Columbia\, Canada
CATEGORIES:Health and Wellness
END:VEVENT
END:VCALENDAR