BEGIN:VCALENDAR
VERSION:2.0
PRODID:-//Haisla Nation - ECPv6.15.20//NONSGML v1.0//EN
CALSCALE:GREGORIAN
METHOD:PUBLISH
X-ORIGINAL-URL:https://haisla.ca
X-WR-CALDESC:Events for Haisla Nation
REFRESH-INTERVAL;VALUE=DURATION:PT1H
X-Robots-Tag:noindex
X-PUBLISHED-TTL:PT1H
BEGIN:VTIMEZONE
TZID:America/Vancouver
BEGIN:DAYLIGHT
TZOFFSETFROM:-0800
TZOFFSETTO:-0700
TZNAME:PDT
DTSTART:20270314T100000
END:DAYLIGHT
BEGIN:STANDARD
TZOFFSETFROM:-0700
TZOFFSETTO:-0800
TZNAME:PST
DTSTART:20271107T090000
END:STANDARD
BEGIN:DAYLIGHT
TZOFFSETFROM:-0800
TZOFFSETTO:-0700
TZNAME:PDT
DTSTART:20280312T100000
END:DAYLIGHT
BEGIN:STANDARD
TZOFFSETFROM:-0700
TZOFFSETTO:-0800
TZNAME:PST
DTSTART:20281105T090000
END:STANDARD
BEGIN:DAYLIGHT
TZOFFSETFROM:-0800
TZOFFSETTO:-0700
TZNAME:PDT
DTSTART:20290311T100000
END:DAYLIGHT
BEGIN:STANDARD
TZOFFSETFROM:-0700
TZOFFSETTO:-0800
TZNAME:PST
DTSTART:20291104T090000
END:STANDARD
END:VTIMEZONE
BEGIN:VEVENT
DTSTART;TZID=America/Vancouver:20280704T094500
DTEND;TZID=America/Vancouver:20280704T224000
DTSTAMP:20260425T201658
CREATED:20251027T210626Z
LAST-MODIFIED:20251027T210951Z
UID:10000876-1846316700-1846363200@haisla.ca
SUMMARY:Yoga For Wellness
DESCRIPTION:Gentle movement and mindfulness practices to support mental and physical well-being.
URL:https://haisla.ca/event/yoga-for-wellness/2028-07-04/
LOCATION:Haisla Health Centre\, 130 Owekeno Avenue\, Haisla\, British Columbia\, Canada
CATEGORIES:Health and Wellness
END:VEVENT
BEGIN:VEVENT
DTSTART;TZID=America/Vancouver:20280704T120000
DTEND;TZID=America/Vancouver:20280704T130000
DTSTAMP:20260425T201658
CREATED:20251027T211054Z
LAST-MODIFIED:20251027T211127Z
UID:10001920-1846324800-1846328400@haisla.ca
SUMMARY:Yoga For Wellness
DESCRIPTION:Gentle movement and mindfulness practices to support mental and physical well-being.
URL:https://haisla.ca/event/yoga-for-wellness-2/2028-07-04/
LOCATION:Haisla Health Centre\, 130 Owekeno Avenue\, Haisla\, British Columbia\, Canada
CATEGORIES:Health and Wellness
END:VEVENT
BEGIN:VEVENT
DTSTART;TZID=America/Vancouver:20280707T094500
DTEND;TZID=America/Vancouver:20280707T224000
DTSTAMP:20260425T201658
CREATED:20251027T210626Z
LAST-MODIFIED:20251027T210951Z
UID:10000877-1846575900-1846622400@haisla.ca
SUMMARY:Yoga For Wellness
DESCRIPTION:Gentle movement and mindfulness practices to support mental and physical well-being.
URL:https://haisla.ca/event/yoga-for-wellness/2028-07-07/
LOCATION:Haisla Health Centre\, 130 Owekeno Avenue\, Haisla\, British Columbia\, Canada
CATEGORIES:Health and Wellness
END:VEVENT
BEGIN:VEVENT
DTSTART;TZID=America/Vancouver:20280707T120000
DTEND;TZID=America/Vancouver:20280707T130000
DTSTAMP:20260425T201658
CREATED:20251027T211054Z
LAST-MODIFIED:20251027T211127Z
UID:10001921-1846584000-1846587600@haisla.ca
SUMMARY:Yoga For Wellness
DESCRIPTION:Gentle movement and mindfulness practices to support mental and physical well-being.
URL:https://haisla.ca/event/yoga-for-wellness-2/2028-07-07/
LOCATION:Haisla Health Centre\, 130 Owekeno Avenue\, Haisla\, British Columbia\, Canada
CATEGORIES:Health and Wellness
END:VEVENT
BEGIN:VEVENT
DTSTART;TZID=America/Vancouver:20280711T094500
DTEND;TZID=America/Vancouver:20280711T224000
DTSTAMP:20260425T201658
CREATED:20251027T210626Z
LAST-MODIFIED:20251027T210951Z
UID:10000878-1846921500-1846968000@haisla.ca
SUMMARY:Yoga For Wellness
DESCRIPTION:Gentle movement and mindfulness practices to support mental and physical well-being.
URL:https://haisla.ca/event/yoga-for-wellness/2028-07-11/
LOCATION:Haisla Health Centre\, 130 Owekeno Avenue\, Haisla\, British Columbia\, Canada
CATEGORIES:Health and Wellness
END:VEVENT
BEGIN:VEVENT
DTSTART;TZID=America/Vancouver:20280711T120000
DTEND;TZID=America/Vancouver:20280711T130000
DTSTAMP:20260425T201658
CREATED:20251027T211054Z
LAST-MODIFIED:20251027T211127Z
UID:10001922-1846929600-1846933200@haisla.ca
SUMMARY:Yoga For Wellness
DESCRIPTION:Gentle movement and mindfulness practices to support mental and physical well-being.
URL:https://haisla.ca/event/yoga-for-wellness-2/2028-07-11/
LOCATION:Haisla Health Centre\, 130 Owekeno Avenue\, Haisla\, British Columbia\, Canada
CATEGORIES:Health and Wellness
END:VEVENT
BEGIN:VEVENT
DTSTART;TZID=America/Vancouver:20280714T094500
DTEND;TZID=America/Vancouver:20280714T224000
DTSTAMP:20260425T201658
CREATED:20251027T210626Z
LAST-MODIFIED:20251027T210951Z
UID:10000879-1847180700-1847227200@haisla.ca
SUMMARY:Yoga For Wellness
DESCRIPTION:Gentle movement and mindfulness practices to support mental and physical well-being.
URL:https://haisla.ca/event/yoga-for-wellness/2028-07-14/
LOCATION:Haisla Health Centre\, 130 Owekeno Avenue\, Haisla\, British Columbia\, Canada
CATEGORIES:Health and Wellness
END:VEVENT
BEGIN:VEVENT
DTSTART;TZID=America/Vancouver:20280714T120000
DTEND;TZID=America/Vancouver:20280714T130000
DTSTAMP:20260425T201658
CREATED:20251027T211054Z
LAST-MODIFIED:20251027T211127Z
UID:10001923-1847188800-1847192400@haisla.ca
SUMMARY:Yoga For Wellness
DESCRIPTION:Gentle movement and mindfulness practices to support mental and physical well-being.
URL:https://haisla.ca/event/yoga-for-wellness-2/2028-07-14/
LOCATION:Haisla Health Centre\, 130 Owekeno Avenue\, Haisla\, British Columbia\, Canada
CATEGORIES:Health and Wellness
END:VEVENT
BEGIN:VEVENT
DTSTART;TZID=America/Vancouver:20280718T094500
DTEND;TZID=America/Vancouver:20280718T224000
DTSTAMP:20260425T201658
CREATED:20251027T210626Z
LAST-MODIFIED:20251027T210951Z
UID:10000880-1847526300-1847572800@haisla.ca
SUMMARY:Yoga For Wellness
DESCRIPTION:Gentle movement and mindfulness practices to support mental and physical well-being.
URL:https://haisla.ca/event/yoga-for-wellness/2028-07-18/
LOCATION:Haisla Health Centre\, 130 Owekeno Avenue\, Haisla\, British Columbia\, Canada
CATEGORIES:Health and Wellness
END:VEVENT
BEGIN:VEVENT
DTSTART;TZID=America/Vancouver:20280718T120000
DTEND;TZID=America/Vancouver:20280718T130000
DTSTAMP:20260425T201658
CREATED:20251027T211054Z
LAST-MODIFIED:20251027T211127Z
UID:10001924-1847534400-1847538000@haisla.ca
SUMMARY:Yoga For Wellness
DESCRIPTION:Gentle movement and mindfulness practices to support mental and physical well-being.
URL:https://haisla.ca/event/yoga-for-wellness-2/2028-07-18/
LOCATION:Haisla Health Centre\, 130 Owekeno Avenue\, Haisla\, British Columbia\, Canada
CATEGORIES:Health and Wellness
END:VEVENT
BEGIN:VEVENT
DTSTART;TZID=America/Vancouver:20280721T094500
DTEND;TZID=America/Vancouver:20280721T224000
DTSTAMP:20260425T201658
CREATED:20251027T210626Z
LAST-MODIFIED:20251027T210951Z
UID:10000881-1847785500-1847832000@haisla.ca
SUMMARY:Yoga For Wellness
DESCRIPTION:Gentle movement and mindfulness practices to support mental and physical well-being.
URL:https://haisla.ca/event/yoga-for-wellness/2028-07-21/
LOCATION:Haisla Health Centre\, 130 Owekeno Avenue\, Haisla\, British Columbia\, Canada
CATEGORIES:Health and Wellness
END:VEVENT
BEGIN:VEVENT
DTSTART;TZID=America/Vancouver:20280721T120000
DTEND;TZID=America/Vancouver:20280721T130000
DTSTAMP:20260425T201658
CREATED:20251027T211054Z
LAST-MODIFIED:20251027T211127Z
UID:10001925-1847793600-1847797200@haisla.ca
SUMMARY:Yoga For Wellness
DESCRIPTION:Gentle movement and mindfulness practices to support mental and physical well-being.
URL:https://haisla.ca/event/yoga-for-wellness-2/2028-07-21/
LOCATION:Haisla Health Centre\, 130 Owekeno Avenue\, Haisla\, British Columbia\, Canada
CATEGORIES:Health and Wellness
END:VEVENT
BEGIN:VEVENT
DTSTART;TZID=America/Vancouver:20280725T094500
DTEND;TZID=America/Vancouver:20280725T224000
DTSTAMP:20260425T201658
CREATED:20251027T210626Z
LAST-MODIFIED:20251027T210951Z
UID:10000882-1848131100-1848177600@haisla.ca
SUMMARY:Yoga For Wellness
DESCRIPTION:Gentle movement and mindfulness practices to support mental and physical well-being.
URL:https://haisla.ca/event/yoga-for-wellness/2028-07-25/
LOCATION:Haisla Health Centre\, 130 Owekeno Avenue\, Haisla\, British Columbia\, Canada
CATEGORIES:Health and Wellness
END:VEVENT
BEGIN:VEVENT
DTSTART;TZID=America/Vancouver:20280725T120000
DTEND;TZID=America/Vancouver:20280725T130000
DTSTAMP:20260425T201658
CREATED:20251027T211054Z
LAST-MODIFIED:20251027T211127Z
UID:10001926-1848139200-1848142800@haisla.ca
SUMMARY:Yoga For Wellness
DESCRIPTION:Gentle movement and mindfulness practices to support mental and physical well-being.
URL:https://haisla.ca/event/yoga-for-wellness-2/2028-07-25/
LOCATION:Haisla Health Centre\, 130 Owekeno Avenue\, Haisla\, British Columbia\, Canada
CATEGORIES:Health and Wellness
END:VEVENT
BEGIN:VEVENT
DTSTART;TZID=America/Vancouver:20280728T094500
DTEND;TZID=America/Vancouver:20280728T224000
DTSTAMP:20260425T201658
CREATED:20251027T210626Z
LAST-MODIFIED:20251027T210951Z
UID:10000883-1848390300-1848436800@haisla.ca
SUMMARY:Yoga For Wellness
DESCRIPTION:Gentle movement and mindfulness practices to support mental and physical well-being.
URL:https://haisla.ca/event/yoga-for-wellness/2028-07-28/
LOCATION:Haisla Health Centre\, 130 Owekeno Avenue\, Haisla\, British Columbia\, Canada
CATEGORIES:Health and Wellness
END:VEVENT
BEGIN:VEVENT
DTSTART;TZID=America/Vancouver:20280728T120000
DTEND;TZID=America/Vancouver:20280728T130000
DTSTAMP:20260425T201658
CREATED:20251027T211054Z
LAST-MODIFIED:20251027T211127Z
UID:10001927-1848398400-1848402000@haisla.ca
SUMMARY:Yoga For Wellness
DESCRIPTION:Gentle movement and mindfulness practices to support mental and physical well-being.
URL:https://haisla.ca/event/yoga-for-wellness-2/2028-07-28/
LOCATION:Haisla Health Centre\, 130 Owekeno Avenue\, Haisla\, British Columbia\, Canada
CATEGORIES:Health and Wellness
END:VEVENT
BEGIN:VEVENT
DTSTART;TZID=America/Vancouver:20280801T094500
DTEND;TZID=America/Vancouver:20280801T224000
DTSTAMP:20260425T201658
CREATED:20251027T210626Z
LAST-MODIFIED:20251027T210951Z
UID:10000884-1848735900-1848782400@haisla.ca
SUMMARY:Yoga For Wellness
DESCRIPTION:Gentle movement and mindfulness practices to support mental and physical well-being.
URL:https://haisla.ca/event/yoga-for-wellness/2028-08-01/
LOCATION:Haisla Health Centre\, 130 Owekeno Avenue\, Haisla\, British Columbia\, Canada
CATEGORIES:Health and Wellness
END:VEVENT
BEGIN:VEVENT
DTSTART;TZID=America/Vancouver:20280801T120000
DTEND;TZID=America/Vancouver:20280801T130000
DTSTAMP:20260425T201658
CREATED:20251027T211054Z
LAST-MODIFIED:20251027T211127Z
UID:10001928-1848744000-1848747600@haisla.ca
SUMMARY:Yoga For Wellness
DESCRIPTION:Gentle movement and mindfulness practices to support mental and physical well-being.
URL:https://haisla.ca/event/yoga-for-wellness-2/2028-08-01/
LOCATION:Haisla Health Centre\, 130 Owekeno Avenue\, Haisla\, British Columbia\, Canada
CATEGORIES:Health and Wellness
END:VEVENT
BEGIN:VEVENT
DTSTART;TZID=America/Vancouver:20280804T094500
DTEND;TZID=America/Vancouver:20280804T224000
DTSTAMP:20260425T201658
CREATED:20251027T210626Z
LAST-MODIFIED:20251027T210951Z
UID:10000885-1848995100-1849041600@haisla.ca
SUMMARY:Yoga For Wellness
DESCRIPTION:Gentle movement and mindfulness practices to support mental and physical well-being.
URL:https://haisla.ca/event/yoga-for-wellness/2028-08-04/
LOCATION:Haisla Health Centre\, 130 Owekeno Avenue\, Haisla\, British Columbia\, Canada
CATEGORIES:Health and Wellness
END:VEVENT
BEGIN:VEVENT
DTSTART;TZID=America/Vancouver:20280804T120000
DTEND;TZID=America/Vancouver:20280804T130000
DTSTAMP:20260425T201658
CREATED:20251027T211054Z
LAST-MODIFIED:20251027T211127Z
UID:10001929-1849003200-1849006800@haisla.ca
SUMMARY:Yoga For Wellness
DESCRIPTION:Gentle movement and mindfulness practices to support mental and physical well-being.
URL:https://haisla.ca/event/yoga-for-wellness-2/2028-08-04/
LOCATION:Haisla Health Centre\, 130 Owekeno Avenue\, Haisla\, British Columbia\, Canada
CATEGORIES:Health and Wellness
END:VEVENT
BEGIN:VEVENT
DTSTART;TZID=America/Vancouver:20280808T094500
DTEND;TZID=America/Vancouver:20280808T224000
DTSTAMP:20260425T201658
CREATED:20251027T210626Z
LAST-MODIFIED:20251027T210951Z
UID:10000886-1849340700-1849387200@haisla.ca
SUMMARY:Yoga For Wellness
DESCRIPTION:Gentle movement and mindfulness practices to support mental and physical well-being.
URL:https://haisla.ca/event/yoga-for-wellness/2028-08-08/
LOCATION:Haisla Health Centre\, 130 Owekeno Avenue\, Haisla\, British Columbia\, Canada
CATEGORIES:Health and Wellness
END:VEVENT
BEGIN:VEVENT
DTSTART;TZID=America/Vancouver:20280808T120000
DTEND;TZID=America/Vancouver:20280808T130000
DTSTAMP:20260425T201658
CREATED:20251027T211054Z
LAST-MODIFIED:20251027T211127Z
UID:10001930-1849348800-1849352400@haisla.ca
SUMMARY:Yoga For Wellness
DESCRIPTION:Gentle movement and mindfulness practices to support mental and physical well-being.
URL:https://haisla.ca/event/yoga-for-wellness-2/2028-08-08/
LOCATION:Haisla Health Centre\, 130 Owekeno Avenue\, Haisla\, British Columbia\, Canada
CATEGORIES:Health and Wellness
END:VEVENT
BEGIN:VEVENT
DTSTART;TZID=America/Vancouver:20280811T094500
DTEND;TZID=America/Vancouver:20280811T224000
DTSTAMP:20260425T201658
CREATED:20251027T210626Z
LAST-MODIFIED:20251027T210951Z
UID:10000887-1849599900-1849646400@haisla.ca
SUMMARY:Yoga For Wellness
DESCRIPTION:Gentle movement and mindfulness practices to support mental and physical well-being.
URL:https://haisla.ca/event/yoga-for-wellness/2028-08-11/
LOCATION:Haisla Health Centre\, 130 Owekeno Avenue\, Haisla\, British Columbia\, Canada
CATEGORIES:Health and Wellness
END:VEVENT
BEGIN:VEVENT
DTSTART;TZID=America/Vancouver:20280811T120000
DTEND;TZID=America/Vancouver:20280811T130000
DTSTAMP:20260425T201658
CREATED:20251027T211054Z
LAST-MODIFIED:20251027T211127Z
UID:10001931-1849608000-1849611600@haisla.ca
SUMMARY:Yoga For Wellness
DESCRIPTION:Gentle movement and mindfulness practices to support mental and physical well-being.
URL:https://haisla.ca/event/yoga-for-wellness-2/2028-08-11/
LOCATION:Haisla Health Centre\, 130 Owekeno Avenue\, Haisla\, British Columbia\, Canada
CATEGORIES:Health and Wellness
END:VEVENT
BEGIN:VEVENT
DTSTART;TZID=America/Vancouver:20280815T094500
DTEND;TZID=America/Vancouver:20280815T224000
DTSTAMP:20260425T201658
CREATED:20251027T210626Z
LAST-MODIFIED:20251027T210951Z
UID:10000888-1849945500-1849992000@haisla.ca
SUMMARY:Yoga For Wellness
DESCRIPTION:Gentle movement and mindfulness practices to support mental and physical well-being.
URL:https://haisla.ca/event/yoga-for-wellness/2028-08-15/
LOCATION:Haisla Health Centre\, 130 Owekeno Avenue\, Haisla\, British Columbia\, Canada
CATEGORIES:Health and Wellness
END:VEVENT
BEGIN:VEVENT
DTSTART;TZID=America/Vancouver:20280815T120000
DTEND;TZID=America/Vancouver:20280815T130000
DTSTAMP:20260425T201658
CREATED:20251027T211054Z
LAST-MODIFIED:20251027T211127Z
UID:10001932-1849953600-1849957200@haisla.ca
SUMMARY:Yoga For Wellness
DESCRIPTION:Gentle movement and mindfulness practices to support mental and physical well-being.
URL:https://haisla.ca/event/yoga-for-wellness-2/2028-08-15/
LOCATION:Haisla Health Centre\, 130 Owekeno Avenue\, Haisla\, British Columbia\, Canada
CATEGORIES:Health and Wellness
END:VEVENT
BEGIN:VEVENT
DTSTART;TZID=America/Vancouver:20280818T094500
DTEND;TZID=America/Vancouver:20280818T224000
DTSTAMP:20260425T201658
CREATED:20251027T210626Z
LAST-MODIFIED:20251027T210951Z
UID:10000889-1850204700-1850251200@haisla.ca
SUMMARY:Yoga For Wellness
DESCRIPTION:Gentle movement and mindfulness practices to support mental and physical well-being.
URL:https://haisla.ca/event/yoga-for-wellness/2028-08-18/
LOCATION:Haisla Health Centre\, 130 Owekeno Avenue\, Haisla\, British Columbia\, Canada
CATEGORIES:Health and Wellness
END:VEVENT
BEGIN:VEVENT
DTSTART;TZID=America/Vancouver:20280818T120000
DTEND;TZID=America/Vancouver:20280818T130000
DTSTAMP:20260425T201658
CREATED:20251027T211054Z
LAST-MODIFIED:20251027T211127Z
UID:10001933-1850212800-1850216400@haisla.ca
SUMMARY:Yoga For Wellness
DESCRIPTION:Gentle movement and mindfulness practices to support mental and physical well-being.
URL:https://haisla.ca/event/yoga-for-wellness-2/2028-08-18/
LOCATION:Haisla Health Centre\, 130 Owekeno Avenue\, Haisla\, British Columbia\, Canada
CATEGORIES:Health and Wellness
END:VEVENT
BEGIN:VEVENT
DTSTART;TZID=America/Vancouver:20280822T094500
DTEND;TZID=America/Vancouver:20280822T224000
DTSTAMP:20260425T201658
CREATED:20251027T210626Z
LAST-MODIFIED:20251027T210951Z
UID:10000890-1850550300-1850596800@haisla.ca
SUMMARY:Yoga For Wellness
DESCRIPTION:Gentle movement and mindfulness practices to support mental and physical well-being.
URL:https://haisla.ca/event/yoga-for-wellness/2028-08-22/
LOCATION:Haisla Health Centre\, 130 Owekeno Avenue\, Haisla\, British Columbia\, Canada
CATEGORIES:Health and Wellness
END:VEVENT
BEGIN:VEVENT
DTSTART;TZID=America/Vancouver:20280822T120000
DTEND;TZID=America/Vancouver:20280822T130000
DTSTAMP:20260425T201658
CREATED:20251027T211054Z
LAST-MODIFIED:20251027T211127Z
UID:10001934-1850558400-1850562000@haisla.ca
SUMMARY:Yoga For Wellness
DESCRIPTION:Gentle movement and mindfulness practices to support mental and physical well-being.
URL:https://haisla.ca/event/yoga-for-wellness-2/2028-08-22/
LOCATION:Haisla Health Centre\, 130 Owekeno Avenue\, Haisla\, British Columbia\, Canada
CATEGORIES:Health and Wellness
END:VEVENT
END:VCALENDAR