BEGIN:VCALENDAR
VERSION:2.0
PRODID:-//Haisla Nation - ECPv6.15.20//NONSGML v1.0//EN
CALSCALE:GREGORIAN
METHOD:PUBLISH
X-WR-CALNAME:Haisla Nation
X-ORIGINAL-URL:https://haisla.ca
X-WR-CALDESC:Events for Haisla Nation
REFRESH-INTERVAL;VALUE=DURATION:PT1H
X-Robots-Tag:noindex
X-PUBLISHED-TTL:PT1H
BEGIN:VTIMEZONE
TZID:America/Vancouver
BEGIN:DAYLIGHT
TZOFFSETFROM:-0800
TZOFFSETTO:-0700
TZNAME:PDT
DTSTART:20270314T100000
END:DAYLIGHT
BEGIN:STANDARD
TZOFFSETFROM:-0700
TZOFFSETTO:-0800
TZNAME:PST
DTSTART:20271107T090000
END:STANDARD
BEGIN:DAYLIGHT
TZOFFSETFROM:-0800
TZOFFSETTO:-0700
TZNAME:PDT
DTSTART:20280312T100000
END:DAYLIGHT
BEGIN:STANDARD
TZOFFSETFROM:-0700
TZOFFSETTO:-0800
TZNAME:PST
DTSTART:20281105T090000
END:STANDARD
BEGIN:DAYLIGHT
TZOFFSETFROM:-0800
TZOFFSETTO:-0700
TZNAME:PDT
DTSTART:20290311T100000
END:DAYLIGHT
BEGIN:STANDARD
TZOFFSETFROM:-0700
TZOFFSETTO:-0800
TZNAME:PST
DTSTART:20291104T090000
END:STANDARD
END:VTIMEZONE
BEGIN:VEVENT
DTSTART;TZID=America/Vancouver:20280502T094500
DTEND;TZID=America/Vancouver:20280502T224000
DTSTAMP:20260425T154306
CREATED:20251027T210626Z
LAST-MODIFIED:20251027T210951Z
UID:10000858-1840873500-1840920000@haisla.ca
SUMMARY:Yoga For Wellness
DESCRIPTION:Gentle movement and mindfulness practices to support mental and physical well-being.
URL:https://haisla.ca/event/yoga-for-wellness/2028-05-02/
LOCATION:Haisla Health Centre\, 130 Owekeno Avenue\, Haisla\, British Columbia\, Canada
CATEGORIES:Health and Wellness
END:VEVENT
BEGIN:VEVENT
DTSTART;TZID=America/Vancouver:20280502T120000
DTEND;TZID=America/Vancouver:20280502T130000
DTSTAMP:20260425T154306
CREATED:20251027T211054Z
LAST-MODIFIED:20251027T211127Z
UID:10001902-1840881600-1840885200@haisla.ca
SUMMARY:Yoga For Wellness
DESCRIPTION:Gentle movement and mindfulness practices to support mental and physical well-being.
URL:https://haisla.ca/event/yoga-for-wellness-2/2028-05-02/
LOCATION:Haisla Health Centre\, 130 Owekeno Avenue\, Haisla\, British Columbia\, Canada
CATEGORIES:Health and Wellness
END:VEVENT
BEGIN:VEVENT
DTSTART;TZID=America/Vancouver:20280505T094500
DTEND;TZID=America/Vancouver:20280505T224000
DTSTAMP:20260425T154306
CREATED:20251027T210626Z
LAST-MODIFIED:20251027T210951Z
UID:10000859-1841132700-1841179200@haisla.ca
SUMMARY:Yoga For Wellness
DESCRIPTION:Gentle movement and mindfulness practices to support mental and physical well-being.
URL:https://haisla.ca/event/yoga-for-wellness/2028-05-05/
LOCATION:Haisla Health Centre\, 130 Owekeno Avenue\, Haisla\, British Columbia\, Canada
CATEGORIES:Health and Wellness
END:VEVENT
BEGIN:VEVENT
DTSTART;TZID=America/Vancouver:20280505T120000
DTEND;TZID=America/Vancouver:20280505T130000
DTSTAMP:20260425T154306
CREATED:20251027T211054Z
LAST-MODIFIED:20251027T211127Z
UID:10001903-1841140800-1841144400@haisla.ca
SUMMARY:Yoga For Wellness
DESCRIPTION:Gentle movement and mindfulness practices to support mental and physical well-being.
URL:https://haisla.ca/event/yoga-for-wellness-2/2028-05-05/
LOCATION:Haisla Health Centre\, 130 Owekeno Avenue\, Haisla\, British Columbia\, Canada
CATEGORIES:Health and Wellness
END:VEVENT
BEGIN:VEVENT
DTSTART;TZID=America/Vancouver:20280509T094500
DTEND;TZID=America/Vancouver:20280509T224000
DTSTAMP:20260425T154306
CREATED:20251027T210626Z
LAST-MODIFIED:20251027T210951Z
UID:10000860-1841478300-1841524800@haisla.ca
SUMMARY:Yoga For Wellness
DESCRIPTION:Gentle movement and mindfulness practices to support mental and physical well-being.
URL:https://haisla.ca/event/yoga-for-wellness/2028-05-09/
LOCATION:Haisla Health Centre\, 130 Owekeno Avenue\, Haisla\, British Columbia\, Canada
CATEGORIES:Health and Wellness
END:VEVENT
BEGIN:VEVENT
DTSTART;TZID=America/Vancouver:20280509T120000
DTEND;TZID=America/Vancouver:20280509T130000
DTSTAMP:20260425T154306
CREATED:20251027T211054Z
LAST-MODIFIED:20251027T211127Z
UID:10001904-1841486400-1841490000@haisla.ca
SUMMARY:Yoga For Wellness
DESCRIPTION:Gentle movement and mindfulness practices to support mental and physical well-being.
URL:https://haisla.ca/event/yoga-for-wellness-2/2028-05-09/
LOCATION:Haisla Health Centre\, 130 Owekeno Avenue\, Haisla\, British Columbia\, Canada
CATEGORIES:Health and Wellness
END:VEVENT
BEGIN:VEVENT
DTSTART;TZID=America/Vancouver:20280512T094500
DTEND;TZID=America/Vancouver:20280512T224000
DTSTAMP:20260425T154306
CREATED:20251027T210626Z
LAST-MODIFIED:20251027T210951Z
UID:10000861-1841737500-1841784000@haisla.ca
SUMMARY:Yoga For Wellness
DESCRIPTION:Gentle movement and mindfulness practices to support mental and physical well-being.
URL:https://haisla.ca/event/yoga-for-wellness/2028-05-12/
LOCATION:Haisla Health Centre\, 130 Owekeno Avenue\, Haisla\, British Columbia\, Canada
CATEGORIES:Health and Wellness
END:VEVENT
BEGIN:VEVENT
DTSTART;TZID=America/Vancouver:20280512T120000
DTEND;TZID=America/Vancouver:20280512T130000
DTSTAMP:20260425T154306
CREATED:20251027T211054Z
LAST-MODIFIED:20251027T211127Z
UID:10001905-1841745600-1841749200@haisla.ca
SUMMARY:Yoga For Wellness
DESCRIPTION:Gentle movement and mindfulness practices to support mental and physical well-being.
URL:https://haisla.ca/event/yoga-for-wellness-2/2028-05-12/
LOCATION:Haisla Health Centre\, 130 Owekeno Avenue\, Haisla\, British Columbia\, Canada
CATEGORIES:Health and Wellness
END:VEVENT
BEGIN:VEVENT
DTSTART;TZID=America/Vancouver:20280516T094500
DTEND;TZID=America/Vancouver:20280516T224000
DTSTAMP:20260425T154306
CREATED:20251027T210626Z
LAST-MODIFIED:20251027T210951Z
UID:10000862-1842083100-1842129600@haisla.ca
SUMMARY:Yoga For Wellness
DESCRIPTION:Gentle movement and mindfulness practices to support mental and physical well-being.
URL:https://haisla.ca/event/yoga-for-wellness/2028-05-16/
LOCATION:Haisla Health Centre\, 130 Owekeno Avenue\, Haisla\, British Columbia\, Canada
CATEGORIES:Health and Wellness
END:VEVENT
BEGIN:VEVENT
DTSTART;TZID=America/Vancouver:20280516T120000
DTEND;TZID=America/Vancouver:20280516T130000
DTSTAMP:20260425T154306
CREATED:20251027T211054Z
LAST-MODIFIED:20251027T211127Z
UID:10001906-1842091200-1842094800@haisla.ca
SUMMARY:Yoga For Wellness
DESCRIPTION:Gentle movement and mindfulness practices to support mental and physical well-being.
URL:https://haisla.ca/event/yoga-for-wellness-2/2028-05-16/
LOCATION:Haisla Health Centre\, 130 Owekeno Avenue\, Haisla\, British Columbia\, Canada
CATEGORIES:Health and Wellness
END:VEVENT
BEGIN:VEVENT
DTSTART;TZID=America/Vancouver:20280519T094500
DTEND;TZID=America/Vancouver:20280519T224000
DTSTAMP:20260425T154306
CREATED:20251027T210626Z
LAST-MODIFIED:20251027T210951Z
UID:10000863-1842342300-1842388800@haisla.ca
SUMMARY:Yoga For Wellness
DESCRIPTION:Gentle movement and mindfulness practices to support mental and physical well-being.
URL:https://haisla.ca/event/yoga-for-wellness/2028-05-19/
LOCATION:Haisla Health Centre\, 130 Owekeno Avenue\, Haisla\, British Columbia\, Canada
CATEGORIES:Health and Wellness
END:VEVENT
BEGIN:VEVENT
DTSTART;TZID=America/Vancouver:20280519T120000
DTEND;TZID=America/Vancouver:20280519T130000
DTSTAMP:20260425T154306
CREATED:20251027T211054Z
LAST-MODIFIED:20251027T211127Z
UID:10001907-1842350400-1842354000@haisla.ca
SUMMARY:Yoga For Wellness
DESCRIPTION:Gentle movement and mindfulness practices to support mental and physical well-being.
URL:https://haisla.ca/event/yoga-for-wellness-2/2028-05-19/
LOCATION:Haisla Health Centre\, 130 Owekeno Avenue\, Haisla\, British Columbia\, Canada
CATEGORIES:Health and Wellness
END:VEVENT
BEGIN:VEVENT
DTSTART;TZID=America/Vancouver:20280523T094500
DTEND;TZID=America/Vancouver:20280523T224000
DTSTAMP:20260425T154306
CREATED:20251027T210626Z
LAST-MODIFIED:20251027T210951Z
UID:10000864-1842687900-1842734400@haisla.ca
SUMMARY:Yoga For Wellness
DESCRIPTION:Gentle movement and mindfulness practices to support mental and physical well-being.
URL:https://haisla.ca/event/yoga-for-wellness/2028-05-23/
LOCATION:Haisla Health Centre\, 130 Owekeno Avenue\, Haisla\, British Columbia\, Canada
CATEGORIES:Health and Wellness
END:VEVENT
BEGIN:VEVENT
DTSTART;TZID=America/Vancouver:20280523T120000
DTEND;TZID=America/Vancouver:20280523T130000
DTSTAMP:20260425T154306
CREATED:20251027T211054Z
LAST-MODIFIED:20251027T211127Z
UID:10001908-1842696000-1842699600@haisla.ca
SUMMARY:Yoga For Wellness
DESCRIPTION:Gentle movement and mindfulness practices to support mental and physical well-being.
URL:https://haisla.ca/event/yoga-for-wellness-2/2028-05-23/
LOCATION:Haisla Health Centre\, 130 Owekeno Avenue\, Haisla\, British Columbia\, Canada
CATEGORIES:Health and Wellness
END:VEVENT
BEGIN:VEVENT
DTSTART;TZID=America/Vancouver:20280526T094500
DTEND;TZID=America/Vancouver:20280526T224000
DTSTAMP:20260425T154306
CREATED:20251027T210626Z
LAST-MODIFIED:20251027T210951Z
UID:10000865-1842947100-1842993600@haisla.ca
SUMMARY:Yoga For Wellness
DESCRIPTION:Gentle movement and mindfulness practices to support mental and physical well-being.
URL:https://haisla.ca/event/yoga-for-wellness/2028-05-26/
LOCATION:Haisla Health Centre\, 130 Owekeno Avenue\, Haisla\, British Columbia\, Canada
CATEGORIES:Health and Wellness
END:VEVENT
BEGIN:VEVENT
DTSTART;TZID=America/Vancouver:20280526T120000
DTEND;TZID=America/Vancouver:20280526T130000
DTSTAMP:20260425T154306
CREATED:20251027T211054Z
LAST-MODIFIED:20251027T211127Z
UID:10001909-1842955200-1842958800@haisla.ca
SUMMARY:Yoga For Wellness
DESCRIPTION:Gentle movement and mindfulness practices to support mental and physical well-being.
URL:https://haisla.ca/event/yoga-for-wellness-2/2028-05-26/
LOCATION:Haisla Health Centre\, 130 Owekeno Avenue\, Haisla\, British Columbia\, Canada
CATEGORIES:Health and Wellness
END:VEVENT
BEGIN:VEVENT
DTSTART;TZID=America/Vancouver:20280530T094500
DTEND;TZID=America/Vancouver:20280530T224000
DTSTAMP:20260425T154306
CREATED:20251027T210626Z
LAST-MODIFIED:20251027T210951Z
UID:10000866-1843292700-1843339200@haisla.ca
SUMMARY:Yoga For Wellness
DESCRIPTION:Gentle movement and mindfulness practices to support mental and physical well-being.
URL:https://haisla.ca/event/yoga-for-wellness/2028-05-30/
LOCATION:Haisla Health Centre\, 130 Owekeno Avenue\, Haisla\, British Columbia\, Canada
CATEGORIES:Health and Wellness
END:VEVENT
BEGIN:VEVENT
DTSTART;TZID=America/Vancouver:20280530T120000
DTEND;TZID=America/Vancouver:20280530T130000
DTSTAMP:20260425T154306
CREATED:20251027T211054Z
LAST-MODIFIED:20251027T211127Z
UID:10001910-1843300800-1843304400@haisla.ca
SUMMARY:Yoga For Wellness
DESCRIPTION:Gentle movement and mindfulness practices to support mental and physical well-being.
URL:https://haisla.ca/event/yoga-for-wellness-2/2028-05-30/
LOCATION:Haisla Health Centre\, 130 Owekeno Avenue\, Haisla\, British Columbia\, Canada
CATEGORIES:Health and Wellness
END:VEVENT
BEGIN:VEVENT
DTSTART;TZID=America/Vancouver:20280602T094500
DTEND;TZID=America/Vancouver:20280602T224000
DTSTAMP:20260425T154306
CREATED:20251027T210626Z
LAST-MODIFIED:20251027T210951Z
UID:10000867-1843551900-1843598400@haisla.ca
SUMMARY:Yoga For Wellness
DESCRIPTION:Gentle movement and mindfulness practices to support mental and physical well-being.
URL:https://haisla.ca/event/yoga-for-wellness/2028-06-02/
LOCATION:Haisla Health Centre\, 130 Owekeno Avenue\, Haisla\, British Columbia\, Canada
CATEGORIES:Health and Wellness
END:VEVENT
BEGIN:VEVENT
DTSTART;TZID=America/Vancouver:20280602T120000
DTEND;TZID=America/Vancouver:20280602T130000
DTSTAMP:20260425T154306
CREATED:20251027T211054Z
LAST-MODIFIED:20251027T211127Z
UID:10001911-1843560000-1843563600@haisla.ca
SUMMARY:Yoga For Wellness
DESCRIPTION:Gentle movement and mindfulness practices to support mental and physical well-being.
URL:https://haisla.ca/event/yoga-for-wellness-2/2028-06-02/
LOCATION:Haisla Health Centre\, 130 Owekeno Avenue\, Haisla\, British Columbia\, Canada
CATEGORIES:Health and Wellness
END:VEVENT
BEGIN:VEVENT
DTSTART;TZID=America/Vancouver:20280606T094500
DTEND;TZID=America/Vancouver:20280606T224000
DTSTAMP:20260425T154306
CREATED:20251027T210626Z
LAST-MODIFIED:20251027T210951Z
UID:10000868-1843897500-1843944000@haisla.ca
SUMMARY:Yoga For Wellness
DESCRIPTION:Gentle movement and mindfulness practices to support mental and physical well-being.
URL:https://haisla.ca/event/yoga-for-wellness/2028-06-06/
LOCATION:Haisla Health Centre\, 130 Owekeno Avenue\, Haisla\, British Columbia\, Canada
CATEGORIES:Health and Wellness
END:VEVENT
BEGIN:VEVENT
DTSTART;TZID=America/Vancouver:20280606T120000
DTEND;TZID=America/Vancouver:20280606T130000
DTSTAMP:20260425T154307
CREATED:20251027T211054Z
LAST-MODIFIED:20251027T211127Z
UID:10001912-1843905600-1843909200@haisla.ca
SUMMARY:Yoga For Wellness
DESCRIPTION:Gentle movement and mindfulness practices to support mental and physical well-being.
URL:https://haisla.ca/event/yoga-for-wellness-2/2028-06-06/
LOCATION:Haisla Health Centre\, 130 Owekeno Avenue\, Haisla\, British Columbia\, Canada
CATEGORIES:Health and Wellness
END:VEVENT
BEGIN:VEVENT
DTSTART;TZID=America/Vancouver:20280609T094500
DTEND;TZID=America/Vancouver:20280609T224000
DTSTAMP:20260425T154307
CREATED:20251027T210626Z
LAST-MODIFIED:20251027T210951Z
UID:10000869-1844156700-1844203200@haisla.ca
SUMMARY:Yoga For Wellness
DESCRIPTION:Gentle movement and mindfulness practices to support mental and physical well-being.
URL:https://haisla.ca/event/yoga-for-wellness/2028-06-09/
LOCATION:Haisla Health Centre\, 130 Owekeno Avenue\, Haisla\, British Columbia\, Canada
CATEGORIES:Health and Wellness
END:VEVENT
BEGIN:VEVENT
DTSTART;TZID=America/Vancouver:20280609T120000
DTEND;TZID=America/Vancouver:20280609T130000
DTSTAMP:20260425T154307
CREATED:20251027T211054Z
LAST-MODIFIED:20251027T211127Z
UID:10001913-1844164800-1844168400@haisla.ca
SUMMARY:Yoga For Wellness
DESCRIPTION:Gentle movement and mindfulness practices to support mental and physical well-being.
URL:https://haisla.ca/event/yoga-for-wellness-2/2028-06-09/
LOCATION:Haisla Health Centre\, 130 Owekeno Avenue\, Haisla\, British Columbia\, Canada
CATEGORIES:Health and Wellness
END:VEVENT
BEGIN:VEVENT
DTSTART;TZID=America/Vancouver:20280613T094500
DTEND;TZID=America/Vancouver:20280613T224000
DTSTAMP:20260425T154307
CREATED:20251027T210626Z
LAST-MODIFIED:20251027T210951Z
UID:10000870-1844502300-1844548800@haisla.ca
SUMMARY:Yoga For Wellness
DESCRIPTION:Gentle movement and mindfulness practices to support mental and physical well-being.
URL:https://haisla.ca/event/yoga-for-wellness/2028-06-13/
LOCATION:Haisla Health Centre\, 130 Owekeno Avenue\, Haisla\, British Columbia\, Canada
CATEGORIES:Health and Wellness
END:VEVENT
BEGIN:VEVENT
DTSTART;TZID=America/Vancouver:20280613T120000
DTEND;TZID=America/Vancouver:20280613T130000
DTSTAMP:20260425T154307
CREATED:20251027T211054Z
LAST-MODIFIED:20251027T211127Z
UID:10001914-1844510400-1844514000@haisla.ca
SUMMARY:Yoga For Wellness
DESCRIPTION:Gentle movement and mindfulness practices to support mental and physical well-being.
URL:https://haisla.ca/event/yoga-for-wellness-2/2028-06-13/
LOCATION:Haisla Health Centre\, 130 Owekeno Avenue\, Haisla\, British Columbia\, Canada
CATEGORIES:Health and Wellness
END:VEVENT
BEGIN:VEVENT
DTSTART;TZID=America/Vancouver:20280616T094500
DTEND;TZID=America/Vancouver:20280616T224000
DTSTAMP:20260425T154307
CREATED:20251027T210626Z
LAST-MODIFIED:20251027T210951Z
UID:10000871-1844761500-1844808000@haisla.ca
SUMMARY:Yoga For Wellness
DESCRIPTION:Gentle movement and mindfulness practices to support mental and physical well-being.
URL:https://haisla.ca/event/yoga-for-wellness/2028-06-16/
LOCATION:Haisla Health Centre\, 130 Owekeno Avenue\, Haisla\, British Columbia\, Canada
CATEGORIES:Health and Wellness
END:VEVENT
BEGIN:VEVENT
DTSTART;TZID=America/Vancouver:20280616T120000
DTEND;TZID=America/Vancouver:20280616T130000
DTSTAMP:20260425T154307
CREATED:20251027T211054Z
LAST-MODIFIED:20251027T211127Z
UID:10001915-1844769600-1844773200@haisla.ca
SUMMARY:Yoga For Wellness
DESCRIPTION:Gentle movement and mindfulness practices to support mental and physical well-being.
URL:https://haisla.ca/event/yoga-for-wellness-2/2028-06-16/
LOCATION:Haisla Health Centre\, 130 Owekeno Avenue\, Haisla\, British Columbia\, Canada
CATEGORIES:Health and Wellness
END:VEVENT
BEGIN:VEVENT
DTSTART;TZID=America/Vancouver:20280620T094500
DTEND;TZID=America/Vancouver:20280620T224000
DTSTAMP:20260425T154307
CREATED:20251027T210626Z
LAST-MODIFIED:20251027T210951Z
UID:10000872-1845107100-1845153600@haisla.ca
SUMMARY:Yoga For Wellness
DESCRIPTION:Gentle movement and mindfulness practices to support mental and physical well-being.
URL:https://haisla.ca/event/yoga-for-wellness/2028-06-20/
LOCATION:Haisla Health Centre\, 130 Owekeno Avenue\, Haisla\, British Columbia\, Canada
CATEGORIES:Health and Wellness
END:VEVENT
BEGIN:VEVENT
DTSTART;TZID=America/Vancouver:20280620T120000
DTEND;TZID=America/Vancouver:20280620T130000
DTSTAMP:20260425T154307
CREATED:20251027T211054Z
LAST-MODIFIED:20251027T211127Z
UID:10001916-1845115200-1845118800@haisla.ca
SUMMARY:Yoga For Wellness
DESCRIPTION:Gentle movement and mindfulness practices to support mental and physical well-being.
URL:https://haisla.ca/event/yoga-for-wellness-2/2028-06-20/
LOCATION:Haisla Health Centre\, 130 Owekeno Avenue\, Haisla\, British Columbia\, Canada
CATEGORIES:Health and Wellness
END:VEVENT
END:VCALENDAR