BEGIN:VCALENDAR
VERSION:2.0
PRODID:-//Haisla Nation - ECPv6.15.20//NONSGML v1.0//EN
CALSCALE:GREGORIAN
METHOD:PUBLISH
X-WR-CALNAME:Haisla Nation
X-ORIGINAL-URL:https://haisla.ca
X-WR-CALDESC:Events for Haisla Nation
REFRESH-INTERVAL;VALUE=DURATION:PT1H
X-Robots-Tag:noindex
X-PUBLISHED-TTL:PT1H
BEGIN:VTIMEZONE
TZID:America/Vancouver
BEGIN:DAYLIGHT
TZOFFSETFROM:-0800
TZOFFSETTO:-0700
TZNAME:PDT
DTSTART:20270314T100000
END:DAYLIGHT
BEGIN:STANDARD
TZOFFSETFROM:-0700
TZOFFSETTO:-0800
TZNAME:PST
DTSTART:20271107T090000
END:STANDARD
BEGIN:DAYLIGHT
TZOFFSETFROM:-0800
TZOFFSETTO:-0700
TZNAME:PDT
DTSTART:20280312T100000
END:DAYLIGHT
BEGIN:STANDARD
TZOFFSETFROM:-0700
TZOFFSETTO:-0800
TZNAME:PST
DTSTART:20281105T090000
END:STANDARD
BEGIN:DAYLIGHT
TZOFFSETFROM:-0800
TZOFFSETTO:-0700
TZNAME:PDT
DTSTART:20290311T100000
END:DAYLIGHT
BEGIN:STANDARD
TZOFFSETFROM:-0700
TZOFFSETTO:-0800
TZNAME:PST
DTSTART:20291104T090000
END:STANDARD
END:VTIMEZONE
BEGIN:VEVENT
DTSTART;TZID=America/Vancouver:20280321T094500
DTEND;TZID=America/Vancouver:20280321T224000
DTSTAMP:20260425T123508
CREATED:20251027T210626Z
LAST-MODIFIED:20251027T210951Z
UID:10000846-1837244700-1837291200@haisla.ca
SUMMARY:Yoga For Wellness
DESCRIPTION:Gentle movement and mindfulness practices to support mental and physical well-being.
URL:https://haisla.ca/event/yoga-for-wellness/2028-03-21/
LOCATION:Haisla Health Centre\, 130 Owekeno Avenue\, Haisla\, British Columbia\, Canada
CATEGORIES:Health and Wellness
END:VEVENT
BEGIN:VEVENT
DTSTART;TZID=America/Vancouver:20280321T120000
DTEND;TZID=America/Vancouver:20280321T130000
DTSTAMP:20260425T123508
CREATED:20251027T211054Z
LAST-MODIFIED:20251027T211127Z
UID:10001890-1837252800-1837256400@haisla.ca
SUMMARY:Yoga For Wellness
DESCRIPTION:Gentle movement and mindfulness practices to support mental and physical well-being.
URL:https://haisla.ca/event/yoga-for-wellness-2/2028-03-21/
LOCATION:Haisla Health Centre\, 130 Owekeno Avenue\, Haisla\, British Columbia\, Canada
CATEGORIES:Health and Wellness
END:VEVENT
BEGIN:VEVENT
DTSTART;TZID=America/Vancouver:20280324T094500
DTEND;TZID=America/Vancouver:20280324T224000
DTSTAMP:20260425T123508
CREATED:20251027T210626Z
LAST-MODIFIED:20251027T210951Z
UID:10000847-1837503900-1837550400@haisla.ca
SUMMARY:Yoga For Wellness
DESCRIPTION:Gentle movement and mindfulness practices to support mental and physical well-being.
URL:https://haisla.ca/event/yoga-for-wellness/2028-03-24/
LOCATION:Haisla Health Centre\, 130 Owekeno Avenue\, Haisla\, British Columbia\, Canada
CATEGORIES:Health and Wellness
END:VEVENT
BEGIN:VEVENT
DTSTART;TZID=America/Vancouver:20280324T120000
DTEND;TZID=America/Vancouver:20280324T130000
DTSTAMP:20260425T123508
CREATED:20251027T211054Z
LAST-MODIFIED:20251027T211127Z
UID:10001891-1837512000-1837515600@haisla.ca
SUMMARY:Yoga For Wellness
DESCRIPTION:Gentle movement and mindfulness practices to support mental and physical well-being.
URL:https://haisla.ca/event/yoga-for-wellness-2/2028-03-24/
LOCATION:Haisla Health Centre\, 130 Owekeno Avenue\, Haisla\, British Columbia\, Canada
CATEGORIES:Health and Wellness
END:VEVENT
BEGIN:VEVENT
DTSTART;TZID=America/Vancouver:20280328T094500
DTEND;TZID=America/Vancouver:20280328T224000
DTSTAMP:20260425T123508
CREATED:20251027T210626Z
LAST-MODIFIED:20251027T210951Z
UID:10000848-1837849500-1837896000@haisla.ca
SUMMARY:Yoga For Wellness
DESCRIPTION:Gentle movement and mindfulness practices to support mental and physical well-being.
URL:https://haisla.ca/event/yoga-for-wellness/2028-03-28/
LOCATION:Haisla Health Centre\, 130 Owekeno Avenue\, Haisla\, British Columbia\, Canada
CATEGORIES:Health and Wellness
END:VEVENT
BEGIN:VEVENT
DTSTART;TZID=America/Vancouver:20280328T120000
DTEND;TZID=America/Vancouver:20280328T130000
DTSTAMP:20260425T123508
CREATED:20251027T211054Z
LAST-MODIFIED:20251027T211127Z
UID:10001892-1837857600-1837861200@haisla.ca
SUMMARY:Yoga For Wellness
DESCRIPTION:Gentle movement and mindfulness practices to support mental and physical well-being.
URL:https://haisla.ca/event/yoga-for-wellness-2/2028-03-28/
LOCATION:Haisla Health Centre\, 130 Owekeno Avenue\, Haisla\, British Columbia\, Canada
CATEGORIES:Health and Wellness
END:VEVENT
BEGIN:VEVENT
DTSTART;TZID=America/Vancouver:20280331T094500
DTEND;TZID=America/Vancouver:20280331T224000
DTSTAMP:20260425T123508
CREATED:20251027T210626Z
LAST-MODIFIED:20251027T210951Z
UID:10000849-1838108700-1838155200@haisla.ca
SUMMARY:Yoga For Wellness
DESCRIPTION:Gentle movement and mindfulness practices to support mental and physical well-being.
URL:https://haisla.ca/event/yoga-for-wellness/2028-03-31/
LOCATION:Haisla Health Centre\, 130 Owekeno Avenue\, Haisla\, British Columbia\, Canada
CATEGORIES:Health and Wellness
END:VEVENT
BEGIN:VEVENT
DTSTART;TZID=America/Vancouver:20280331T120000
DTEND;TZID=America/Vancouver:20280331T130000
DTSTAMP:20260425T123508
CREATED:20251027T211054Z
LAST-MODIFIED:20251027T211127Z
UID:10001893-1838116800-1838120400@haisla.ca
SUMMARY:Yoga For Wellness
DESCRIPTION:Gentle movement and mindfulness practices to support mental and physical well-being.
URL:https://haisla.ca/event/yoga-for-wellness-2/2028-03-31/
LOCATION:Haisla Health Centre\, 130 Owekeno Avenue\, Haisla\, British Columbia\, Canada
CATEGORIES:Health and Wellness
END:VEVENT
BEGIN:VEVENT
DTSTART;TZID=America/Vancouver:20280404T094500
DTEND;TZID=America/Vancouver:20280404T224000
DTSTAMP:20260425T123508
CREATED:20251027T210626Z
LAST-MODIFIED:20251027T210951Z
UID:10000850-1838454300-1838500800@haisla.ca
SUMMARY:Yoga For Wellness
DESCRIPTION:Gentle movement and mindfulness practices to support mental and physical well-being.
URL:https://haisla.ca/event/yoga-for-wellness/2028-04-04/
LOCATION:Haisla Health Centre\, 130 Owekeno Avenue\, Haisla\, British Columbia\, Canada
CATEGORIES:Health and Wellness
END:VEVENT
BEGIN:VEVENT
DTSTART;TZID=America/Vancouver:20280404T120000
DTEND;TZID=America/Vancouver:20280404T130000
DTSTAMP:20260425T123508
CREATED:20251027T211054Z
LAST-MODIFIED:20251027T211127Z
UID:10001894-1838462400-1838466000@haisla.ca
SUMMARY:Yoga For Wellness
DESCRIPTION:Gentle movement and mindfulness practices to support mental and physical well-being.
URL:https://haisla.ca/event/yoga-for-wellness-2/2028-04-04/
LOCATION:Haisla Health Centre\, 130 Owekeno Avenue\, Haisla\, British Columbia\, Canada
CATEGORIES:Health and Wellness
END:VEVENT
BEGIN:VEVENT
DTSTART;TZID=America/Vancouver:20280407T094500
DTEND;TZID=America/Vancouver:20280407T224000
DTSTAMP:20260425T123508
CREATED:20251027T210626Z
LAST-MODIFIED:20251027T210951Z
UID:10000851-1838713500-1838760000@haisla.ca
SUMMARY:Yoga For Wellness
DESCRIPTION:Gentle movement and mindfulness practices to support mental and physical well-being.
URL:https://haisla.ca/event/yoga-for-wellness/2028-04-07/
LOCATION:Haisla Health Centre\, 130 Owekeno Avenue\, Haisla\, British Columbia\, Canada
CATEGORIES:Health and Wellness
END:VEVENT
BEGIN:VEVENT
DTSTART;TZID=America/Vancouver:20280407T120000
DTEND;TZID=America/Vancouver:20280407T130000
DTSTAMP:20260425T123508
CREATED:20251027T211054Z
LAST-MODIFIED:20251027T211127Z
UID:10001895-1838721600-1838725200@haisla.ca
SUMMARY:Yoga For Wellness
DESCRIPTION:Gentle movement and mindfulness practices to support mental and physical well-being.
URL:https://haisla.ca/event/yoga-for-wellness-2/2028-04-07/
LOCATION:Haisla Health Centre\, 130 Owekeno Avenue\, Haisla\, British Columbia\, Canada
CATEGORIES:Health and Wellness
END:VEVENT
BEGIN:VEVENT
DTSTART;TZID=America/Vancouver:20280411T094500
DTEND;TZID=America/Vancouver:20280411T224000
DTSTAMP:20260425T123508
CREATED:20251027T210626Z
LAST-MODIFIED:20251027T210951Z
UID:10000852-1839059100-1839105600@haisla.ca
SUMMARY:Yoga For Wellness
DESCRIPTION:Gentle movement and mindfulness practices to support mental and physical well-being.
URL:https://haisla.ca/event/yoga-for-wellness/2028-04-11/
LOCATION:Haisla Health Centre\, 130 Owekeno Avenue\, Haisla\, British Columbia\, Canada
CATEGORIES:Health and Wellness
END:VEVENT
BEGIN:VEVENT
DTSTART;TZID=America/Vancouver:20280411T120000
DTEND;TZID=America/Vancouver:20280411T130000
DTSTAMP:20260425T123508
CREATED:20251027T211054Z
LAST-MODIFIED:20251027T211127Z
UID:10001896-1839067200-1839070800@haisla.ca
SUMMARY:Yoga For Wellness
DESCRIPTION:Gentle movement and mindfulness practices to support mental and physical well-being.
URL:https://haisla.ca/event/yoga-for-wellness-2/2028-04-11/
LOCATION:Haisla Health Centre\, 130 Owekeno Avenue\, Haisla\, British Columbia\, Canada
CATEGORIES:Health and Wellness
END:VEVENT
BEGIN:VEVENT
DTSTART;TZID=America/Vancouver:20280414T094500
DTEND;TZID=America/Vancouver:20280414T224000
DTSTAMP:20260425T123508
CREATED:20251027T210626Z
LAST-MODIFIED:20251027T210951Z
UID:10000853-1839318300-1839364800@haisla.ca
SUMMARY:Yoga For Wellness
DESCRIPTION:Gentle movement and mindfulness practices to support mental and physical well-being.
URL:https://haisla.ca/event/yoga-for-wellness/2028-04-14/
LOCATION:Haisla Health Centre\, 130 Owekeno Avenue\, Haisla\, British Columbia\, Canada
CATEGORIES:Health and Wellness
END:VEVENT
BEGIN:VEVENT
DTSTART;TZID=America/Vancouver:20280414T120000
DTEND;TZID=America/Vancouver:20280414T130000
DTSTAMP:20260425T123508
CREATED:20251027T211054Z
LAST-MODIFIED:20251027T211127Z
UID:10001897-1839326400-1839330000@haisla.ca
SUMMARY:Yoga For Wellness
DESCRIPTION:Gentle movement and mindfulness practices to support mental and physical well-being.
URL:https://haisla.ca/event/yoga-for-wellness-2/2028-04-14/
LOCATION:Haisla Health Centre\, 130 Owekeno Avenue\, Haisla\, British Columbia\, Canada
CATEGORIES:Health and Wellness
END:VEVENT
BEGIN:VEVENT
DTSTART;TZID=America/Vancouver:20280418T094500
DTEND;TZID=America/Vancouver:20280418T224000
DTSTAMP:20260425T123508
CREATED:20251027T210626Z
LAST-MODIFIED:20251027T210951Z
UID:10000854-1839663900-1839710400@haisla.ca
SUMMARY:Yoga For Wellness
DESCRIPTION:Gentle movement and mindfulness practices to support mental and physical well-being.
URL:https://haisla.ca/event/yoga-for-wellness/2028-04-18/
LOCATION:Haisla Health Centre\, 130 Owekeno Avenue\, Haisla\, British Columbia\, Canada
CATEGORIES:Health and Wellness
END:VEVENT
BEGIN:VEVENT
DTSTART;TZID=America/Vancouver:20280418T120000
DTEND;TZID=America/Vancouver:20280418T130000
DTSTAMP:20260425T123508
CREATED:20251027T211054Z
LAST-MODIFIED:20251027T211127Z
UID:10001898-1839672000-1839675600@haisla.ca
SUMMARY:Yoga For Wellness
DESCRIPTION:Gentle movement and mindfulness practices to support mental and physical well-being.
URL:https://haisla.ca/event/yoga-for-wellness-2/2028-04-18/
LOCATION:Haisla Health Centre\, 130 Owekeno Avenue\, Haisla\, British Columbia\, Canada
CATEGORIES:Health and Wellness
END:VEVENT
BEGIN:VEVENT
DTSTART;TZID=America/Vancouver:20280421T094500
DTEND;TZID=America/Vancouver:20280421T224000
DTSTAMP:20260425T123508
CREATED:20251027T210626Z
LAST-MODIFIED:20251027T210951Z
UID:10000855-1839923100-1839969600@haisla.ca
SUMMARY:Yoga For Wellness
DESCRIPTION:Gentle movement and mindfulness practices to support mental and physical well-being.
URL:https://haisla.ca/event/yoga-for-wellness/2028-04-21/
LOCATION:Haisla Health Centre\, 130 Owekeno Avenue\, Haisla\, British Columbia\, Canada
CATEGORIES:Health and Wellness
END:VEVENT
BEGIN:VEVENT
DTSTART;TZID=America/Vancouver:20280421T120000
DTEND;TZID=America/Vancouver:20280421T130000
DTSTAMP:20260425T123508
CREATED:20251027T211054Z
LAST-MODIFIED:20251027T211127Z
UID:10001899-1839931200-1839934800@haisla.ca
SUMMARY:Yoga For Wellness
DESCRIPTION:Gentle movement and mindfulness practices to support mental and physical well-being.
URL:https://haisla.ca/event/yoga-for-wellness-2/2028-04-21/
LOCATION:Haisla Health Centre\, 130 Owekeno Avenue\, Haisla\, British Columbia\, Canada
CATEGORIES:Health and Wellness
END:VEVENT
BEGIN:VEVENT
DTSTART;TZID=America/Vancouver:20280425T094500
DTEND;TZID=America/Vancouver:20280425T224000
DTSTAMP:20260425T123508
CREATED:20251027T210626Z
LAST-MODIFIED:20251027T210951Z
UID:10000856-1840268700-1840315200@haisla.ca
SUMMARY:Yoga For Wellness
DESCRIPTION:Gentle movement and mindfulness practices to support mental and physical well-being.
URL:https://haisla.ca/event/yoga-for-wellness/2028-04-25/
LOCATION:Haisla Health Centre\, 130 Owekeno Avenue\, Haisla\, British Columbia\, Canada
CATEGORIES:Health and Wellness
END:VEVENT
BEGIN:VEVENT
DTSTART;TZID=America/Vancouver:20280425T120000
DTEND;TZID=America/Vancouver:20280425T130000
DTSTAMP:20260425T123508
CREATED:20251027T211054Z
LAST-MODIFIED:20251027T211127Z
UID:10001900-1840276800-1840280400@haisla.ca
SUMMARY:Yoga For Wellness
DESCRIPTION:Gentle movement and mindfulness practices to support mental and physical well-being.
URL:https://haisla.ca/event/yoga-for-wellness-2/2028-04-25/
LOCATION:Haisla Health Centre\, 130 Owekeno Avenue\, Haisla\, British Columbia\, Canada
CATEGORIES:Health and Wellness
END:VEVENT
BEGIN:VEVENT
DTSTART;TZID=America/Vancouver:20280428T094500
DTEND;TZID=America/Vancouver:20280428T224000
DTSTAMP:20260425T123508
CREATED:20251027T210626Z
LAST-MODIFIED:20251027T210951Z
UID:10000857-1840527900-1840574400@haisla.ca
SUMMARY:Yoga For Wellness
DESCRIPTION:Gentle movement and mindfulness practices to support mental and physical well-being.
URL:https://haisla.ca/event/yoga-for-wellness/2028-04-28/
LOCATION:Haisla Health Centre\, 130 Owekeno Avenue\, Haisla\, British Columbia\, Canada
CATEGORIES:Health and Wellness
END:VEVENT
BEGIN:VEVENT
DTSTART;TZID=America/Vancouver:20280428T120000
DTEND;TZID=America/Vancouver:20280428T130000
DTSTAMP:20260425T123508
CREATED:20251027T211054Z
LAST-MODIFIED:20251027T211127Z
UID:10001901-1840536000-1840539600@haisla.ca
SUMMARY:Yoga For Wellness
DESCRIPTION:Gentle movement and mindfulness practices to support mental and physical well-being.
URL:https://haisla.ca/event/yoga-for-wellness-2/2028-04-28/
LOCATION:Haisla Health Centre\, 130 Owekeno Avenue\, Haisla\, British Columbia\, Canada
CATEGORIES:Health and Wellness
END:VEVENT
BEGIN:VEVENT
DTSTART;TZID=America/Vancouver:20280502T094500
DTEND;TZID=America/Vancouver:20280502T224000
DTSTAMP:20260425T123508
CREATED:20251027T210626Z
LAST-MODIFIED:20251027T210951Z
UID:10000858-1840873500-1840920000@haisla.ca
SUMMARY:Yoga For Wellness
DESCRIPTION:Gentle movement and mindfulness practices to support mental and physical well-being.
URL:https://haisla.ca/event/yoga-for-wellness/2028-05-02/
LOCATION:Haisla Health Centre\, 130 Owekeno Avenue\, Haisla\, British Columbia\, Canada
CATEGORIES:Health and Wellness
END:VEVENT
BEGIN:VEVENT
DTSTART;TZID=America/Vancouver:20280502T120000
DTEND;TZID=America/Vancouver:20280502T130000
DTSTAMP:20260425T123508
CREATED:20251027T211054Z
LAST-MODIFIED:20251027T211127Z
UID:10001902-1840881600-1840885200@haisla.ca
SUMMARY:Yoga For Wellness
DESCRIPTION:Gentle movement and mindfulness practices to support mental and physical well-being.
URL:https://haisla.ca/event/yoga-for-wellness-2/2028-05-02/
LOCATION:Haisla Health Centre\, 130 Owekeno Avenue\, Haisla\, British Columbia\, Canada
CATEGORIES:Health and Wellness
END:VEVENT
BEGIN:VEVENT
DTSTART;TZID=America/Vancouver:20280505T094500
DTEND;TZID=America/Vancouver:20280505T224000
DTSTAMP:20260425T123508
CREATED:20251027T210626Z
LAST-MODIFIED:20251027T210951Z
UID:10000859-1841132700-1841179200@haisla.ca
SUMMARY:Yoga For Wellness
DESCRIPTION:Gentle movement and mindfulness practices to support mental and physical well-being.
URL:https://haisla.ca/event/yoga-for-wellness/2028-05-05/
LOCATION:Haisla Health Centre\, 130 Owekeno Avenue\, Haisla\, British Columbia\, Canada
CATEGORIES:Health and Wellness
END:VEVENT
BEGIN:VEVENT
DTSTART;TZID=America/Vancouver:20280505T120000
DTEND;TZID=America/Vancouver:20280505T130000
DTSTAMP:20260425T123508
CREATED:20251027T211054Z
LAST-MODIFIED:20251027T211127Z
UID:10001903-1841140800-1841144400@haisla.ca
SUMMARY:Yoga For Wellness
DESCRIPTION:Gentle movement and mindfulness practices to support mental and physical well-being.
URL:https://haisla.ca/event/yoga-for-wellness-2/2028-05-05/
LOCATION:Haisla Health Centre\, 130 Owekeno Avenue\, Haisla\, British Columbia\, Canada
CATEGORIES:Health and Wellness
END:VEVENT
BEGIN:VEVENT
DTSTART;TZID=America/Vancouver:20280509T094500
DTEND;TZID=America/Vancouver:20280509T224000
DTSTAMP:20260425T123508
CREATED:20251027T210626Z
LAST-MODIFIED:20251027T210951Z
UID:10000860-1841478300-1841524800@haisla.ca
SUMMARY:Yoga For Wellness
DESCRIPTION:Gentle movement and mindfulness practices to support mental and physical well-being.
URL:https://haisla.ca/event/yoga-for-wellness/2028-05-09/
LOCATION:Haisla Health Centre\, 130 Owekeno Avenue\, Haisla\, British Columbia\, Canada
CATEGORIES:Health and Wellness
END:VEVENT
BEGIN:VEVENT
DTSTART;TZID=America/Vancouver:20280509T120000
DTEND;TZID=America/Vancouver:20280509T130000
DTSTAMP:20260425T123508
CREATED:20251027T211054Z
LAST-MODIFIED:20251027T211127Z
UID:10001904-1841486400-1841490000@haisla.ca
SUMMARY:Yoga For Wellness
DESCRIPTION:Gentle movement and mindfulness practices to support mental and physical well-being.
URL:https://haisla.ca/event/yoga-for-wellness-2/2028-05-09/
LOCATION:Haisla Health Centre\, 130 Owekeno Avenue\, Haisla\, British Columbia\, Canada
CATEGORIES:Health and Wellness
END:VEVENT
END:VCALENDAR