BEGIN:VCALENDAR
VERSION:2.0
PRODID:-//Haisla Nation - ECPv6.15.20//NONSGML v1.0//EN
CALSCALE:GREGORIAN
METHOD:PUBLISH
X-WR-CALNAME:Haisla Nation
X-ORIGINAL-URL:https://haisla.ca
X-WR-CALDESC:Events for Haisla Nation
REFRESH-INTERVAL;VALUE=DURATION:PT1H
X-Robots-Tag:noindex
X-PUBLISHED-TTL:PT1H
BEGIN:VTIMEZONE
TZID:America/Vancouver
BEGIN:DAYLIGHT
TZOFFSETFROM:-0800
TZOFFSETTO:-0700
TZNAME:PDT
DTSTART:20250309T100000
END:DAYLIGHT
BEGIN:STANDARD
TZOFFSETFROM:-0700
TZOFFSETTO:-0800
TZNAME:PST
DTSTART:20251102T090000
END:STANDARD
BEGIN:DAYLIGHT
TZOFFSETFROM:-0800
TZOFFSETTO:-0700
TZNAME:PDT
DTSTART:20260308T100000
END:DAYLIGHT
BEGIN:STANDARD
TZOFFSETFROM:-0700
TZOFFSETTO:-0800
TZNAME:PST
DTSTART:20261101T090000
END:STANDARD
BEGIN:DAYLIGHT
TZOFFSETFROM:-0800
TZOFFSETTO:-0700
TZNAME:PDT
DTSTART:20270314T100000
END:DAYLIGHT
BEGIN:STANDARD
TZOFFSETFROM:-0700
TZOFFSETTO:-0800
TZNAME:PST
DTSTART:20271107T090000
END:STANDARD
BEGIN:DAYLIGHT
TZOFFSETFROM:-0800
TZOFFSETTO:-0700
TZNAME:PDT
DTSTART:20280312T100000
END:DAYLIGHT
BEGIN:STANDARD
TZOFFSETFROM:-0700
TZOFFSETTO:-0800
TZNAME:PST
DTSTART:20281105T090000
END:STANDARD
END:VTIMEZONE
BEGIN:VEVENT
DTSTART;TZID=America/Vancouver:20261005T180000
DTEND;TZID=America/Vancouver:20261005T200000
DTSTAMP:20260419T235848
CREATED:20251027T204629Z
LAST-MODIFIED:20251027T204629Z
UID:10000063-1791223200-1791230400@haisla.ca
SUMMARY:Wellbriety Women's Group
DESCRIPTION:A culturally grounded recovery group rooted in Indigenous teachings and the Medicine Wheel.
URL:https://haisla.ca/event/wellbriety-womens-group/2026-10-05/
CATEGORIES:Health and Wellness
END:VEVENT
BEGIN:VEVENT
DTSTART;TZID=America/Vancouver:20261012T180000
DTEND;TZID=America/Vancouver:20261012T200000
DTSTAMP:20260419T235848
CREATED:20251027T204629Z
LAST-MODIFIED:20251027T204629Z
UID:10000064-1791828000-1791835200@haisla.ca
SUMMARY:Wellbriety Women's Group
DESCRIPTION:A culturally grounded recovery group rooted in Indigenous teachings and the Medicine Wheel.
URL:https://haisla.ca/event/wellbriety-womens-group/2026-10-12/
CATEGORIES:Health and Wellness
END:VEVENT
BEGIN:VEVENT
DTSTART;TZID=America/Vancouver:20261019T180000
DTEND;TZID=America/Vancouver:20261019T200000
DTSTAMP:20260419T235848
CREATED:20251027T204629Z
LAST-MODIFIED:20251027T204629Z
UID:10000065-1792432800-1792440000@haisla.ca
SUMMARY:Wellbriety Women's Group
DESCRIPTION:A culturally grounded recovery group rooted in Indigenous teachings and the Medicine Wheel.
URL:https://haisla.ca/event/wellbriety-womens-group/2026-10-19/
CATEGORIES:Health and Wellness
END:VEVENT
BEGIN:VEVENT
DTSTART;TZID=America/Vancouver:20261026T180000
DTEND;TZID=America/Vancouver:20261026T200000
DTSTAMP:20260419T235848
CREATED:20251027T204629Z
LAST-MODIFIED:20251027T204629Z
UID:10000066-1793037600-1793044800@haisla.ca
SUMMARY:Wellbriety Women's Group
DESCRIPTION:A culturally grounded recovery group rooted in Indigenous teachings and the Medicine Wheel.
URL:https://haisla.ca/event/wellbriety-womens-group/2026-10-26/
CATEGORIES:Health and Wellness
END:VEVENT
BEGIN:VEVENT
DTSTART;TZID=America/Vancouver:20261102T180000
DTEND;TZID=America/Vancouver:20261102T200000
DTSTAMP:20260419T235848
CREATED:20251027T204629Z
LAST-MODIFIED:20251027T204629Z
UID:10000067-1793642400-1793649600@haisla.ca
SUMMARY:Wellbriety Women's Group
DESCRIPTION:A culturally grounded recovery group rooted in Indigenous teachings and the Medicine Wheel.
URL:https://haisla.ca/event/wellbriety-womens-group/2026-11-02/
CATEGORIES:Health and Wellness
END:VEVENT
BEGIN:VEVENT
DTSTART;TZID=America/Vancouver:20261109T180000
DTEND;TZID=America/Vancouver:20261109T200000
DTSTAMP:20260419T235848
CREATED:20251027T204629Z
LAST-MODIFIED:20251027T204629Z
UID:10000068-1794247200-1794254400@haisla.ca
SUMMARY:Wellbriety Women's Group
DESCRIPTION:A culturally grounded recovery group rooted in Indigenous teachings and the Medicine Wheel.
URL:https://haisla.ca/event/wellbriety-womens-group/2026-11-09/
CATEGORIES:Health and Wellness
END:VEVENT
BEGIN:VEVENT
DTSTART;TZID=America/Vancouver:20261116T180000
DTEND;TZID=America/Vancouver:20261116T200000
DTSTAMP:20260419T235848
CREATED:20251027T204629Z
LAST-MODIFIED:20251027T204629Z
UID:10000069-1794852000-1794859200@haisla.ca
SUMMARY:Wellbriety Women's Group
DESCRIPTION:A culturally grounded recovery group rooted in Indigenous teachings and the Medicine Wheel.
URL:https://haisla.ca/event/wellbriety-womens-group/2026-11-16/
CATEGORIES:Health and Wellness
END:VEVENT
BEGIN:VEVENT
DTSTART;TZID=America/Vancouver:20261123T180000
DTEND;TZID=America/Vancouver:20261123T200000
DTSTAMP:20260419T235848
CREATED:20251027T204629Z
LAST-MODIFIED:20251027T204629Z
UID:10000070-1795456800-1795464000@haisla.ca
SUMMARY:Wellbriety Women's Group
DESCRIPTION:A culturally grounded recovery group rooted in Indigenous teachings and the Medicine Wheel.
URL:https://haisla.ca/event/wellbriety-womens-group/2026-11-23/
CATEGORIES:Health and Wellness
END:VEVENT
BEGIN:VEVENT
DTSTART;TZID=America/Vancouver:20261130T180000
DTEND;TZID=America/Vancouver:20261130T200000
DTSTAMP:20260419T235848
CREATED:20251027T204629Z
LAST-MODIFIED:20251027T204629Z
UID:10000071-1796061600-1796068800@haisla.ca
SUMMARY:Wellbriety Women's Group
DESCRIPTION:A culturally grounded recovery group rooted in Indigenous teachings and the Medicine Wheel.
URL:https://haisla.ca/event/wellbriety-womens-group/2026-11-30/
CATEGORIES:Health and Wellness
END:VEVENT
BEGIN:VEVENT
DTSTART;TZID=America/Vancouver:20261207T180000
DTEND;TZID=America/Vancouver:20261207T200000
DTSTAMP:20260419T235848
CREATED:20251027T204629Z
LAST-MODIFIED:20251027T204629Z
UID:10000072-1796666400-1796673600@haisla.ca
SUMMARY:Wellbriety Women's Group
DESCRIPTION:A culturally grounded recovery group rooted in Indigenous teachings and the Medicine Wheel.
URL:https://haisla.ca/event/wellbriety-womens-group/2026-12-07/
CATEGORIES:Health and Wellness
END:VEVENT
BEGIN:VEVENT
DTSTART;TZID=America/Vancouver:20261214T180000
DTEND;TZID=America/Vancouver:20261214T200000
DTSTAMP:20260419T235848
CREATED:20251027T204629Z
LAST-MODIFIED:20251027T204629Z
UID:10000073-1797271200-1797278400@haisla.ca
SUMMARY:Wellbriety Women's Group
DESCRIPTION:A culturally grounded recovery group rooted in Indigenous teachings and the Medicine Wheel.
URL:https://haisla.ca/event/wellbriety-womens-group/2026-12-14/
CATEGORIES:Health and Wellness
END:VEVENT
BEGIN:VEVENT
DTSTART;TZID=America/Vancouver:20261221T180000
DTEND;TZID=America/Vancouver:20261221T200000
DTSTAMP:20260419T235848
CREATED:20251027T204629Z
LAST-MODIFIED:20251027T204629Z
UID:10000074-1797876000-1797883200@haisla.ca
SUMMARY:Wellbriety Women's Group
DESCRIPTION:A culturally grounded recovery group rooted in Indigenous teachings and the Medicine Wheel.
URL:https://haisla.ca/event/wellbriety-womens-group/2026-12-21/
CATEGORIES:Health and Wellness
END:VEVENT
BEGIN:VEVENT
DTSTART;TZID=America/Vancouver:20261228T180000
DTEND;TZID=America/Vancouver:20261228T200000
DTSTAMP:20260419T235848
CREATED:20251027T204629Z
LAST-MODIFIED:20251027T204629Z
UID:10000075-1798480800-1798488000@haisla.ca
SUMMARY:Wellbriety Women's Group
DESCRIPTION:A culturally grounded recovery group rooted in Indigenous teachings and the Medicine Wheel.
URL:https://haisla.ca/event/wellbriety-womens-group/2026-12-28/
CATEGORIES:Health and Wellness
END:VEVENT
BEGIN:VEVENT
DTSTART;TZID=America/Vancouver:20270104T180000
DTEND;TZID=America/Vancouver:20270104T200000
DTSTAMP:20260419T235848
CREATED:20251027T204629Z
LAST-MODIFIED:20251027T204629Z
UID:10000076-1799085600-1799092800@haisla.ca
SUMMARY:Wellbriety Women's Group
DESCRIPTION:A culturally grounded recovery group rooted in Indigenous teachings and the Medicine Wheel.
URL:https://haisla.ca/event/wellbriety-womens-group/2027-01-04/
CATEGORIES:Health and Wellness
END:VEVENT
BEGIN:VEVENT
DTSTART;TZID=America/Vancouver:20270111T180000
DTEND;TZID=America/Vancouver:20270111T200000
DTSTAMP:20260419T235848
CREATED:20251027T204629Z
LAST-MODIFIED:20251027T204629Z
UID:10000077-1799690400-1799697600@haisla.ca
SUMMARY:Wellbriety Women's Group
DESCRIPTION:A culturally grounded recovery group rooted in Indigenous teachings and the Medicine Wheel.
URL:https://haisla.ca/event/wellbriety-womens-group/2027-01-11/
CATEGORIES:Health and Wellness
END:VEVENT
END:VCALENDAR