BEGIN:VCALENDAR
VERSION:2.0
PRODID:-//Haisla Nation - ECPv6.15.20//NONSGML v1.0//EN
CALSCALE:GREGORIAN
METHOD:PUBLISH
X-WR-CALNAME:Haisla Nation
X-ORIGINAL-URL:https://haisla.ca
X-WR-CALDESC:Events for Haisla Nation
REFRESH-INTERVAL;VALUE=DURATION:PT1H
X-Robots-Tag:noindex
X-PUBLISHED-TTL:PT1H
BEGIN:VTIMEZONE
TZID:America/Vancouver
BEGIN:DAYLIGHT
TZOFFSETFROM:-0800
TZOFFSETTO:-0700
TZNAME:PDT
DTSTART:20280312T100000
END:DAYLIGHT
BEGIN:STANDARD
TZOFFSETFROM:-0700
TZOFFSETTO:-0800
TZNAME:PST
DTSTART:20281105T090000
END:STANDARD
BEGIN:DAYLIGHT
TZOFFSETFROM:-0800
TZOFFSETTO:-0700
TZNAME:PDT
DTSTART:20290311T100000
END:DAYLIGHT
BEGIN:STANDARD
TZOFFSETFROM:-0700
TZOFFSETTO:-0800
TZNAME:PST
DTSTART:20291104T090000
END:STANDARD
BEGIN:DAYLIGHT
TZOFFSETFROM:-0800
TZOFFSETTO:-0700
TZNAME:PDT
DTSTART:20300310T100000
END:DAYLIGHT
BEGIN:STANDARD
TZOFFSETFROM:-0700
TZOFFSETTO:-0800
TZNAME:PST
DTSTART:20301103T090000
END:STANDARD
END:VTIMEZONE
BEGIN:VEVENT
DTSTART;TZID=America/Vancouver:20290717T083000
DTEND;TZID=America/Vancouver:20290717T085000
DTSTAMP:20260425T212856
CREATED:20251027T210214Z
LAST-MODIFIED:20251027T210256Z
UID:10000461-1878971400-1878972600@haisla.ca
SUMMARY:Meditation
DESCRIPTION:
URL:https://haisla.ca/event/meditation/2029-07-17/
LOCATION:Haisla Health Centre\, 130 Owekeno Avenue\, Haisla\, British Columbia\, Canada
CATEGORIES:Health and Wellness
END:VEVENT
BEGIN:VEVENT
DTSTART;TZID=America/Vancouver:20290720T083000
DTEND;TZID=America/Vancouver:20290720T085000
DTSTAMP:20260425T212856
CREATED:20251027T210214Z
LAST-MODIFIED:20251027T210256Z
UID:10000462-1879230600-1879231800@haisla.ca
SUMMARY:Meditation
DESCRIPTION:
URL:https://haisla.ca/event/meditation/2029-07-20/
LOCATION:Haisla Health Centre\, 130 Owekeno Avenue\, Haisla\, British Columbia\, Canada
CATEGORIES:Health and Wellness
END:VEVENT
BEGIN:VEVENT
DTSTART;TZID=America/Vancouver:20290724T083000
DTEND;TZID=America/Vancouver:20290724T085000
DTSTAMP:20260425T212856
CREATED:20251027T210214Z
LAST-MODIFIED:20251027T210256Z
UID:10000463-1879576200-1879577400@haisla.ca
SUMMARY:Meditation
DESCRIPTION:
URL:https://haisla.ca/event/meditation/2029-07-24/
LOCATION:Haisla Health Centre\, 130 Owekeno Avenue\, Haisla\, British Columbia\, Canada
CATEGORIES:Health and Wellness
END:VEVENT
BEGIN:VEVENT
DTSTART;TZID=America/Vancouver:20290727T083000
DTEND;TZID=America/Vancouver:20290727T085000
DTSTAMP:20260425T212856
CREATED:20251027T210214Z
LAST-MODIFIED:20251027T210256Z
UID:10000464-1879835400-1879836600@haisla.ca
SUMMARY:Meditation
DESCRIPTION:
URL:https://haisla.ca/event/meditation/2029-07-27/
LOCATION:Haisla Health Centre\, 130 Owekeno Avenue\, Haisla\, British Columbia\, Canada
CATEGORIES:Health and Wellness
END:VEVENT
BEGIN:VEVENT
DTSTART;TZID=America/Vancouver:20290731T083000
DTEND;TZID=America/Vancouver:20290731T085000
DTSTAMP:20260425T212856
CREATED:20251027T210214Z
LAST-MODIFIED:20251027T210256Z
UID:10000465-1880181000-1880182200@haisla.ca
SUMMARY:Meditation
DESCRIPTION:
URL:https://haisla.ca/event/meditation/2029-07-31/
LOCATION:Haisla Health Centre\, 130 Owekeno Avenue\, Haisla\, British Columbia\, Canada
CATEGORIES:Health and Wellness
END:VEVENT
BEGIN:VEVENT
DTSTART;TZID=America/Vancouver:20290803T083000
DTEND;TZID=America/Vancouver:20290803T085000
DTSTAMP:20260425T212856
CREATED:20251027T210214Z
LAST-MODIFIED:20251027T210256Z
UID:10000466-1880440200-1880441400@haisla.ca
SUMMARY:Meditation
DESCRIPTION:
URL:https://haisla.ca/event/meditation/2029-08-03/
LOCATION:Haisla Health Centre\, 130 Owekeno Avenue\, Haisla\, British Columbia\, Canada
CATEGORIES:Health and Wellness
END:VEVENT
BEGIN:VEVENT
DTSTART;TZID=America/Vancouver:20290807T083000
DTEND;TZID=America/Vancouver:20290807T085000
DTSTAMP:20260425T212856
CREATED:20251027T210214Z
LAST-MODIFIED:20251027T210256Z
UID:10000467-1880785800-1880787000@haisla.ca
SUMMARY:Meditation
DESCRIPTION:
URL:https://haisla.ca/event/meditation/2029-08-07/
LOCATION:Haisla Health Centre\, 130 Owekeno Avenue\, Haisla\, British Columbia\, Canada
CATEGORIES:Health and Wellness
END:VEVENT
BEGIN:VEVENT
DTSTART;TZID=America/Vancouver:20290810T083000
DTEND;TZID=America/Vancouver:20290810T085000
DTSTAMP:20260425T212856
CREATED:20251027T210214Z
LAST-MODIFIED:20251027T210256Z
UID:10000468-1881045000-1881046200@haisla.ca
SUMMARY:Meditation
DESCRIPTION:
URL:https://haisla.ca/event/meditation/2029-08-10/
LOCATION:Haisla Health Centre\, 130 Owekeno Avenue\, Haisla\, British Columbia\, Canada
CATEGORIES:Health and Wellness
END:VEVENT
BEGIN:VEVENT
DTSTART;TZID=America/Vancouver:20290814T083000
DTEND;TZID=America/Vancouver:20290814T085000
DTSTAMP:20260425T212856
CREATED:20251027T210214Z
LAST-MODIFIED:20251027T210256Z
UID:10000469-1881390600-1881391800@haisla.ca
SUMMARY:Meditation
DESCRIPTION:
URL:https://haisla.ca/event/meditation/2029-08-14/
LOCATION:Haisla Health Centre\, 130 Owekeno Avenue\, Haisla\, British Columbia\, Canada
CATEGORIES:Health and Wellness
END:VEVENT
BEGIN:VEVENT
DTSTART;TZID=America/Vancouver:20290817T083000
DTEND;TZID=America/Vancouver:20290817T085000
DTSTAMP:20260425T212856
CREATED:20251027T210214Z
LAST-MODIFIED:20251027T210256Z
UID:10000470-1881649800-1881651000@haisla.ca
SUMMARY:Meditation
DESCRIPTION:
URL:https://haisla.ca/event/meditation/2029-08-17/
LOCATION:Haisla Health Centre\, 130 Owekeno Avenue\, Haisla\, British Columbia\, Canada
CATEGORIES:Health and Wellness
END:VEVENT
BEGIN:VEVENT
DTSTART;TZID=America/Vancouver:20290821T083000
DTEND;TZID=America/Vancouver:20290821T085000
DTSTAMP:20260425T212856
CREATED:20251027T210214Z
LAST-MODIFIED:20251027T210256Z
UID:10000471-1881995400-1881996600@haisla.ca
SUMMARY:Meditation
DESCRIPTION:
URL:https://haisla.ca/event/meditation/2029-08-21/
LOCATION:Haisla Health Centre\, 130 Owekeno Avenue\, Haisla\, British Columbia\, Canada
CATEGORIES:Health and Wellness
END:VEVENT
BEGIN:VEVENT
DTSTART;TZID=America/Vancouver:20290824T083000
DTEND;TZID=America/Vancouver:20290824T085000
DTSTAMP:20260425T212856
CREATED:20251027T210214Z
LAST-MODIFIED:20251027T210256Z
UID:10000472-1882254600-1882255800@haisla.ca
SUMMARY:Meditation
DESCRIPTION:
URL:https://haisla.ca/event/meditation/2029-08-24/
LOCATION:Haisla Health Centre\, 130 Owekeno Avenue\, Haisla\, British Columbia\, Canada
CATEGORIES:Health and Wellness
END:VEVENT
BEGIN:VEVENT
DTSTART;TZID=America/Vancouver:20290828T083000
DTEND;TZID=America/Vancouver:20290828T085000
DTSTAMP:20260425T212856
CREATED:20251027T210214Z
LAST-MODIFIED:20251027T210256Z
UID:10000473-1882600200-1882601400@haisla.ca
SUMMARY:Meditation
DESCRIPTION:
URL:https://haisla.ca/event/meditation/2029-08-28/
LOCATION:Haisla Health Centre\, 130 Owekeno Avenue\, Haisla\, British Columbia\, Canada
CATEGORIES:Health and Wellness
END:VEVENT
BEGIN:VEVENT
DTSTART;TZID=America/Vancouver:20290831T083000
DTEND;TZID=America/Vancouver:20290831T085000
DTSTAMP:20260425T212856
CREATED:20251027T210214Z
LAST-MODIFIED:20251027T210256Z
UID:10000474-1882859400-1882860600@haisla.ca
SUMMARY:Meditation
DESCRIPTION:
URL:https://haisla.ca/event/meditation/2029-08-31/
LOCATION:Haisla Health Centre\, 130 Owekeno Avenue\, Haisla\, British Columbia\, Canada
CATEGORIES:Health and Wellness
END:VEVENT
BEGIN:VEVENT
DTSTART;TZID=America/Vancouver:20290904T083000
DTEND;TZID=America/Vancouver:20290904T085000
DTSTAMP:20260425T212856
CREATED:20251027T210214Z
LAST-MODIFIED:20251027T210256Z
UID:10000475-1883205000-1883206200@haisla.ca
SUMMARY:Meditation
DESCRIPTION:
URL:https://haisla.ca/event/meditation/2029-09-04/
LOCATION:Haisla Health Centre\, 130 Owekeno Avenue\, Haisla\, British Columbia\, Canada
CATEGORIES:Health and Wellness
END:VEVENT
BEGIN:VEVENT
DTSTART;TZID=America/Vancouver:20290907T083000
DTEND;TZID=America/Vancouver:20290907T085000
DTSTAMP:20260425T212856
CREATED:20251027T210214Z
LAST-MODIFIED:20251027T210256Z
UID:10000476-1883464200-1883465400@haisla.ca
SUMMARY:Meditation
DESCRIPTION:
URL:https://haisla.ca/event/meditation/2029-09-07/
LOCATION:Haisla Health Centre\, 130 Owekeno Avenue\, Haisla\, British Columbia\, Canada
CATEGORIES:Health and Wellness
END:VEVENT
BEGIN:VEVENT
DTSTART;TZID=America/Vancouver:20290911T083000
DTEND;TZID=America/Vancouver:20290911T085000
DTSTAMP:20260425T212856
CREATED:20251027T210214Z
LAST-MODIFIED:20251027T210256Z
UID:10000477-1883809800-1883811000@haisla.ca
SUMMARY:Meditation
DESCRIPTION:
URL:https://haisla.ca/event/meditation/2029-09-11/
LOCATION:Haisla Health Centre\, 130 Owekeno Avenue\, Haisla\, British Columbia\, Canada
CATEGORIES:Health and Wellness
END:VEVENT
BEGIN:VEVENT
DTSTART;TZID=America/Vancouver:20290914T083000
DTEND;TZID=America/Vancouver:20290914T085000
DTSTAMP:20260425T212856
CREATED:20251027T210214Z
LAST-MODIFIED:20251027T210256Z
UID:10000478-1884069000-1884070200@haisla.ca
SUMMARY:Meditation
DESCRIPTION:
URL:https://haisla.ca/event/meditation/2029-09-14/
LOCATION:Haisla Health Centre\, 130 Owekeno Avenue\, Haisla\, British Columbia\, Canada
CATEGORIES:Health and Wellness
END:VEVENT
BEGIN:VEVENT
DTSTART;TZID=America/Vancouver:20290918T083000
DTEND;TZID=America/Vancouver:20290918T085000
DTSTAMP:20260425T212856
CREATED:20251027T210214Z
LAST-MODIFIED:20251027T210256Z
UID:10000479-1884414600-1884415800@haisla.ca
SUMMARY:Meditation
DESCRIPTION:
URL:https://haisla.ca/event/meditation/2029-09-18/
LOCATION:Haisla Health Centre\, 130 Owekeno Avenue\, Haisla\, British Columbia\, Canada
CATEGORIES:Health and Wellness
END:VEVENT
BEGIN:VEVENT
DTSTART;TZID=America/Vancouver:20290921T083000
DTEND;TZID=America/Vancouver:20290921T085000
DTSTAMP:20260425T212856
CREATED:20251027T210214Z
LAST-MODIFIED:20251027T210256Z
UID:10000480-1884673800-1884675000@haisla.ca
SUMMARY:Meditation
DESCRIPTION:
URL:https://haisla.ca/event/meditation/2029-09-21/
LOCATION:Haisla Health Centre\, 130 Owekeno Avenue\, Haisla\, British Columbia\, Canada
CATEGORIES:Health and Wellness
END:VEVENT
BEGIN:VEVENT
DTSTART;TZID=America/Vancouver:20290925T083000
DTEND;TZID=America/Vancouver:20290925T085000
DTSTAMP:20260425T212856
CREATED:20251027T210214Z
LAST-MODIFIED:20251027T210256Z
UID:10000481-1885019400-1885020600@haisla.ca
SUMMARY:Meditation
DESCRIPTION:
URL:https://haisla.ca/event/meditation/2029-09-25/
LOCATION:Haisla Health Centre\, 130 Owekeno Avenue\, Haisla\, British Columbia\, Canada
CATEGORIES:Health and Wellness
END:VEVENT
BEGIN:VEVENT
DTSTART;TZID=America/Vancouver:20290928T083000
DTEND;TZID=America/Vancouver:20290928T085000
DTSTAMP:20260425T212856
CREATED:20251027T210214Z
LAST-MODIFIED:20251027T210256Z
UID:10000482-1885278600-1885279800@haisla.ca
SUMMARY:Meditation
DESCRIPTION:
URL:https://haisla.ca/event/meditation/2029-09-28/
LOCATION:Haisla Health Centre\, 130 Owekeno Avenue\, Haisla\, British Columbia\, Canada
CATEGORIES:Health and Wellness
END:VEVENT
BEGIN:VEVENT
DTSTART;TZID=America/Vancouver:20291002T083000
DTEND;TZID=America/Vancouver:20291002T085000
DTSTAMP:20260425T212856
CREATED:20251027T210214Z
LAST-MODIFIED:20251027T210256Z
UID:10000483-1885624200-1885625400@haisla.ca
SUMMARY:Meditation
DESCRIPTION:
URL:https://haisla.ca/event/meditation/2029-10-02/
LOCATION:Haisla Health Centre\, 130 Owekeno Avenue\, Haisla\, British Columbia\, Canada
CATEGORIES:Health and Wellness
END:VEVENT
BEGIN:VEVENT
DTSTART;TZID=America/Vancouver:20291005T083000
DTEND;TZID=America/Vancouver:20291005T085000
DTSTAMP:20260425T212856
CREATED:20251027T210214Z
LAST-MODIFIED:20251027T210256Z
UID:10000484-1885883400-1885884600@haisla.ca
SUMMARY:Meditation
DESCRIPTION:
URL:https://haisla.ca/event/meditation/2029-10-05/
LOCATION:Haisla Health Centre\, 130 Owekeno Avenue\, Haisla\, British Columbia\, Canada
CATEGORIES:Health and Wellness
END:VEVENT
BEGIN:VEVENT
DTSTART;TZID=America/Vancouver:20291009T083000
DTEND;TZID=America/Vancouver:20291009T085000
DTSTAMP:20260425T212856
CREATED:20251027T210214Z
LAST-MODIFIED:20251027T210256Z
UID:10000485-1886229000-1886230200@haisla.ca
SUMMARY:Meditation
DESCRIPTION:
URL:https://haisla.ca/event/meditation/2029-10-09/
LOCATION:Haisla Health Centre\, 130 Owekeno Avenue\, Haisla\, British Columbia\, Canada
CATEGORIES:Health and Wellness
END:VEVENT
BEGIN:VEVENT
DTSTART;TZID=America/Vancouver:20291012T083000
DTEND;TZID=America/Vancouver:20291012T085000
DTSTAMP:20260425T212856
CREATED:20251027T210214Z
LAST-MODIFIED:20251027T210256Z
UID:10000486-1886488200-1886489400@haisla.ca
SUMMARY:Meditation
DESCRIPTION:
URL:https://haisla.ca/event/meditation/2029-10-12/
LOCATION:Haisla Health Centre\, 130 Owekeno Avenue\, Haisla\, British Columbia\, Canada
CATEGORIES:Health and Wellness
END:VEVENT
BEGIN:VEVENT
DTSTART;TZID=America/Vancouver:20291016T083000
DTEND;TZID=America/Vancouver:20291016T085000
DTSTAMP:20260425T212856
CREATED:20251027T210214Z
LAST-MODIFIED:20251027T210256Z
UID:10000487-1886833800-1886835000@haisla.ca
SUMMARY:Meditation
DESCRIPTION:
URL:https://haisla.ca/event/meditation/2029-10-16/
LOCATION:Haisla Health Centre\, 130 Owekeno Avenue\, Haisla\, British Columbia\, Canada
CATEGORIES:Health and Wellness
END:VEVENT
BEGIN:VEVENT
DTSTART;TZID=America/Vancouver:20291019T083000
DTEND;TZID=America/Vancouver:20291019T085000
DTSTAMP:20260425T212856
CREATED:20251027T210214Z
LAST-MODIFIED:20251027T210256Z
UID:10000488-1887093000-1887094200@haisla.ca
SUMMARY:Meditation
DESCRIPTION:
URL:https://haisla.ca/event/meditation/2029-10-19/
LOCATION:Haisla Health Centre\, 130 Owekeno Avenue\, Haisla\, British Columbia\, Canada
CATEGORIES:Health and Wellness
END:VEVENT
BEGIN:VEVENT
DTSTART;TZID=America/Vancouver:20291023T083000
DTEND;TZID=America/Vancouver:20291023T085000
DTSTAMP:20260425T212856
CREATED:20251027T210214Z
LAST-MODIFIED:20251027T210256Z
UID:10000489-1887438600-1887439800@haisla.ca
SUMMARY:Meditation
DESCRIPTION:
URL:https://haisla.ca/event/meditation/2029-10-23/
LOCATION:Haisla Health Centre\, 130 Owekeno Avenue\, Haisla\, British Columbia\, Canada
CATEGORIES:Health and Wellness
END:VEVENT
BEGIN:VEVENT
DTSTART;TZID=America/Vancouver:20291026T083000
DTEND;TZID=America/Vancouver:20291026T085000
DTSTAMP:20260425T212856
CREATED:20251027T210214Z
LAST-MODIFIED:20251027T210256Z
UID:10000490-1887697800-1887699000@haisla.ca
SUMMARY:Meditation
DESCRIPTION:
URL:https://haisla.ca/event/meditation/2029-10-26/
LOCATION:Haisla Health Centre\, 130 Owekeno Avenue\, Haisla\, British Columbia\, Canada
CATEGORIES:Health and Wellness
END:VEVENT
END:VCALENDAR