BEGIN:VCALENDAR
VERSION:2.0
PRODID:-//Haisla Nation - ECPv6.15.20//NONSGML v1.0//EN
CALSCALE:GREGORIAN
METHOD:PUBLISH
X-ORIGINAL-URL:https://haisla.ca
X-WR-CALDESC:Events for Haisla Nation
REFRESH-INTERVAL;VALUE=DURATION:PT1H
X-Robots-Tag:noindex
X-PUBLISHED-TTL:PT1H
BEGIN:VTIMEZONE
TZID:America/Vancouver
BEGIN:DAYLIGHT
TZOFFSETFROM:-0800
TZOFFSETTO:-0700
TZNAME:PDT
DTSTART:20260308T100000
END:DAYLIGHT
BEGIN:STANDARD
TZOFFSETFROM:-0700
TZOFFSETTO:-0800
TZNAME:PST
DTSTART:20261101T090000
END:STANDARD
BEGIN:DAYLIGHT
TZOFFSETFROM:-0800
TZOFFSETTO:-0700
TZNAME:PDT
DTSTART:20270314T100000
END:DAYLIGHT
BEGIN:STANDARD
TZOFFSETFROM:-0700
TZOFFSETTO:-0800
TZNAME:PST
DTSTART:20271107T090000
END:STANDARD
BEGIN:DAYLIGHT
TZOFFSETFROM:-0800
TZOFFSETTO:-0700
TZNAME:PDT
DTSTART:20280312T100000
END:DAYLIGHT
BEGIN:STANDARD
TZOFFSETFROM:-0700
TZOFFSETTO:-0800
TZNAME:PST
DTSTART:20281105T090000
END:STANDARD
END:VTIMEZONE
BEGIN:VEVENT
DTSTART;TZID=America/Vancouver:20271022T120000
DTEND;TZID=America/Vancouver:20271022T130000
DTSTAMP:20260424T202825
CREATED:20251027T211054Z
LAST-MODIFIED:20251027T211127Z
UID:10001847-1824206400-1824210000@haisla.ca
SUMMARY:Yoga For Wellness
DESCRIPTION:Gentle movement and mindfulness practices to support mental and physical well-being.
URL:https://haisla.ca/event/yoga-for-wellness-2/2027-10-22/
LOCATION:Haisla Health Centre\, 130 Owekeno Avenue\, Haisla\, British Columbia\, Canada
CATEGORIES:Health and Wellness
END:VEVENT
BEGIN:VEVENT
DTSTART;TZID=America/Vancouver:20271026T094500
DTEND;TZID=America/Vancouver:20271026T224000
DTSTAMP:20260424T202825
CREATED:20251027T210626Z
LAST-MODIFIED:20251027T210951Z
UID:10000804-1824543900-1824590400@haisla.ca
SUMMARY:Yoga For Wellness
DESCRIPTION:Gentle movement and mindfulness practices to support mental and physical well-being.
URL:https://haisla.ca/event/yoga-for-wellness/2027-10-26/
LOCATION:Haisla Health Centre\, 130 Owekeno Avenue\, Haisla\, British Columbia\, Canada
CATEGORIES:Health and Wellness
END:VEVENT
BEGIN:VEVENT
DTSTART;TZID=America/Vancouver:20271026T120000
DTEND;TZID=America/Vancouver:20271026T130000
DTSTAMP:20260424T202825
CREATED:20251027T211054Z
LAST-MODIFIED:20251027T211127Z
UID:10001848-1824552000-1824555600@haisla.ca
SUMMARY:Yoga For Wellness
DESCRIPTION:Gentle movement and mindfulness practices to support mental and physical well-being.
URL:https://haisla.ca/event/yoga-for-wellness-2/2027-10-26/
LOCATION:Haisla Health Centre\, 130 Owekeno Avenue\, Haisla\, British Columbia\, Canada
CATEGORIES:Health and Wellness
END:VEVENT
BEGIN:VEVENT
DTSTART;TZID=America/Vancouver:20271029T094500
DTEND;TZID=America/Vancouver:20271029T224000
DTSTAMP:20260424T202825
CREATED:20251027T210626Z
LAST-MODIFIED:20251027T210951Z
UID:10000805-1824803100-1824849600@haisla.ca
SUMMARY:Yoga For Wellness
DESCRIPTION:Gentle movement and mindfulness practices to support mental and physical well-being.
URL:https://haisla.ca/event/yoga-for-wellness/2027-10-29/
LOCATION:Haisla Health Centre\, 130 Owekeno Avenue\, Haisla\, British Columbia\, Canada
CATEGORIES:Health and Wellness
END:VEVENT
BEGIN:VEVENT
DTSTART;TZID=America/Vancouver:20271029T120000
DTEND;TZID=America/Vancouver:20271029T130000
DTSTAMP:20260424T202825
CREATED:20251027T211054Z
LAST-MODIFIED:20251027T211127Z
UID:10001849-1824811200-1824814800@haisla.ca
SUMMARY:Yoga For Wellness
DESCRIPTION:Gentle movement and mindfulness practices to support mental and physical well-being.
URL:https://haisla.ca/event/yoga-for-wellness-2/2027-10-29/
LOCATION:Haisla Health Centre\, 130 Owekeno Avenue\, Haisla\, British Columbia\, Canada
CATEGORIES:Health and Wellness
END:VEVENT
BEGIN:VEVENT
DTSTART;TZID=America/Vancouver:20271102T094500
DTEND;TZID=America/Vancouver:20271102T224000
DTSTAMP:20260424T202825
CREATED:20251027T210626Z
LAST-MODIFIED:20251027T210951Z
UID:10000806-1825148700-1825195200@haisla.ca
SUMMARY:Yoga For Wellness
DESCRIPTION:Gentle movement and mindfulness practices to support mental and physical well-being.
URL:https://haisla.ca/event/yoga-for-wellness/2027-11-02/
LOCATION:Haisla Health Centre\, 130 Owekeno Avenue\, Haisla\, British Columbia\, Canada
CATEGORIES:Health and Wellness
END:VEVENT
BEGIN:VEVENT
DTSTART;TZID=America/Vancouver:20271102T120000
DTEND;TZID=America/Vancouver:20271102T130000
DTSTAMP:20260424T202825
CREATED:20251027T211054Z
LAST-MODIFIED:20251027T211127Z
UID:10001850-1825156800-1825160400@haisla.ca
SUMMARY:Yoga For Wellness
DESCRIPTION:Gentle movement and mindfulness practices to support mental and physical well-being.
URL:https://haisla.ca/event/yoga-for-wellness-2/2027-11-02/
LOCATION:Haisla Health Centre\, 130 Owekeno Avenue\, Haisla\, British Columbia\, Canada
CATEGORIES:Health and Wellness
END:VEVENT
BEGIN:VEVENT
DTSTART;TZID=America/Vancouver:20271105T094500
DTEND;TZID=America/Vancouver:20271105T224000
DTSTAMP:20260424T202825
CREATED:20251027T210626Z
LAST-MODIFIED:20251027T210951Z
UID:10000807-1825407900-1825454400@haisla.ca
SUMMARY:Yoga For Wellness
DESCRIPTION:Gentle movement and mindfulness practices to support mental and physical well-being.
URL:https://haisla.ca/event/yoga-for-wellness/2027-11-05/
LOCATION:Haisla Health Centre\, 130 Owekeno Avenue\, Haisla\, British Columbia\, Canada
CATEGORIES:Health and Wellness
END:VEVENT
BEGIN:VEVENT
DTSTART;TZID=America/Vancouver:20271105T120000
DTEND;TZID=America/Vancouver:20271105T130000
DTSTAMP:20260424T202825
CREATED:20251027T211054Z
LAST-MODIFIED:20251027T211127Z
UID:10001851-1825416000-1825419600@haisla.ca
SUMMARY:Yoga For Wellness
DESCRIPTION:Gentle movement and mindfulness practices to support mental and physical well-being.
URL:https://haisla.ca/event/yoga-for-wellness-2/2027-11-05/
LOCATION:Haisla Health Centre\, 130 Owekeno Avenue\, Haisla\, British Columbia\, Canada
CATEGORIES:Health and Wellness
END:VEVENT
BEGIN:VEVENT
DTSTART;TZID=America/Vancouver:20271109T094500
DTEND;TZID=America/Vancouver:20271109T224000
DTSTAMP:20260424T202825
CREATED:20251027T210626Z
LAST-MODIFIED:20251027T210951Z
UID:10000808-1825753500-1825800000@haisla.ca
SUMMARY:Yoga For Wellness
DESCRIPTION:Gentle movement and mindfulness practices to support mental and physical well-being.
URL:https://haisla.ca/event/yoga-for-wellness/2027-11-09/
LOCATION:Haisla Health Centre\, 130 Owekeno Avenue\, Haisla\, British Columbia\, Canada
CATEGORIES:Health and Wellness
END:VEVENT
BEGIN:VEVENT
DTSTART;TZID=America/Vancouver:20271109T120000
DTEND;TZID=America/Vancouver:20271109T130000
DTSTAMP:20260424T202825
CREATED:20251027T211054Z
LAST-MODIFIED:20251027T211127Z
UID:10001852-1825761600-1825765200@haisla.ca
SUMMARY:Yoga For Wellness
DESCRIPTION:Gentle movement and mindfulness practices to support mental and physical well-being.
URL:https://haisla.ca/event/yoga-for-wellness-2/2027-11-09/
LOCATION:Haisla Health Centre\, 130 Owekeno Avenue\, Haisla\, British Columbia\, Canada
CATEGORIES:Health and Wellness
END:VEVENT
BEGIN:VEVENT
DTSTART;TZID=America/Vancouver:20271112T094500
DTEND;TZID=America/Vancouver:20271112T224000
DTSTAMP:20260424T202825
CREATED:20251027T210626Z
LAST-MODIFIED:20251027T210951Z
UID:10000809-1826012700-1826059200@haisla.ca
SUMMARY:Yoga For Wellness
DESCRIPTION:Gentle movement and mindfulness practices to support mental and physical well-being.
URL:https://haisla.ca/event/yoga-for-wellness/2027-11-12/
LOCATION:Haisla Health Centre\, 130 Owekeno Avenue\, Haisla\, British Columbia\, Canada
CATEGORIES:Health and Wellness
END:VEVENT
BEGIN:VEVENT
DTSTART;TZID=America/Vancouver:20271112T120000
DTEND;TZID=America/Vancouver:20271112T130000
DTSTAMP:20260424T202825
CREATED:20251027T211054Z
LAST-MODIFIED:20251027T211127Z
UID:10001853-1826020800-1826024400@haisla.ca
SUMMARY:Yoga For Wellness
DESCRIPTION:Gentle movement and mindfulness practices to support mental and physical well-being.
URL:https://haisla.ca/event/yoga-for-wellness-2/2027-11-12/
LOCATION:Haisla Health Centre\, 130 Owekeno Avenue\, Haisla\, British Columbia\, Canada
CATEGORIES:Health and Wellness
END:VEVENT
BEGIN:VEVENT
DTSTART;TZID=America/Vancouver:20271116T094500
DTEND;TZID=America/Vancouver:20271116T224000
DTSTAMP:20260424T202825
CREATED:20251027T210626Z
LAST-MODIFIED:20251027T210951Z
UID:10000810-1826358300-1826404800@haisla.ca
SUMMARY:Yoga For Wellness
DESCRIPTION:Gentle movement and mindfulness practices to support mental and physical well-being.
URL:https://haisla.ca/event/yoga-for-wellness/2027-11-16/
LOCATION:Haisla Health Centre\, 130 Owekeno Avenue\, Haisla\, British Columbia\, Canada
CATEGORIES:Health and Wellness
END:VEVENT
BEGIN:VEVENT
DTSTART;TZID=America/Vancouver:20271116T120000
DTEND;TZID=America/Vancouver:20271116T130000
DTSTAMP:20260424T202825
CREATED:20251027T211054Z
LAST-MODIFIED:20251027T211127Z
UID:10001854-1826366400-1826370000@haisla.ca
SUMMARY:Yoga For Wellness
DESCRIPTION:Gentle movement and mindfulness practices to support mental and physical well-being.
URL:https://haisla.ca/event/yoga-for-wellness-2/2027-11-16/
LOCATION:Haisla Health Centre\, 130 Owekeno Avenue\, Haisla\, British Columbia\, Canada
CATEGORIES:Health and Wellness
END:VEVENT
BEGIN:VEVENT
DTSTART;TZID=America/Vancouver:20271119T094500
DTEND;TZID=America/Vancouver:20271119T224000
DTSTAMP:20260424T202825
CREATED:20251027T210626Z
LAST-MODIFIED:20251027T210951Z
UID:10000811-1826617500-1826664000@haisla.ca
SUMMARY:Yoga For Wellness
DESCRIPTION:Gentle movement and mindfulness practices to support mental and physical well-being.
URL:https://haisla.ca/event/yoga-for-wellness/2027-11-19/
LOCATION:Haisla Health Centre\, 130 Owekeno Avenue\, Haisla\, British Columbia\, Canada
CATEGORIES:Health and Wellness
END:VEVENT
BEGIN:VEVENT
DTSTART;TZID=America/Vancouver:20271119T120000
DTEND;TZID=America/Vancouver:20271119T130000
DTSTAMP:20260424T202825
CREATED:20251027T211054Z
LAST-MODIFIED:20251027T211127Z
UID:10001855-1826625600-1826629200@haisla.ca
SUMMARY:Yoga For Wellness
DESCRIPTION:Gentle movement and mindfulness practices to support mental and physical well-being.
URL:https://haisla.ca/event/yoga-for-wellness-2/2027-11-19/
LOCATION:Haisla Health Centre\, 130 Owekeno Avenue\, Haisla\, British Columbia\, Canada
CATEGORIES:Health and Wellness
END:VEVENT
BEGIN:VEVENT
DTSTART;TZID=America/Vancouver:20271123T094500
DTEND;TZID=America/Vancouver:20271123T224000
DTSTAMP:20260424T202825
CREATED:20251027T210626Z
LAST-MODIFIED:20251027T210951Z
UID:10000812-1826963100-1827009600@haisla.ca
SUMMARY:Yoga For Wellness
DESCRIPTION:Gentle movement and mindfulness practices to support mental and physical well-being.
URL:https://haisla.ca/event/yoga-for-wellness/2027-11-23/
LOCATION:Haisla Health Centre\, 130 Owekeno Avenue\, Haisla\, British Columbia\, Canada
CATEGORIES:Health and Wellness
END:VEVENT
BEGIN:VEVENT
DTSTART;TZID=America/Vancouver:20271123T120000
DTEND;TZID=America/Vancouver:20271123T130000
DTSTAMP:20260424T202825
CREATED:20251027T211054Z
LAST-MODIFIED:20251027T211127Z
UID:10001856-1826971200-1826974800@haisla.ca
SUMMARY:Yoga For Wellness
DESCRIPTION:Gentle movement and mindfulness practices to support mental and physical well-being.
URL:https://haisla.ca/event/yoga-for-wellness-2/2027-11-23/
LOCATION:Haisla Health Centre\, 130 Owekeno Avenue\, Haisla\, British Columbia\, Canada
CATEGORIES:Health and Wellness
END:VEVENT
BEGIN:VEVENT
DTSTART;TZID=America/Vancouver:20271126T094500
DTEND;TZID=America/Vancouver:20271126T224000
DTSTAMP:20260424T202825
CREATED:20251027T210626Z
LAST-MODIFIED:20251027T210951Z
UID:10000813-1827222300-1827268800@haisla.ca
SUMMARY:Yoga For Wellness
DESCRIPTION:Gentle movement and mindfulness practices to support mental and physical well-being.
URL:https://haisla.ca/event/yoga-for-wellness/2027-11-26/
LOCATION:Haisla Health Centre\, 130 Owekeno Avenue\, Haisla\, British Columbia\, Canada
CATEGORIES:Health and Wellness
END:VEVENT
BEGIN:VEVENT
DTSTART;TZID=America/Vancouver:20271126T120000
DTEND;TZID=America/Vancouver:20271126T130000
DTSTAMP:20260424T202825
CREATED:20251027T211054Z
LAST-MODIFIED:20251027T211127Z
UID:10001857-1827230400-1827234000@haisla.ca
SUMMARY:Yoga For Wellness
DESCRIPTION:Gentle movement and mindfulness practices to support mental and physical well-being.
URL:https://haisla.ca/event/yoga-for-wellness-2/2027-11-26/
LOCATION:Haisla Health Centre\, 130 Owekeno Avenue\, Haisla\, British Columbia\, Canada
CATEGORIES:Health and Wellness
END:VEVENT
BEGIN:VEVENT
DTSTART;TZID=America/Vancouver:20271130T094500
DTEND;TZID=America/Vancouver:20271130T224000
DTSTAMP:20260424T202825
CREATED:20251027T210626Z
LAST-MODIFIED:20251027T210951Z
UID:10000814-1827567900-1827614400@haisla.ca
SUMMARY:Yoga For Wellness
DESCRIPTION:Gentle movement and mindfulness practices to support mental and physical well-being.
URL:https://haisla.ca/event/yoga-for-wellness/2027-11-30/
LOCATION:Haisla Health Centre\, 130 Owekeno Avenue\, Haisla\, British Columbia\, Canada
CATEGORIES:Health and Wellness
END:VEVENT
BEGIN:VEVENT
DTSTART;TZID=America/Vancouver:20271130T120000
DTEND;TZID=America/Vancouver:20271130T130000
DTSTAMP:20260424T202825
CREATED:20251027T211054Z
LAST-MODIFIED:20251027T211127Z
UID:10001858-1827576000-1827579600@haisla.ca
SUMMARY:Yoga For Wellness
DESCRIPTION:Gentle movement and mindfulness practices to support mental and physical well-being.
URL:https://haisla.ca/event/yoga-for-wellness-2/2027-11-30/
LOCATION:Haisla Health Centre\, 130 Owekeno Avenue\, Haisla\, British Columbia\, Canada
CATEGORIES:Health and Wellness
END:VEVENT
BEGIN:VEVENT
DTSTART;TZID=America/Vancouver:20271203T094500
DTEND;TZID=America/Vancouver:20271203T224000
DTSTAMP:20260424T202825
CREATED:20251027T210626Z
LAST-MODIFIED:20251027T210951Z
UID:10000815-1827827100-1827873600@haisla.ca
SUMMARY:Yoga For Wellness
DESCRIPTION:Gentle movement and mindfulness practices to support mental and physical well-being.
URL:https://haisla.ca/event/yoga-for-wellness/2027-12-03/
LOCATION:Haisla Health Centre\, 130 Owekeno Avenue\, Haisla\, British Columbia\, Canada
CATEGORIES:Health and Wellness
END:VEVENT
BEGIN:VEVENT
DTSTART;TZID=America/Vancouver:20271203T120000
DTEND;TZID=America/Vancouver:20271203T130000
DTSTAMP:20260424T202825
CREATED:20251027T211054Z
LAST-MODIFIED:20251027T211127Z
UID:10001859-1827835200-1827838800@haisla.ca
SUMMARY:Yoga For Wellness
DESCRIPTION:Gentle movement and mindfulness practices to support mental and physical well-being.
URL:https://haisla.ca/event/yoga-for-wellness-2/2027-12-03/
LOCATION:Haisla Health Centre\, 130 Owekeno Avenue\, Haisla\, British Columbia\, Canada
CATEGORIES:Health and Wellness
END:VEVENT
BEGIN:VEVENT
DTSTART;TZID=America/Vancouver:20271207T094500
DTEND;TZID=America/Vancouver:20271207T224000
DTSTAMP:20260424T202825
CREATED:20251027T210626Z
LAST-MODIFIED:20251027T210951Z
UID:10000816-1828172700-1828219200@haisla.ca
SUMMARY:Yoga For Wellness
DESCRIPTION:Gentle movement and mindfulness practices to support mental and physical well-being.
URL:https://haisla.ca/event/yoga-for-wellness/2027-12-07/
LOCATION:Haisla Health Centre\, 130 Owekeno Avenue\, Haisla\, British Columbia\, Canada
CATEGORIES:Health and Wellness
END:VEVENT
BEGIN:VEVENT
DTSTART;TZID=America/Vancouver:20271207T120000
DTEND;TZID=America/Vancouver:20271207T130000
DTSTAMP:20260424T202825
CREATED:20251027T211054Z
LAST-MODIFIED:20251027T211127Z
UID:10001860-1828180800-1828184400@haisla.ca
SUMMARY:Yoga For Wellness
DESCRIPTION:Gentle movement and mindfulness practices to support mental and physical well-being.
URL:https://haisla.ca/event/yoga-for-wellness-2/2027-12-07/
LOCATION:Haisla Health Centre\, 130 Owekeno Avenue\, Haisla\, British Columbia\, Canada
CATEGORIES:Health and Wellness
END:VEVENT
BEGIN:VEVENT
DTSTART;TZID=America/Vancouver:20271210T094500
DTEND;TZID=America/Vancouver:20271210T224000
DTSTAMP:20260424T202825
CREATED:20251027T210626Z
LAST-MODIFIED:20251027T210951Z
UID:10000817-1828431900-1828478400@haisla.ca
SUMMARY:Yoga For Wellness
DESCRIPTION:Gentle movement and mindfulness practices to support mental and physical well-being.
URL:https://haisla.ca/event/yoga-for-wellness/2027-12-10/
LOCATION:Haisla Health Centre\, 130 Owekeno Avenue\, Haisla\, British Columbia\, Canada
CATEGORIES:Health and Wellness
END:VEVENT
BEGIN:VEVENT
DTSTART;TZID=America/Vancouver:20271210T120000
DTEND;TZID=America/Vancouver:20271210T130000
DTSTAMP:20260424T202825
CREATED:20251027T211054Z
LAST-MODIFIED:20251027T211127Z
UID:10001861-1828440000-1828443600@haisla.ca
SUMMARY:Yoga For Wellness
DESCRIPTION:Gentle movement and mindfulness practices to support mental and physical well-being.
URL:https://haisla.ca/event/yoga-for-wellness-2/2027-12-10/
LOCATION:Haisla Health Centre\, 130 Owekeno Avenue\, Haisla\, British Columbia\, Canada
CATEGORIES:Health and Wellness
END:VEVENT
BEGIN:VEVENT
DTSTART;TZID=America/Vancouver:20271214T094500
DTEND;TZID=America/Vancouver:20271214T224000
DTSTAMP:20260424T202825
CREATED:20251027T210626Z
LAST-MODIFIED:20251027T210951Z
UID:10000818-1828777500-1828824000@haisla.ca
SUMMARY:Yoga For Wellness
DESCRIPTION:Gentle movement and mindfulness practices to support mental and physical well-being.
URL:https://haisla.ca/event/yoga-for-wellness/2027-12-14/
LOCATION:Haisla Health Centre\, 130 Owekeno Avenue\, Haisla\, British Columbia\, Canada
CATEGORIES:Health and Wellness
END:VEVENT
END:VCALENDAR