BEGIN:VCALENDAR
VERSION:2.0
PRODID:-//Haisla Nation - ECPv6.15.20//NONSGML v1.0//EN
CALSCALE:GREGORIAN
METHOD:PUBLISH
X-ORIGINAL-URL:https://haisla.ca
X-WR-CALDESC:Events for Haisla Nation
REFRESH-INTERVAL;VALUE=DURATION:PT1H
X-Robots-Tag:noindex
X-PUBLISHED-TTL:PT1H
BEGIN:VTIMEZONE
TZID:America/Vancouver
BEGIN:DAYLIGHT
TZOFFSETFROM:-0800
TZOFFSETTO:-0700
TZNAME:PDT
DTSTART:20280312T100000
END:DAYLIGHT
BEGIN:STANDARD
TZOFFSETFROM:-0700
TZOFFSETTO:-0800
TZNAME:PST
DTSTART:20281105T090000
END:STANDARD
BEGIN:DAYLIGHT
TZOFFSETFROM:-0800
TZOFFSETTO:-0700
TZNAME:PDT
DTSTART:20290311T100000
END:DAYLIGHT
BEGIN:STANDARD
TZOFFSETFROM:-0700
TZOFFSETTO:-0800
TZNAME:PST
DTSTART:20291104T090000
END:STANDARD
BEGIN:DAYLIGHT
TZOFFSETFROM:-0800
TZOFFSETTO:-0700
TZNAME:PDT
DTSTART:20300310T100000
END:DAYLIGHT
BEGIN:STANDARD
TZOFFSETFROM:-0700
TZOFFSETTO:-0800
TZNAME:PST
DTSTART:20301103T090000
END:STANDARD
END:VTIMEZONE
BEGIN:VEVENT
DTSTART;TZID=America/Vancouver:20290313T083000
DTEND;TZID=America/Vancouver:20290313T085000
DTSTAMP:20260425T181258
CREATED:20251027T210214Z
LAST-MODIFIED:20251027T210256Z
UID:10000425-1868085000-1868086200@haisla.ca
SUMMARY:Meditation
DESCRIPTION:
URL:https://haisla.ca/event/meditation/2029-03-13/
LOCATION:Haisla Health Centre\, 130 Owekeno Avenue\, Haisla\, British Columbia\, Canada
CATEGORIES:Health and Wellness
END:VEVENT
BEGIN:VEVENT
DTSTART;TZID=America/Vancouver:20290316T083000
DTEND;TZID=America/Vancouver:20290316T085000
DTSTAMP:20260425T181258
CREATED:20251027T210214Z
LAST-MODIFIED:20251027T210256Z
UID:10000426-1868344200-1868345400@haisla.ca
SUMMARY:Meditation
DESCRIPTION:
URL:https://haisla.ca/event/meditation/2029-03-16/
LOCATION:Haisla Health Centre\, 130 Owekeno Avenue\, Haisla\, British Columbia\, Canada
CATEGORIES:Health and Wellness
END:VEVENT
BEGIN:VEVENT
DTSTART;TZID=America/Vancouver:20290320T083000
DTEND;TZID=America/Vancouver:20290320T085000
DTSTAMP:20260425T181258
CREATED:20251027T210214Z
LAST-MODIFIED:20251027T210256Z
UID:10000427-1868689800-1868691000@haisla.ca
SUMMARY:Meditation
DESCRIPTION:
URL:https://haisla.ca/event/meditation/2029-03-20/
LOCATION:Haisla Health Centre\, 130 Owekeno Avenue\, Haisla\, British Columbia\, Canada
CATEGORIES:Health and Wellness
END:VEVENT
BEGIN:VEVENT
DTSTART;TZID=America/Vancouver:20290323T083000
DTEND;TZID=America/Vancouver:20290323T085000
DTSTAMP:20260425T181258
CREATED:20251027T210214Z
LAST-MODIFIED:20251027T210256Z
UID:10000428-1868949000-1868950200@haisla.ca
SUMMARY:Meditation
DESCRIPTION:
URL:https://haisla.ca/event/meditation/2029-03-23/
LOCATION:Haisla Health Centre\, 130 Owekeno Avenue\, Haisla\, British Columbia\, Canada
CATEGORIES:Health and Wellness
END:VEVENT
BEGIN:VEVENT
DTSTART;TZID=America/Vancouver:20290327T083000
DTEND;TZID=America/Vancouver:20290327T085000
DTSTAMP:20260425T181258
CREATED:20251027T210214Z
LAST-MODIFIED:20251027T210256Z
UID:10000429-1869294600-1869295800@haisla.ca
SUMMARY:Meditation
DESCRIPTION:
URL:https://haisla.ca/event/meditation/2029-03-27/
LOCATION:Haisla Health Centre\, 130 Owekeno Avenue\, Haisla\, British Columbia\, Canada
CATEGORIES:Health and Wellness
END:VEVENT
BEGIN:VEVENT
DTSTART;TZID=America/Vancouver:20290330T083000
DTEND;TZID=America/Vancouver:20290330T085000
DTSTAMP:20260425T181258
CREATED:20251027T210214Z
LAST-MODIFIED:20251027T210256Z
UID:10000430-1869553800-1869555000@haisla.ca
SUMMARY:Meditation
DESCRIPTION:
URL:https://haisla.ca/event/meditation/2029-03-30/
LOCATION:Haisla Health Centre\, 130 Owekeno Avenue\, Haisla\, British Columbia\, Canada
CATEGORIES:Health and Wellness
END:VEVENT
BEGIN:VEVENT
DTSTART;TZID=America/Vancouver:20290403T083000
DTEND;TZID=America/Vancouver:20290403T085000
DTSTAMP:20260425T181258
CREATED:20251027T210214Z
LAST-MODIFIED:20251027T210256Z
UID:10000431-1869899400-1869900600@haisla.ca
SUMMARY:Meditation
DESCRIPTION:
URL:https://haisla.ca/event/meditation/2029-04-03/
LOCATION:Haisla Health Centre\, 130 Owekeno Avenue\, Haisla\, British Columbia\, Canada
CATEGORIES:Health and Wellness
END:VEVENT
BEGIN:VEVENT
DTSTART;TZID=America/Vancouver:20290406T083000
DTEND;TZID=America/Vancouver:20290406T085000
DTSTAMP:20260425T181258
CREATED:20251027T210214Z
LAST-MODIFIED:20251027T210256Z
UID:10000432-1870158600-1870159800@haisla.ca
SUMMARY:Meditation
DESCRIPTION:
URL:https://haisla.ca/event/meditation/2029-04-06/
LOCATION:Haisla Health Centre\, 130 Owekeno Avenue\, Haisla\, British Columbia\, Canada
CATEGORIES:Health and Wellness
END:VEVENT
BEGIN:VEVENT
DTSTART;TZID=America/Vancouver:20290410T083000
DTEND;TZID=America/Vancouver:20290410T085000
DTSTAMP:20260425T181258
CREATED:20251027T210214Z
LAST-MODIFIED:20251027T210256Z
UID:10000433-1870504200-1870505400@haisla.ca
SUMMARY:Meditation
DESCRIPTION:
URL:https://haisla.ca/event/meditation/2029-04-10/
LOCATION:Haisla Health Centre\, 130 Owekeno Avenue\, Haisla\, British Columbia\, Canada
CATEGORIES:Health and Wellness
END:VEVENT
BEGIN:VEVENT
DTSTART;TZID=America/Vancouver:20290413T083000
DTEND;TZID=America/Vancouver:20290413T085000
DTSTAMP:20260425T181258
CREATED:20251027T210214Z
LAST-MODIFIED:20251027T210256Z
UID:10000434-1870763400-1870764600@haisla.ca
SUMMARY:Meditation
DESCRIPTION:
URL:https://haisla.ca/event/meditation/2029-04-13/
LOCATION:Haisla Health Centre\, 130 Owekeno Avenue\, Haisla\, British Columbia\, Canada
CATEGORIES:Health and Wellness
END:VEVENT
BEGIN:VEVENT
DTSTART;TZID=America/Vancouver:20290417T083000
DTEND;TZID=America/Vancouver:20290417T085000
DTSTAMP:20260425T181258
CREATED:20251027T210214Z
LAST-MODIFIED:20251027T210256Z
UID:10000435-1871109000-1871110200@haisla.ca
SUMMARY:Meditation
DESCRIPTION:
URL:https://haisla.ca/event/meditation/2029-04-17/
LOCATION:Haisla Health Centre\, 130 Owekeno Avenue\, Haisla\, British Columbia\, Canada
CATEGORIES:Health and Wellness
END:VEVENT
BEGIN:VEVENT
DTSTART;TZID=America/Vancouver:20290420T083000
DTEND;TZID=America/Vancouver:20290420T085000
DTSTAMP:20260425T181258
CREATED:20251027T210214Z
LAST-MODIFIED:20251027T210256Z
UID:10000436-1871368200-1871369400@haisla.ca
SUMMARY:Meditation
DESCRIPTION:
URL:https://haisla.ca/event/meditation/2029-04-20/
LOCATION:Haisla Health Centre\, 130 Owekeno Avenue\, Haisla\, British Columbia\, Canada
CATEGORIES:Health and Wellness
END:VEVENT
BEGIN:VEVENT
DTSTART;TZID=America/Vancouver:20290424T083000
DTEND;TZID=America/Vancouver:20290424T085000
DTSTAMP:20260425T181258
CREATED:20251027T210214Z
LAST-MODIFIED:20251027T210256Z
UID:10000437-1871713800-1871715000@haisla.ca
SUMMARY:Meditation
DESCRIPTION:
URL:https://haisla.ca/event/meditation/2029-04-24/
LOCATION:Haisla Health Centre\, 130 Owekeno Avenue\, Haisla\, British Columbia\, Canada
CATEGORIES:Health and Wellness
END:VEVENT
BEGIN:VEVENT
DTSTART;TZID=America/Vancouver:20290427T083000
DTEND;TZID=America/Vancouver:20290427T085000
DTSTAMP:20260425T181258
CREATED:20251027T210214Z
LAST-MODIFIED:20251027T210256Z
UID:10000438-1871973000-1871974200@haisla.ca
SUMMARY:Meditation
DESCRIPTION:
URL:https://haisla.ca/event/meditation/2029-04-27/
LOCATION:Haisla Health Centre\, 130 Owekeno Avenue\, Haisla\, British Columbia\, Canada
CATEGORIES:Health and Wellness
END:VEVENT
BEGIN:VEVENT
DTSTART;TZID=America/Vancouver:20290501T083000
DTEND;TZID=America/Vancouver:20290501T085000
DTSTAMP:20260425T181258
CREATED:20251027T210214Z
LAST-MODIFIED:20251027T210256Z
UID:10000439-1872318600-1872319800@haisla.ca
SUMMARY:Meditation
DESCRIPTION:
URL:https://haisla.ca/event/meditation/2029-05-01/
LOCATION:Haisla Health Centre\, 130 Owekeno Avenue\, Haisla\, British Columbia\, Canada
CATEGORIES:Health and Wellness
END:VEVENT
BEGIN:VEVENT
DTSTART;TZID=America/Vancouver:20290504T083000
DTEND;TZID=America/Vancouver:20290504T085000
DTSTAMP:20260425T181258
CREATED:20251027T210214Z
LAST-MODIFIED:20251027T210256Z
UID:10000440-1872577800-1872579000@haisla.ca
SUMMARY:Meditation
DESCRIPTION:
URL:https://haisla.ca/event/meditation/2029-05-04/
LOCATION:Haisla Health Centre\, 130 Owekeno Avenue\, Haisla\, British Columbia\, Canada
CATEGORIES:Health and Wellness
END:VEVENT
BEGIN:VEVENT
DTSTART;TZID=America/Vancouver:20290508T083000
DTEND;TZID=America/Vancouver:20290508T085000
DTSTAMP:20260425T181258
CREATED:20251027T210214Z
LAST-MODIFIED:20251027T210256Z
UID:10000441-1872923400-1872924600@haisla.ca
SUMMARY:Meditation
DESCRIPTION:
URL:https://haisla.ca/event/meditation/2029-05-08/
LOCATION:Haisla Health Centre\, 130 Owekeno Avenue\, Haisla\, British Columbia\, Canada
CATEGORIES:Health and Wellness
END:VEVENT
BEGIN:VEVENT
DTSTART;TZID=America/Vancouver:20290511T083000
DTEND;TZID=America/Vancouver:20290511T085000
DTSTAMP:20260425T181258
CREATED:20251027T210214Z
LAST-MODIFIED:20251027T210256Z
UID:10000442-1873182600-1873183800@haisla.ca
SUMMARY:Meditation
DESCRIPTION:
URL:https://haisla.ca/event/meditation/2029-05-11/
LOCATION:Haisla Health Centre\, 130 Owekeno Avenue\, Haisla\, British Columbia\, Canada
CATEGORIES:Health and Wellness
END:VEVENT
BEGIN:VEVENT
DTSTART;TZID=America/Vancouver:20290515T083000
DTEND;TZID=America/Vancouver:20290515T085000
DTSTAMP:20260425T181258
CREATED:20251027T210214Z
LAST-MODIFIED:20251027T210256Z
UID:10000443-1873528200-1873529400@haisla.ca
SUMMARY:Meditation
DESCRIPTION:
URL:https://haisla.ca/event/meditation/2029-05-15/
LOCATION:Haisla Health Centre\, 130 Owekeno Avenue\, Haisla\, British Columbia\, Canada
CATEGORIES:Health and Wellness
END:VEVENT
BEGIN:VEVENT
DTSTART;TZID=America/Vancouver:20290518T083000
DTEND;TZID=America/Vancouver:20290518T085000
DTSTAMP:20260425T181258
CREATED:20251027T210214Z
LAST-MODIFIED:20251027T210256Z
UID:10000444-1873787400-1873788600@haisla.ca
SUMMARY:Meditation
DESCRIPTION:
URL:https://haisla.ca/event/meditation/2029-05-18/
LOCATION:Haisla Health Centre\, 130 Owekeno Avenue\, Haisla\, British Columbia\, Canada
CATEGORIES:Health and Wellness
END:VEVENT
BEGIN:VEVENT
DTSTART;TZID=America/Vancouver:20290522T083000
DTEND;TZID=America/Vancouver:20290522T085000
DTSTAMP:20260425T181258
CREATED:20251027T210214Z
LAST-MODIFIED:20251027T210256Z
UID:10000445-1874133000-1874134200@haisla.ca
SUMMARY:Meditation
DESCRIPTION:
URL:https://haisla.ca/event/meditation/2029-05-22/
LOCATION:Haisla Health Centre\, 130 Owekeno Avenue\, Haisla\, British Columbia\, Canada
CATEGORIES:Health and Wellness
END:VEVENT
BEGIN:VEVENT
DTSTART;TZID=America/Vancouver:20290525T083000
DTEND;TZID=America/Vancouver:20290525T085000
DTSTAMP:20260425T181258
CREATED:20251027T210214Z
LAST-MODIFIED:20251027T210256Z
UID:10000446-1874392200-1874393400@haisla.ca
SUMMARY:Meditation
DESCRIPTION:
URL:https://haisla.ca/event/meditation/2029-05-25/
LOCATION:Haisla Health Centre\, 130 Owekeno Avenue\, Haisla\, British Columbia\, Canada
CATEGORIES:Health and Wellness
END:VEVENT
BEGIN:VEVENT
DTSTART;TZID=America/Vancouver:20290529T083000
DTEND;TZID=America/Vancouver:20290529T085000
DTSTAMP:20260425T181258
CREATED:20251027T210214Z
LAST-MODIFIED:20251027T210256Z
UID:10000447-1874737800-1874739000@haisla.ca
SUMMARY:Meditation
DESCRIPTION:
URL:https://haisla.ca/event/meditation/2029-05-29/
LOCATION:Haisla Health Centre\, 130 Owekeno Avenue\, Haisla\, British Columbia\, Canada
CATEGORIES:Health and Wellness
END:VEVENT
BEGIN:VEVENT
DTSTART;TZID=America/Vancouver:20290601T083000
DTEND;TZID=America/Vancouver:20290601T085000
DTSTAMP:20260425T181258
CREATED:20251027T210214Z
LAST-MODIFIED:20251027T210256Z
UID:10000448-1874997000-1874998200@haisla.ca
SUMMARY:Meditation
DESCRIPTION:
URL:https://haisla.ca/event/meditation/2029-06-01/
LOCATION:Haisla Health Centre\, 130 Owekeno Avenue\, Haisla\, British Columbia\, Canada
CATEGORIES:Health and Wellness
END:VEVENT
BEGIN:VEVENT
DTSTART;TZID=America/Vancouver:20290605T083000
DTEND;TZID=America/Vancouver:20290605T085000
DTSTAMP:20260425T181258
CREATED:20251027T210214Z
LAST-MODIFIED:20251027T210256Z
UID:10000449-1875342600-1875343800@haisla.ca
SUMMARY:Meditation
DESCRIPTION:
URL:https://haisla.ca/event/meditation/2029-06-05/
LOCATION:Haisla Health Centre\, 130 Owekeno Avenue\, Haisla\, British Columbia\, Canada
CATEGORIES:Health and Wellness
END:VEVENT
BEGIN:VEVENT
DTSTART;TZID=America/Vancouver:20290608T083000
DTEND;TZID=America/Vancouver:20290608T085000
DTSTAMP:20260425T181258
CREATED:20251027T210214Z
LAST-MODIFIED:20251027T210256Z
UID:10000450-1875601800-1875603000@haisla.ca
SUMMARY:Meditation
DESCRIPTION:
URL:https://haisla.ca/event/meditation/2029-06-08/
LOCATION:Haisla Health Centre\, 130 Owekeno Avenue\, Haisla\, British Columbia\, Canada
CATEGORIES:Health and Wellness
END:VEVENT
BEGIN:VEVENT
DTSTART;TZID=America/Vancouver:20290612T083000
DTEND;TZID=America/Vancouver:20290612T085000
DTSTAMP:20260425T181258
CREATED:20251027T210214Z
LAST-MODIFIED:20251027T210256Z
UID:10000451-1875947400-1875948600@haisla.ca
SUMMARY:Meditation
DESCRIPTION:
URL:https://haisla.ca/event/meditation/2029-06-12/
LOCATION:Haisla Health Centre\, 130 Owekeno Avenue\, Haisla\, British Columbia\, Canada
CATEGORIES:Health and Wellness
END:VEVENT
BEGIN:VEVENT
DTSTART;TZID=America/Vancouver:20290615T083000
DTEND;TZID=America/Vancouver:20290615T085000
DTSTAMP:20260425T181258
CREATED:20251027T210214Z
LAST-MODIFIED:20251027T210256Z
UID:10000452-1876206600-1876207800@haisla.ca
SUMMARY:Meditation
DESCRIPTION:
URL:https://haisla.ca/event/meditation/2029-06-15/
LOCATION:Haisla Health Centre\, 130 Owekeno Avenue\, Haisla\, British Columbia\, Canada
CATEGORIES:Health and Wellness
END:VEVENT
BEGIN:VEVENT
DTSTART;TZID=America/Vancouver:20290619T083000
DTEND;TZID=America/Vancouver:20290619T085000
DTSTAMP:20260425T181258
CREATED:20251027T210214Z
LAST-MODIFIED:20251027T210256Z
UID:10000453-1876552200-1876553400@haisla.ca
SUMMARY:Meditation
DESCRIPTION:
URL:https://haisla.ca/event/meditation/2029-06-19/
LOCATION:Haisla Health Centre\, 130 Owekeno Avenue\, Haisla\, British Columbia\, Canada
CATEGORIES:Health and Wellness
END:VEVENT
BEGIN:VEVENT
DTSTART;TZID=America/Vancouver:20290622T083000
DTEND;TZID=America/Vancouver:20290622T085000
DTSTAMP:20260425T181258
CREATED:20251027T210214Z
LAST-MODIFIED:20251027T210256Z
UID:10000454-1876811400-1876812600@haisla.ca
SUMMARY:Meditation
DESCRIPTION:
URL:https://haisla.ca/event/meditation/2029-06-22/
LOCATION:Haisla Health Centre\, 130 Owekeno Avenue\, Haisla\, British Columbia\, Canada
CATEGORIES:Health and Wellness
END:VEVENT
END:VCALENDAR