BEGIN:VCALENDAR
VERSION:2.0
PRODID:-//Haisla Nation - ECPv6.15.20//NONSGML v1.0//EN
CALSCALE:GREGORIAN
METHOD:PUBLISH
X-WR-CALNAME:Haisla Nation
X-ORIGINAL-URL:https://haisla.ca
X-WR-CALDESC:Events for Haisla Nation
REFRESH-INTERVAL;VALUE=DURATION:PT1H
X-Robots-Tag:noindex
X-PUBLISHED-TTL:PT1H
BEGIN:VTIMEZONE
TZID:America/Vancouver
BEGIN:DAYLIGHT
TZOFFSETFROM:-0800
TZOFFSETTO:-0700
TZNAME:PDT
DTSTART:20260308T100000
END:DAYLIGHT
BEGIN:STANDARD
TZOFFSETFROM:-0700
TZOFFSETTO:-0800
TZNAME:PST
DTSTART:20261101T090000
END:STANDARD
BEGIN:DAYLIGHT
TZOFFSETFROM:-0800
TZOFFSETTO:-0700
TZNAME:PDT
DTSTART:20270314T100000
END:DAYLIGHT
BEGIN:STANDARD
TZOFFSETFROM:-0700
TZOFFSETTO:-0800
TZNAME:PST
DTSTART:20271107T090000
END:STANDARD
BEGIN:DAYLIGHT
TZOFFSETFROM:-0800
TZOFFSETTO:-0700
TZNAME:PDT
DTSTART:20280312T100000
END:DAYLIGHT
BEGIN:STANDARD
TZOFFSETFROM:-0700
TZOFFSETTO:-0800
TZNAME:PST
DTSTART:20281105T090000
END:STANDARD
END:VTIMEZONE
BEGIN:VEVENT
DTSTART;TZID=America/Vancouver:20270910T120000
DTEND;TZID=America/Vancouver:20270910T130000
DTSTAMP:20260424T184833
CREATED:20251027T211054Z
LAST-MODIFIED:20251027T211127Z
UID:10001835-1820577600-1820581200@haisla.ca
SUMMARY:Yoga For Wellness
DESCRIPTION:Gentle movement and mindfulness practices to support mental and physical well-being.
URL:https://haisla.ca/event/yoga-for-wellness-2/2027-09-10/
LOCATION:Haisla Health Centre\, 130 Owekeno Avenue\, Haisla\, British Columbia\, Canada
CATEGORIES:Health and Wellness
END:VEVENT
BEGIN:VEVENT
DTSTART;TZID=America/Vancouver:20270914T094500
DTEND;TZID=America/Vancouver:20270914T224000
DTSTAMP:20260424T184833
CREATED:20251027T210626Z
LAST-MODIFIED:20251027T210951Z
UID:10000792-1820915100-1820961600@haisla.ca
SUMMARY:Yoga For Wellness
DESCRIPTION:Gentle movement and mindfulness practices to support mental and physical well-being.
URL:https://haisla.ca/event/yoga-for-wellness/2027-09-14/
LOCATION:Haisla Health Centre\, 130 Owekeno Avenue\, Haisla\, British Columbia\, Canada
CATEGORIES:Health and Wellness
END:VEVENT
BEGIN:VEVENT
DTSTART;TZID=America/Vancouver:20270914T120000
DTEND;TZID=America/Vancouver:20270914T130000
DTSTAMP:20260424T184833
CREATED:20251027T211054Z
LAST-MODIFIED:20251027T211127Z
UID:10001836-1820923200-1820926800@haisla.ca
SUMMARY:Yoga For Wellness
DESCRIPTION:Gentle movement and mindfulness practices to support mental and physical well-being.
URL:https://haisla.ca/event/yoga-for-wellness-2/2027-09-14/
LOCATION:Haisla Health Centre\, 130 Owekeno Avenue\, Haisla\, British Columbia\, Canada
CATEGORIES:Health and Wellness
END:VEVENT
BEGIN:VEVENT
DTSTART;TZID=America/Vancouver:20270917T094500
DTEND;TZID=America/Vancouver:20270917T224000
DTSTAMP:20260424T184833
CREATED:20251027T210626Z
LAST-MODIFIED:20251027T210951Z
UID:10000793-1821174300-1821220800@haisla.ca
SUMMARY:Yoga For Wellness
DESCRIPTION:Gentle movement and mindfulness practices to support mental and physical well-being.
URL:https://haisla.ca/event/yoga-for-wellness/2027-09-17/
LOCATION:Haisla Health Centre\, 130 Owekeno Avenue\, Haisla\, British Columbia\, Canada
CATEGORIES:Health and Wellness
END:VEVENT
BEGIN:VEVENT
DTSTART;TZID=America/Vancouver:20270917T120000
DTEND;TZID=America/Vancouver:20270917T130000
DTSTAMP:20260424T184833
CREATED:20251027T211054Z
LAST-MODIFIED:20251027T211127Z
UID:10001837-1821182400-1821186000@haisla.ca
SUMMARY:Yoga For Wellness
DESCRIPTION:Gentle movement and mindfulness practices to support mental and physical well-being.
URL:https://haisla.ca/event/yoga-for-wellness-2/2027-09-17/
LOCATION:Haisla Health Centre\, 130 Owekeno Avenue\, Haisla\, British Columbia\, Canada
CATEGORIES:Health and Wellness
END:VEVENT
BEGIN:VEVENT
DTSTART;TZID=America/Vancouver:20270921T094500
DTEND;TZID=America/Vancouver:20270921T224000
DTSTAMP:20260424T184833
CREATED:20251027T210626Z
LAST-MODIFIED:20251027T210951Z
UID:10000794-1821519900-1821566400@haisla.ca
SUMMARY:Yoga For Wellness
DESCRIPTION:Gentle movement and mindfulness practices to support mental and physical well-being.
URL:https://haisla.ca/event/yoga-for-wellness/2027-09-21/
LOCATION:Haisla Health Centre\, 130 Owekeno Avenue\, Haisla\, British Columbia\, Canada
CATEGORIES:Health and Wellness
END:VEVENT
BEGIN:VEVENT
DTSTART;TZID=America/Vancouver:20270921T120000
DTEND;TZID=America/Vancouver:20270921T130000
DTSTAMP:20260424T184833
CREATED:20251027T211054Z
LAST-MODIFIED:20251027T211127Z
UID:10001838-1821528000-1821531600@haisla.ca
SUMMARY:Yoga For Wellness
DESCRIPTION:Gentle movement and mindfulness practices to support mental and physical well-being.
URL:https://haisla.ca/event/yoga-for-wellness-2/2027-09-21/
LOCATION:Haisla Health Centre\, 130 Owekeno Avenue\, Haisla\, British Columbia\, Canada
CATEGORIES:Health and Wellness
END:VEVENT
BEGIN:VEVENT
DTSTART;TZID=America/Vancouver:20270924T094500
DTEND;TZID=America/Vancouver:20270924T224000
DTSTAMP:20260424T184833
CREATED:20251027T210626Z
LAST-MODIFIED:20251027T210951Z
UID:10000795-1821779100-1821825600@haisla.ca
SUMMARY:Yoga For Wellness
DESCRIPTION:Gentle movement and mindfulness practices to support mental and physical well-being.
URL:https://haisla.ca/event/yoga-for-wellness/2027-09-24/
LOCATION:Haisla Health Centre\, 130 Owekeno Avenue\, Haisla\, British Columbia\, Canada
CATEGORIES:Health and Wellness
END:VEVENT
BEGIN:VEVENT
DTSTART;TZID=America/Vancouver:20270924T120000
DTEND;TZID=America/Vancouver:20270924T130000
DTSTAMP:20260424T184833
CREATED:20251027T211054Z
LAST-MODIFIED:20251027T211127Z
UID:10001839-1821787200-1821790800@haisla.ca
SUMMARY:Yoga For Wellness
DESCRIPTION:Gentle movement and mindfulness practices to support mental and physical well-being.
URL:https://haisla.ca/event/yoga-for-wellness-2/2027-09-24/
LOCATION:Haisla Health Centre\, 130 Owekeno Avenue\, Haisla\, British Columbia\, Canada
CATEGORIES:Health and Wellness
END:VEVENT
BEGIN:VEVENT
DTSTART;TZID=America/Vancouver:20270928T094500
DTEND;TZID=America/Vancouver:20270928T224000
DTSTAMP:20260424T184833
CREATED:20251027T210626Z
LAST-MODIFIED:20251027T210951Z
UID:10000796-1822124700-1822171200@haisla.ca
SUMMARY:Yoga For Wellness
DESCRIPTION:Gentle movement and mindfulness practices to support mental and physical well-being.
URL:https://haisla.ca/event/yoga-for-wellness/2027-09-28/
LOCATION:Haisla Health Centre\, 130 Owekeno Avenue\, Haisla\, British Columbia\, Canada
CATEGORIES:Health and Wellness
END:VEVENT
BEGIN:VEVENT
DTSTART;TZID=America/Vancouver:20270928T120000
DTEND;TZID=America/Vancouver:20270928T130000
DTSTAMP:20260424T184833
CREATED:20251027T211054Z
LAST-MODIFIED:20251027T211127Z
UID:10001840-1822132800-1822136400@haisla.ca
SUMMARY:Yoga For Wellness
DESCRIPTION:Gentle movement and mindfulness practices to support mental and physical well-being.
URL:https://haisla.ca/event/yoga-for-wellness-2/2027-09-28/
LOCATION:Haisla Health Centre\, 130 Owekeno Avenue\, Haisla\, British Columbia\, Canada
CATEGORIES:Health and Wellness
END:VEVENT
BEGIN:VEVENT
DTSTART;TZID=America/Vancouver:20271001T094500
DTEND;TZID=America/Vancouver:20271001T224000
DTSTAMP:20260424T184833
CREATED:20251027T210626Z
LAST-MODIFIED:20251027T210951Z
UID:10000797-1822383900-1822430400@haisla.ca
SUMMARY:Yoga For Wellness
DESCRIPTION:Gentle movement and mindfulness practices to support mental and physical well-being.
URL:https://haisla.ca/event/yoga-for-wellness/2027-10-01/
LOCATION:Haisla Health Centre\, 130 Owekeno Avenue\, Haisla\, British Columbia\, Canada
CATEGORIES:Health and Wellness
END:VEVENT
BEGIN:VEVENT
DTSTART;TZID=America/Vancouver:20271001T120000
DTEND;TZID=America/Vancouver:20271001T130000
DTSTAMP:20260424T184833
CREATED:20251027T211054Z
LAST-MODIFIED:20251027T211127Z
UID:10001841-1822392000-1822395600@haisla.ca
SUMMARY:Yoga For Wellness
DESCRIPTION:Gentle movement and mindfulness practices to support mental and physical well-being.
URL:https://haisla.ca/event/yoga-for-wellness-2/2027-10-01/
LOCATION:Haisla Health Centre\, 130 Owekeno Avenue\, Haisla\, British Columbia\, Canada
CATEGORIES:Health and Wellness
END:VEVENT
BEGIN:VEVENT
DTSTART;TZID=America/Vancouver:20271005T094500
DTEND;TZID=America/Vancouver:20271005T224000
DTSTAMP:20260424T184833
CREATED:20251027T210626Z
LAST-MODIFIED:20251027T210951Z
UID:10000798-1822729500-1822776000@haisla.ca
SUMMARY:Yoga For Wellness
DESCRIPTION:Gentle movement and mindfulness practices to support mental and physical well-being.
URL:https://haisla.ca/event/yoga-for-wellness/2027-10-05/
LOCATION:Haisla Health Centre\, 130 Owekeno Avenue\, Haisla\, British Columbia\, Canada
CATEGORIES:Health and Wellness
END:VEVENT
BEGIN:VEVENT
DTSTART;TZID=America/Vancouver:20271005T120000
DTEND;TZID=America/Vancouver:20271005T130000
DTSTAMP:20260424T184833
CREATED:20251027T211054Z
LAST-MODIFIED:20251027T211127Z
UID:10001842-1822737600-1822741200@haisla.ca
SUMMARY:Yoga For Wellness
DESCRIPTION:Gentle movement and mindfulness practices to support mental and physical well-being.
URL:https://haisla.ca/event/yoga-for-wellness-2/2027-10-05/
LOCATION:Haisla Health Centre\, 130 Owekeno Avenue\, Haisla\, British Columbia\, Canada
CATEGORIES:Health and Wellness
END:VEVENT
BEGIN:VEVENT
DTSTART;TZID=America/Vancouver:20271008T094500
DTEND;TZID=America/Vancouver:20271008T224000
DTSTAMP:20260424T184833
CREATED:20251027T210626Z
LAST-MODIFIED:20251027T210951Z
UID:10000799-1822988700-1823035200@haisla.ca
SUMMARY:Yoga For Wellness
DESCRIPTION:Gentle movement and mindfulness practices to support mental and physical well-being.
URL:https://haisla.ca/event/yoga-for-wellness/2027-10-08/
LOCATION:Haisla Health Centre\, 130 Owekeno Avenue\, Haisla\, British Columbia\, Canada
CATEGORIES:Health and Wellness
END:VEVENT
BEGIN:VEVENT
DTSTART;TZID=America/Vancouver:20271008T120000
DTEND;TZID=America/Vancouver:20271008T130000
DTSTAMP:20260424T184833
CREATED:20251027T211054Z
LAST-MODIFIED:20251027T211127Z
UID:10001843-1822996800-1823000400@haisla.ca
SUMMARY:Yoga For Wellness
DESCRIPTION:Gentle movement and mindfulness practices to support mental and physical well-being.
URL:https://haisla.ca/event/yoga-for-wellness-2/2027-10-08/
LOCATION:Haisla Health Centre\, 130 Owekeno Avenue\, Haisla\, British Columbia\, Canada
CATEGORIES:Health and Wellness
END:VEVENT
BEGIN:VEVENT
DTSTART;TZID=America/Vancouver:20271012T094500
DTEND;TZID=America/Vancouver:20271012T224000
DTSTAMP:20260424T184833
CREATED:20251027T210626Z
LAST-MODIFIED:20251027T210951Z
UID:10000800-1823334300-1823380800@haisla.ca
SUMMARY:Yoga For Wellness
DESCRIPTION:Gentle movement and mindfulness practices to support mental and physical well-being.
URL:https://haisla.ca/event/yoga-for-wellness/2027-10-12/
LOCATION:Haisla Health Centre\, 130 Owekeno Avenue\, Haisla\, British Columbia\, Canada
CATEGORIES:Health and Wellness
END:VEVENT
BEGIN:VEVENT
DTSTART;TZID=America/Vancouver:20271012T120000
DTEND;TZID=America/Vancouver:20271012T130000
DTSTAMP:20260424T184833
CREATED:20251027T211054Z
LAST-MODIFIED:20251027T211127Z
UID:10001844-1823342400-1823346000@haisla.ca
SUMMARY:Yoga For Wellness
DESCRIPTION:Gentle movement and mindfulness practices to support mental and physical well-being.
URL:https://haisla.ca/event/yoga-for-wellness-2/2027-10-12/
LOCATION:Haisla Health Centre\, 130 Owekeno Avenue\, Haisla\, British Columbia\, Canada
CATEGORIES:Health and Wellness
END:VEVENT
BEGIN:VEVENT
DTSTART;TZID=America/Vancouver:20271015T094500
DTEND;TZID=America/Vancouver:20271015T224000
DTSTAMP:20260424T184833
CREATED:20251027T210626Z
LAST-MODIFIED:20251027T210951Z
UID:10000801-1823593500-1823640000@haisla.ca
SUMMARY:Yoga For Wellness
DESCRIPTION:Gentle movement and mindfulness practices to support mental and physical well-being.
URL:https://haisla.ca/event/yoga-for-wellness/2027-10-15/
LOCATION:Haisla Health Centre\, 130 Owekeno Avenue\, Haisla\, British Columbia\, Canada
CATEGORIES:Health and Wellness
END:VEVENT
BEGIN:VEVENT
DTSTART;TZID=America/Vancouver:20271015T120000
DTEND;TZID=America/Vancouver:20271015T130000
DTSTAMP:20260424T184833
CREATED:20251027T211054Z
LAST-MODIFIED:20251027T211127Z
UID:10001845-1823601600-1823605200@haisla.ca
SUMMARY:Yoga For Wellness
DESCRIPTION:Gentle movement and mindfulness practices to support mental and physical well-being.
URL:https://haisla.ca/event/yoga-for-wellness-2/2027-10-15/
LOCATION:Haisla Health Centre\, 130 Owekeno Avenue\, Haisla\, British Columbia\, Canada
CATEGORIES:Health and Wellness
END:VEVENT
BEGIN:VEVENT
DTSTART;TZID=America/Vancouver:20271019T094500
DTEND;TZID=America/Vancouver:20271019T224000
DTSTAMP:20260424T184833
CREATED:20251027T210626Z
LAST-MODIFIED:20251027T210951Z
UID:10000802-1823939100-1823985600@haisla.ca
SUMMARY:Yoga For Wellness
DESCRIPTION:Gentle movement and mindfulness practices to support mental and physical well-being.
URL:https://haisla.ca/event/yoga-for-wellness/2027-10-19/
LOCATION:Haisla Health Centre\, 130 Owekeno Avenue\, Haisla\, British Columbia\, Canada
CATEGORIES:Health and Wellness
END:VEVENT
BEGIN:VEVENT
DTSTART;TZID=America/Vancouver:20271019T120000
DTEND;TZID=America/Vancouver:20271019T130000
DTSTAMP:20260424T184833
CREATED:20251027T211054Z
LAST-MODIFIED:20251027T211127Z
UID:10001846-1823947200-1823950800@haisla.ca
SUMMARY:Yoga For Wellness
DESCRIPTION:Gentle movement and mindfulness practices to support mental and physical well-being.
URL:https://haisla.ca/event/yoga-for-wellness-2/2027-10-19/
LOCATION:Haisla Health Centre\, 130 Owekeno Avenue\, Haisla\, British Columbia\, Canada
CATEGORIES:Health and Wellness
END:VEVENT
BEGIN:VEVENT
DTSTART;TZID=America/Vancouver:20271022T094500
DTEND;TZID=America/Vancouver:20271022T224000
DTSTAMP:20260424T184833
CREATED:20251027T210626Z
LAST-MODIFIED:20251027T210951Z
UID:10000803-1824198300-1824244800@haisla.ca
SUMMARY:Yoga For Wellness
DESCRIPTION:Gentle movement and mindfulness practices to support mental and physical well-being.
URL:https://haisla.ca/event/yoga-for-wellness/2027-10-22/
LOCATION:Haisla Health Centre\, 130 Owekeno Avenue\, Haisla\, British Columbia\, Canada
CATEGORIES:Health and Wellness
END:VEVENT
BEGIN:VEVENT
DTSTART;TZID=America/Vancouver:20271022T120000
DTEND;TZID=America/Vancouver:20271022T130000
DTSTAMP:20260424T184833
CREATED:20251027T211054Z
LAST-MODIFIED:20251027T211127Z
UID:10001847-1824206400-1824210000@haisla.ca
SUMMARY:Yoga For Wellness
DESCRIPTION:Gentle movement and mindfulness practices to support mental and physical well-being.
URL:https://haisla.ca/event/yoga-for-wellness-2/2027-10-22/
LOCATION:Haisla Health Centre\, 130 Owekeno Avenue\, Haisla\, British Columbia\, Canada
CATEGORIES:Health and Wellness
END:VEVENT
BEGIN:VEVENT
DTSTART;TZID=America/Vancouver:20271026T094500
DTEND;TZID=America/Vancouver:20271026T224000
DTSTAMP:20260424T184833
CREATED:20251027T210626Z
LAST-MODIFIED:20251027T210951Z
UID:10000804-1824543900-1824590400@haisla.ca
SUMMARY:Yoga For Wellness
DESCRIPTION:Gentle movement and mindfulness practices to support mental and physical well-being.
URL:https://haisla.ca/event/yoga-for-wellness/2027-10-26/
LOCATION:Haisla Health Centre\, 130 Owekeno Avenue\, Haisla\, British Columbia\, Canada
CATEGORIES:Health and Wellness
END:VEVENT
BEGIN:VEVENT
DTSTART;TZID=America/Vancouver:20271026T120000
DTEND;TZID=America/Vancouver:20271026T130000
DTSTAMP:20260424T184833
CREATED:20251027T211054Z
LAST-MODIFIED:20251027T211127Z
UID:10001848-1824552000-1824555600@haisla.ca
SUMMARY:Yoga For Wellness
DESCRIPTION:Gentle movement and mindfulness practices to support mental and physical well-being.
URL:https://haisla.ca/event/yoga-for-wellness-2/2027-10-26/
LOCATION:Haisla Health Centre\, 130 Owekeno Avenue\, Haisla\, British Columbia\, Canada
CATEGORIES:Health and Wellness
END:VEVENT
BEGIN:VEVENT
DTSTART;TZID=America/Vancouver:20271029T094500
DTEND;TZID=America/Vancouver:20271029T224000
DTSTAMP:20260424T184833
CREATED:20251027T210626Z
LAST-MODIFIED:20251027T210951Z
UID:10000805-1824803100-1824849600@haisla.ca
SUMMARY:Yoga For Wellness
DESCRIPTION:Gentle movement and mindfulness practices to support mental and physical well-being.
URL:https://haisla.ca/event/yoga-for-wellness/2027-10-29/
LOCATION:Haisla Health Centre\, 130 Owekeno Avenue\, Haisla\, British Columbia\, Canada
CATEGORIES:Health and Wellness
END:VEVENT
BEGIN:VEVENT
DTSTART;TZID=America/Vancouver:20271029T120000
DTEND;TZID=America/Vancouver:20271029T130000
DTSTAMP:20260424T184833
CREATED:20251027T211054Z
LAST-MODIFIED:20251027T211127Z
UID:10001849-1824811200-1824814800@haisla.ca
SUMMARY:Yoga For Wellness
DESCRIPTION:Gentle movement and mindfulness practices to support mental and physical well-being.
URL:https://haisla.ca/event/yoga-for-wellness-2/2027-10-29/
LOCATION:Haisla Health Centre\, 130 Owekeno Avenue\, Haisla\, British Columbia\, Canada
CATEGORIES:Health and Wellness
END:VEVENT
BEGIN:VEVENT
DTSTART;TZID=America/Vancouver:20271102T094500
DTEND;TZID=America/Vancouver:20271102T224000
DTSTAMP:20260424T184833
CREATED:20251027T210626Z
LAST-MODIFIED:20251027T210951Z
UID:10000806-1825148700-1825195200@haisla.ca
SUMMARY:Yoga For Wellness
DESCRIPTION:Gentle movement and mindfulness practices to support mental and physical well-being.
URL:https://haisla.ca/event/yoga-for-wellness/2027-11-02/
LOCATION:Haisla Health Centre\, 130 Owekeno Avenue\, Haisla\, British Columbia\, Canada
CATEGORIES:Health and Wellness
END:VEVENT
END:VCALENDAR