BEGIN:VCALENDAR
VERSION:2.0
PRODID:-//Haisla Nation - ECPv6.15.20//NONSGML v1.0//EN
CALSCALE:GREGORIAN
METHOD:PUBLISH
X-WR-CALNAME:Haisla Nation
X-ORIGINAL-URL:https://haisla.ca
X-WR-CALDESC:Events for Haisla Nation
REFRESH-INTERVAL;VALUE=DURATION:PT1H
X-Robots-Tag:noindex
X-PUBLISHED-TTL:PT1H
BEGIN:VTIMEZONE
TZID:America/Vancouver
BEGIN:DAYLIGHT
TZOFFSETFROM:-0800
TZOFFSETTO:-0700
TZNAME:PDT
DTSTART:20270314T100000
END:DAYLIGHT
BEGIN:STANDARD
TZOFFSETFROM:-0700
TZOFFSETTO:-0800
TZNAME:PST
DTSTART:20271107T090000
END:STANDARD
BEGIN:DAYLIGHT
TZOFFSETFROM:-0800
TZOFFSETTO:-0700
TZNAME:PDT
DTSTART:20280312T100000
END:DAYLIGHT
BEGIN:STANDARD
TZOFFSETFROM:-0700
TZOFFSETTO:-0800
TZNAME:PST
DTSTART:20281105T090000
END:STANDARD
BEGIN:DAYLIGHT
TZOFFSETFROM:-0800
TZOFFSETTO:-0700
TZNAME:PDT
DTSTART:20290311T100000
END:DAYLIGHT
BEGIN:STANDARD
TZOFFSETFROM:-0700
TZOFFSETTO:-0800
TZNAME:PST
DTSTART:20291104T090000
END:STANDARD
BEGIN:DAYLIGHT
TZOFFSETFROM:-0800
TZOFFSETTO:-0700
TZNAME:PDT
DTSTART:20300310T100000
END:DAYLIGHT
BEGIN:STANDARD
TZOFFSETFROM:-0700
TZOFFSETTO:-0800
TZNAME:PST
DTSTART:20301103T090000
END:STANDARD
END:VTIMEZONE
BEGIN:VEVENT
DTSTART;TZID=America/Vancouver:20281107T083000
DTEND;TZID=America/Vancouver:20281107T085000
DTSTAMP:20260425T112929
CREATED:20251027T210214Z
LAST-MODIFIED:20251027T210256Z
UID:10000389-1857198600-1857199800@haisla.ca
SUMMARY:Meditation
DESCRIPTION:
URL:https://haisla.ca/event/meditation/2028-11-07/
LOCATION:Haisla Health Centre\, 130 Owekeno Avenue\, Haisla\, British Columbia\, Canada
CATEGORIES:Health and Wellness
END:VEVENT
BEGIN:VEVENT
DTSTART;TZID=America/Vancouver:20281110T083000
DTEND;TZID=America/Vancouver:20281110T085000
DTSTAMP:20260425T112929
CREATED:20251027T210214Z
LAST-MODIFIED:20251027T210256Z
UID:10000390-1857457800-1857459000@haisla.ca
SUMMARY:Meditation
DESCRIPTION:
URL:https://haisla.ca/event/meditation/2028-11-10/
LOCATION:Haisla Health Centre\, 130 Owekeno Avenue\, Haisla\, British Columbia\, Canada
CATEGORIES:Health and Wellness
END:VEVENT
BEGIN:VEVENT
DTSTART;TZID=America/Vancouver:20281114T083000
DTEND;TZID=America/Vancouver:20281114T085000
DTSTAMP:20260425T112929
CREATED:20251027T210214Z
LAST-MODIFIED:20251027T210256Z
UID:10000391-1857803400-1857804600@haisla.ca
SUMMARY:Meditation
DESCRIPTION:
URL:https://haisla.ca/event/meditation/2028-11-14/
LOCATION:Haisla Health Centre\, 130 Owekeno Avenue\, Haisla\, British Columbia\, Canada
CATEGORIES:Health and Wellness
END:VEVENT
BEGIN:VEVENT
DTSTART;TZID=America/Vancouver:20281117T083000
DTEND;TZID=America/Vancouver:20281117T085000
DTSTAMP:20260425T112929
CREATED:20251027T210214Z
LAST-MODIFIED:20251027T210256Z
UID:10000392-1858062600-1858063800@haisla.ca
SUMMARY:Meditation
DESCRIPTION:
URL:https://haisla.ca/event/meditation/2028-11-17/
LOCATION:Haisla Health Centre\, 130 Owekeno Avenue\, Haisla\, British Columbia\, Canada
CATEGORIES:Health and Wellness
END:VEVENT
BEGIN:VEVENT
DTSTART;TZID=America/Vancouver:20281121T083000
DTEND;TZID=America/Vancouver:20281121T085000
DTSTAMP:20260425T112929
CREATED:20251027T210214Z
LAST-MODIFIED:20251027T210256Z
UID:10000393-1858408200-1858409400@haisla.ca
SUMMARY:Meditation
DESCRIPTION:
URL:https://haisla.ca/event/meditation/2028-11-21/
LOCATION:Haisla Health Centre\, 130 Owekeno Avenue\, Haisla\, British Columbia\, Canada
CATEGORIES:Health and Wellness
END:VEVENT
BEGIN:VEVENT
DTSTART;TZID=America/Vancouver:20281124T083000
DTEND;TZID=America/Vancouver:20281124T085000
DTSTAMP:20260425T112929
CREATED:20251027T210214Z
LAST-MODIFIED:20251027T210256Z
UID:10000394-1858667400-1858668600@haisla.ca
SUMMARY:Meditation
DESCRIPTION:
URL:https://haisla.ca/event/meditation/2028-11-24/
LOCATION:Haisla Health Centre\, 130 Owekeno Avenue\, Haisla\, British Columbia\, Canada
CATEGORIES:Health and Wellness
END:VEVENT
BEGIN:VEVENT
DTSTART;TZID=America/Vancouver:20281128T083000
DTEND;TZID=America/Vancouver:20281128T085000
DTSTAMP:20260425T112929
CREATED:20251027T210214Z
LAST-MODIFIED:20251027T210256Z
UID:10000395-1859013000-1859014200@haisla.ca
SUMMARY:Meditation
DESCRIPTION:
URL:https://haisla.ca/event/meditation/2028-11-28/
LOCATION:Haisla Health Centre\, 130 Owekeno Avenue\, Haisla\, British Columbia\, Canada
CATEGORIES:Health and Wellness
END:VEVENT
BEGIN:VEVENT
DTSTART;TZID=America/Vancouver:20281201T083000
DTEND;TZID=America/Vancouver:20281201T085000
DTSTAMP:20260425T112929
CREATED:20251027T210214Z
LAST-MODIFIED:20251027T210256Z
UID:10000396-1859272200-1859273400@haisla.ca
SUMMARY:Meditation
DESCRIPTION:
URL:https://haisla.ca/event/meditation/2028-12-01/
LOCATION:Haisla Health Centre\, 130 Owekeno Avenue\, Haisla\, British Columbia\, Canada
CATEGORIES:Health and Wellness
END:VEVENT
BEGIN:VEVENT
DTSTART;TZID=America/Vancouver:20281205T083000
DTEND;TZID=America/Vancouver:20281205T085000
DTSTAMP:20260425T112929
CREATED:20251027T210214Z
LAST-MODIFIED:20251027T210256Z
UID:10000397-1859617800-1859619000@haisla.ca
SUMMARY:Meditation
DESCRIPTION:
URL:https://haisla.ca/event/meditation/2028-12-05/
LOCATION:Haisla Health Centre\, 130 Owekeno Avenue\, Haisla\, British Columbia\, Canada
CATEGORIES:Health and Wellness
END:VEVENT
BEGIN:VEVENT
DTSTART;TZID=America/Vancouver:20281208T083000
DTEND;TZID=America/Vancouver:20281208T085000
DTSTAMP:20260425T112929
CREATED:20251027T210214Z
LAST-MODIFIED:20251027T210256Z
UID:10000398-1859877000-1859878200@haisla.ca
SUMMARY:Meditation
DESCRIPTION:
URL:https://haisla.ca/event/meditation/2028-12-08/
LOCATION:Haisla Health Centre\, 130 Owekeno Avenue\, Haisla\, British Columbia\, Canada
CATEGORIES:Health and Wellness
END:VEVENT
BEGIN:VEVENT
DTSTART;TZID=America/Vancouver:20281212T083000
DTEND;TZID=America/Vancouver:20281212T085000
DTSTAMP:20260425T112929
CREATED:20251027T210214Z
LAST-MODIFIED:20251027T210256Z
UID:10000399-1860222600-1860223800@haisla.ca
SUMMARY:Meditation
DESCRIPTION:
URL:https://haisla.ca/event/meditation/2028-12-12/
LOCATION:Haisla Health Centre\, 130 Owekeno Avenue\, Haisla\, British Columbia\, Canada
CATEGORIES:Health and Wellness
END:VEVENT
BEGIN:VEVENT
DTSTART;TZID=America/Vancouver:20281215T083000
DTEND;TZID=America/Vancouver:20281215T085000
DTSTAMP:20260425T112929
CREATED:20251027T210214Z
LAST-MODIFIED:20251027T210256Z
UID:10000400-1860481800-1860483000@haisla.ca
SUMMARY:Meditation
DESCRIPTION:
URL:https://haisla.ca/event/meditation/2028-12-15/
LOCATION:Haisla Health Centre\, 130 Owekeno Avenue\, Haisla\, British Columbia\, Canada
CATEGORIES:Health and Wellness
END:VEVENT
BEGIN:VEVENT
DTSTART;TZID=America/Vancouver:20281219T083000
DTEND;TZID=America/Vancouver:20281219T085000
DTSTAMP:20260425T112929
CREATED:20251027T210214Z
LAST-MODIFIED:20251027T210256Z
UID:10000401-1860827400-1860828600@haisla.ca
SUMMARY:Meditation
DESCRIPTION:
URL:https://haisla.ca/event/meditation/2028-12-19/
LOCATION:Haisla Health Centre\, 130 Owekeno Avenue\, Haisla\, British Columbia\, Canada
CATEGORIES:Health and Wellness
END:VEVENT
BEGIN:VEVENT
DTSTART;TZID=America/Vancouver:20281222T083000
DTEND;TZID=America/Vancouver:20281222T085000
DTSTAMP:20260425T112929
CREATED:20251027T210214Z
LAST-MODIFIED:20251027T210256Z
UID:10000402-1861086600-1861087800@haisla.ca
SUMMARY:Meditation
DESCRIPTION:
URL:https://haisla.ca/event/meditation/2028-12-22/
LOCATION:Haisla Health Centre\, 130 Owekeno Avenue\, Haisla\, British Columbia\, Canada
CATEGORIES:Health and Wellness
END:VEVENT
BEGIN:VEVENT
DTSTART;TZID=America/Vancouver:20281226T083000
DTEND;TZID=America/Vancouver:20281226T085000
DTSTAMP:20260425T112929
CREATED:20251027T210214Z
LAST-MODIFIED:20251027T210256Z
UID:10000403-1861432200-1861433400@haisla.ca
SUMMARY:Meditation
DESCRIPTION:
URL:https://haisla.ca/event/meditation/2028-12-26/
LOCATION:Haisla Health Centre\, 130 Owekeno Avenue\, Haisla\, British Columbia\, Canada
CATEGORIES:Health and Wellness
END:VEVENT
BEGIN:VEVENT
DTSTART;TZID=America/Vancouver:20281229T083000
DTEND;TZID=America/Vancouver:20281229T085000
DTSTAMP:20260425T112929
CREATED:20251027T210214Z
LAST-MODIFIED:20251027T210256Z
UID:10000404-1861691400-1861692600@haisla.ca
SUMMARY:Meditation
DESCRIPTION:
URL:https://haisla.ca/event/meditation/2028-12-29/
LOCATION:Haisla Health Centre\, 130 Owekeno Avenue\, Haisla\, British Columbia\, Canada
CATEGORIES:Health and Wellness
END:VEVENT
BEGIN:VEVENT
DTSTART;TZID=America/Vancouver:20290102T083000
DTEND;TZID=America/Vancouver:20290102T085000
DTSTAMP:20260425T112929
CREATED:20251027T210214Z
LAST-MODIFIED:20251027T210256Z
UID:10000405-1862037000-1862038200@haisla.ca
SUMMARY:Meditation
DESCRIPTION:
URL:https://haisla.ca/event/meditation/2029-01-02/
LOCATION:Haisla Health Centre\, 130 Owekeno Avenue\, Haisla\, British Columbia\, Canada
CATEGORIES:Health and Wellness
END:VEVENT
BEGIN:VEVENT
DTSTART;TZID=America/Vancouver:20290105T083000
DTEND;TZID=America/Vancouver:20290105T085000
DTSTAMP:20260425T112929
CREATED:20251027T210214Z
LAST-MODIFIED:20251027T210256Z
UID:10000406-1862296200-1862297400@haisla.ca
SUMMARY:Meditation
DESCRIPTION:
URL:https://haisla.ca/event/meditation/2029-01-05/
LOCATION:Haisla Health Centre\, 130 Owekeno Avenue\, Haisla\, British Columbia\, Canada
CATEGORIES:Health and Wellness
END:VEVENT
BEGIN:VEVENT
DTSTART;TZID=America/Vancouver:20290109T083000
DTEND;TZID=America/Vancouver:20290109T085000
DTSTAMP:20260425T112929
CREATED:20251027T210214Z
LAST-MODIFIED:20251027T210256Z
UID:10000407-1862641800-1862643000@haisla.ca
SUMMARY:Meditation
DESCRIPTION:
URL:https://haisla.ca/event/meditation/2029-01-09/
LOCATION:Haisla Health Centre\, 130 Owekeno Avenue\, Haisla\, British Columbia\, Canada
CATEGORIES:Health and Wellness
END:VEVENT
BEGIN:VEVENT
DTSTART;TZID=America/Vancouver:20290112T083000
DTEND;TZID=America/Vancouver:20290112T085000
DTSTAMP:20260425T112929
CREATED:20251027T210214Z
LAST-MODIFIED:20251027T210256Z
UID:10000408-1862901000-1862902200@haisla.ca
SUMMARY:Meditation
DESCRIPTION:
URL:https://haisla.ca/event/meditation/2029-01-12/
LOCATION:Haisla Health Centre\, 130 Owekeno Avenue\, Haisla\, British Columbia\, Canada
CATEGORIES:Health and Wellness
END:VEVENT
BEGIN:VEVENT
DTSTART;TZID=America/Vancouver:20290116T083000
DTEND;TZID=America/Vancouver:20290116T085000
DTSTAMP:20260425T112929
CREATED:20251027T210214Z
LAST-MODIFIED:20251027T210256Z
UID:10000409-1863246600-1863247800@haisla.ca
SUMMARY:Meditation
DESCRIPTION:
URL:https://haisla.ca/event/meditation/2029-01-16/
LOCATION:Haisla Health Centre\, 130 Owekeno Avenue\, Haisla\, British Columbia\, Canada
CATEGORIES:Health and Wellness
END:VEVENT
BEGIN:VEVENT
DTSTART;TZID=America/Vancouver:20290119T083000
DTEND;TZID=America/Vancouver:20290119T085000
DTSTAMP:20260425T112929
CREATED:20251027T210214Z
LAST-MODIFIED:20251027T210256Z
UID:10000410-1863505800-1863507000@haisla.ca
SUMMARY:Meditation
DESCRIPTION:
URL:https://haisla.ca/event/meditation/2029-01-19/
LOCATION:Haisla Health Centre\, 130 Owekeno Avenue\, Haisla\, British Columbia\, Canada
CATEGORIES:Health and Wellness
END:VEVENT
BEGIN:VEVENT
DTSTART;TZID=America/Vancouver:20290123T083000
DTEND;TZID=America/Vancouver:20290123T085000
DTSTAMP:20260425T112929
CREATED:20251027T210214Z
LAST-MODIFIED:20251027T210256Z
UID:10000411-1863851400-1863852600@haisla.ca
SUMMARY:Meditation
DESCRIPTION:
URL:https://haisla.ca/event/meditation/2029-01-23/
LOCATION:Haisla Health Centre\, 130 Owekeno Avenue\, Haisla\, British Columbia\, Canada
CATEGORIES:Health and Wellness
END:VEVENT
BEGIN:VEVENT
DTSTART;TZID=America/Vancouver:20290126T083000
DTEND;TZID=America/Vancouver:20290126T085000
DTSTAMP:20260425T112929
CREATED:20251027T210214Z
LAST-MODIFIED:20251027T210256Z
UID:10000412-1864110600-1864111800@haisla.ca
SUMMARY:Meditation
DESCRIPTION:
URL:https://haisla.ca/event/meditation/2029-01-26/
LOCATION:Haisla Health Centre\, 130 Owekeno Avenue\, Haisla\, British Columbia\, Canada
CATEGORIES:Health and Wellness
END:VEVENT
BEGIN:VEVENT
DTSTART;TZID=America/Vancouver:20290130T083000
DTEND;TZID=America/Vancouver:20290130T085000
DTSTAMP:20260425T112929
CREATED:20251027T210214Z
LAST-MODIFIED:20251027T210256Z
UID:10000413-1864456200-1864457400@haisla.ca
SUMMARY:Meditation
DESCRIPTION:
URL:https://haisla.ca/event/meditation/2029-01-30/
LOCATION:Haisla Health Centre\, 130 Owekeno Avenue\, Haisla\, British Columbia\, Canada
CATEGORIES:Health and Wellness
END:VEVENT
BEGIN:VEVENT
DTSTART;TZID=America/Vancouver:20290202T083000
DTEND;TZID=America/Vancouver:20290202T085000
DTSTAMP:20260425T112929
CREATED:20251027T210214Z
LAST-MODIFIED:20251027T210256Z
UID:10000414-1864715400-1864716600@haisla.ca
SUMMARY:Meditation
DESCRIPTION:
URL:https://haisla.ca/event/meditation/2029-02-02/
LOCATION:Haisla Health Centre\, 130 Owekeno Avenue\, Haisla\, British Columbia\, Canada
CATEGORIES:Health and Wellness
END:VEVENT
BEGIN:VEVENT
DTSTART;TZID=America/Vancouver:20290206T083000
DTEND;TZID=America/Vancouver:20290206T085000
DTSTAMP:20260425T112929
CREATED:20251027T210214Z
LAST-MODIFIED:20251027T210256Z
UID:10000415-1865061000-1865062200@haisla.ca
SUMMARY:Meditation
DESCRIPTION:
URL:https://haisla.ca/event/meditation/2029-02-06/
LOCATION:Haisla Health Centre\, 130 Owekeno Avenue\, Haisla\, British Columbia\, Canada
CATEGORIES:Health and Wellness
END:VEVENT
BEGIN:VEVENT
DTSTART;TZID=America/Vancouver:20290209T083000
DTEND;TZID=America/Vancouver:20290209T085000
DTSTAMP:20260425T112929
CREATED:20251027T210214Z
LAST-MODIFIED:20251027T210256Z
UID:10000416-1865320200-1865321400@haisla.ca
SUMMARY:Meditation
DESCRIPTION:
URL:https://haisla.ca/event/meditation/2029-02-09/
LOCATION:Haisla Health Centre\, 130 Owekeno Avenue\, Haisla\, British Columbia\, Canada
CATEGORIES:Health and Wellness
END:VEVENT
BEGIN:VEVENT
DTSTART;TZID=America/Vancouver:20290213T083000
DTEND;TZID=America/Vancouver:20290213T085000
DTSTAMP:20260425T112929
CREATED:20251027T210214Z
LAST-MODIFIED:20251027T210256Z
UID:10000417-1865665800-1865667000@haisla.ca
SUMMARY:Meditation
DESCRIPTION:
URL:https://haisla.ca/event/meditation/2029-02-13/
LOCATION:Haisla Health Centre\, 130 Owekeno Avenue\, Haisla\, British Columbia\, Canada
CATEGORIES:Health and Wellness
END:VEVENT
BEGIN:VEVENT
DTSTART;TZID=America/Vancouver:20290216T083000
DTEND;TZID=America/Vancouver:20290216T085000
DTSTAMP:20260425T112929
CREATED:20251027T210214Z
LAST-MODIFIED:20251027T210256Z
UID:10000418-1865925000-1865926200@haisla.ca
SUMMARY:Meditation
DESCRIPTION:
URL:https://haisla.ca/event/meditation/2029-02-16/
LOCATION:Haisla Health Centre\, 130 Owekeno Avenue\, Haisla\, British Columbia\, Canada
CATEGORIES:Health and Wellness
END:VEVENT
END:VCALENDAR