BEGIN:VCALENDAR
VERSION:2.0
PRODID:-//Haisla Nation - ECPv6.15.20//NONSGML v1.0//EN
CALSCALE:GREGORIAN
METHOD:PUBLISH
X-WR-CALNAME:Haisla Nation
X-ORIGINAL-URL:https://haisla.ca
X-WR-CALDESC:Events for Haisla Nation
REFRESH-INTERVAL;VALUE=DURATION:PT1H
X-Robots-Tag:noindex
X-PUBLISHED-TTL:PT1H
BEGIN:VTIMEZONE
TZID:America/Vancouver
BEGIN:DAYLIGHT
TZOFFSETFROM:-0800
TZOFFSETTO:-0700
TZNAME:PDT
DTSTART:20270314T100000
END:DAYLIGHT
BEGIN:STANDARD
TZOFFSETFROM:-0700
TZOFFSETTO:-0800
TZNAME:PST
DTSTART:20271107T090000
END:STANDARD
BEGIN:DAYLIGHT
TZOFFSETFROM:-0800
TZOFFSETTO:-0700
TZNAME:PDT
DTSTART:20280312T100000
END:DAYLIGHT
BEGIN:STANDARD
TZOFFSETFROM:-0700
TZOFFSETTO:-0800
TZNAME:PST
DTSTART:20281105T090000
END:STANDARD
BEGIN:DAYLIGHT
TZOFFSETFROM:-0800
TZOFFSETTO:-0700
TZNAME:PDT
DTSTART:20290311T100000
END:DAYLIGHT
BEGIN:STANDARD
TZOFFSETFROM:-0700
TZOFFSETTO:-0800
TZNAME:PST
DTSTART:20291104T090000
END:STANDARD
END:VTIMEZONE
BEGIN:VEVENT
DTSTART;TZID=America/Vancouver:20280815T083000
DTEND;TZID=America/Vancouver:20280815T085000
DTSTAMP:20260425T095037
CREATED:20251027T210214Z
LAST-MODIFIED:20251027T210256Z
UID:10000365-1849941000-1849942200@haisla.ca
SUMMARY:Meditation
DESCRIPTION:
URL:https://haisla.ca/event/meditation/2028-08-15/
LOCATION:Haisla Health Centre\, 130 Owekeno Avenue\, Haisla\, British Columbia\, Canada
CATEGORIES:Health and Wellness
END:VEVENT
BEGIN:VEVENT
DTSTART;TZID=America/Vancouver:20280818T083000
DTEND;TZID=America/Vancouver:20280818T085000
DTSTAMP:20260425T095037
CREATED:20251027T210214Z
LAST-MODIFIED:20251027T210256Z
UID:10000366-1850200200-1850201400@haisla.ca
SUMMARY:Meditation
DESCRIPTION:
URL:https://haisla.ca/event/meditation/2028-08-18/
LOCATION:Haisla Health Centre\, 130 Owekeno Avenue\, Haisla\, British Columbia\, Canada
CATEGORIES:Health and Wellness
END:VEVENT
BEGIN:VEVENT
DTSTART;TZID=America/Vancouver:20280822T083000
DTEND;TZID=America/Vancouver:20280822T085000
DTSTAMP:20260425T095037
CREATED:20251027T210214Z
LAST-MODIFIED:20251027T210256Z
UID:10000367-1850545800-1850547000@haisla.ca
SUMMARY:Meditation
DESCRIPTION:
URL:https://haisla.ca/event/meditation/2028-08-22/
LOCATION:Haisla Health Centre\, 130 Owekeno Avenue\, Haisla\, British Columbia\, Canada
CATEGORIES:Health and Wellness
END:VEVENT
BEGIN:VEVENT
DTSTART;TZID=America/Vancouver:20280825T083000
DTEND;TZID=America/Vancouver:20280825T085000
DTSTAMP:20260425T095037
CREATED:20251027T210214Z
LAST-MODIFIED:20251027T210256Z
UID:10000368-1850805000-1850806200@haisla.ca
SUMMARY:Meditation
DESCRIPTION:
URL:https://haisla.ca/event/meditation/2028-08-25/
LOCATION:Haisla Health Centre\, 130 Owekeno Avenue\, Haisla\, British Columbia\, Canada
CATEGORIES:Health and Wellness
END:VEVENT
BEGIN:VEVENT
DTSTART;TZID=America/Vancouver:20280829T083000
DTEND;TZID=America/Vancouver:20280829T085000
DTSTAMP:20260425T095037
CREATED:20251027T210214Z
LAST-MODIFIED:20251027T210256Z
UID:10000369-1851150600-1851151800@haisla.ca
SUMMARY:Meditation
DESCRIPTION:
URL:https://haisla.ca/event/meditation/2028-08-29/
LOCATION:Haisla Health Centre\, 130 Owekeno Avenue\, Haisla\, British Columbia\, Canada
CATEGORIES:Health and Wellness
END:VEVENT
BEGIN:VEVENT
DTSTART;TZID=America/Vancouver:20280901T083000
DTEND;TZID=America/Vancouver:20280901T085000
DTSTAMP:20260425T095037
CREATED:20251027T210214Z
LAST-MODIFIED:20251027T210256Z
UID:10000370-1851409800-1851411000@haisla.ca
SUMMARY:Meditation
DESCRIPTION:
URL:https://haisla.ca/event/meditation/2028-09-01/
LOCATION:Haisla Health Centre\, 130 Owekeno Avenue\, Haisla\, British Columbia\, Canada
CATEGORIES:Health and Wellness
END:VEVENT
BEGIN:VEVENT
DTSTART;TZID=America/Vancouver:20280905T083000
DTEND;TZID=America/Vancouver:20280905T085000
DTSTAMP:20260425T095037
CREATED:20251027T210214Z
LAST-MODIFIED:20251027T210256Z
UID:10000371-1851755400-1851756600@haisla.ca
SUMMARY:Meditation
DESCRIPTION:
URL:https://haisla.ca/event/meditation/2028-09-05/
LOCATION:Haisla Health Centre\, 130 Owekeno Avenue\, Haisla\, British Columbia\, Canada
CATEGORIES:Health and Wellness
END:VEVENT
BEGIN:VEVENT
DTSTART;TZID=America/Vancouver:20280908T083000
DTEND;TZID=America/Vancouver:20280908T085000
DTSTAMP:20260425T095037
CREATED:20251027T210214Z
LAST-MODIFIED:20251027T210256Z
UID:10000372-1852014600-1852015800@haisla.ca
SUMMARY:Meditation
DESCRIPTION:
URL:https://haisla.ca/event/meditation/2028-09-08/
LOCATION:Haisla Health Centre\, 130 Owekeno Avenue\, Haisla\, British Columbia\, Canada
CATEGORIES:Health and Wellness
END:VEVENT
BEGIN:VEVENT
DTSTART;TZID=America/Vancouver:20280912T083000
DTEND;TZID=America/Vancouver:20280912T085000
DTSTAMP:20260425T095037
CREATED:20251027T210214Z
LAST-MODIFIED:20251027T210256Z
UID:10000373-1852360200-1852361400@haisla.ca
SUMMARY:Meditation
DESCRIPTION:
URL:https://haisla.ca/event/meditation/2028-09-12/
LOCATION:Haisla Health Centre\, 130 Owekeno Avenue\, Haisla\, British Columbia\, Canada
CATEGORIES:Health and Wellness
END:VEVENT
BEGIN:VEVENT
DTSTART;TZID=America/Vancouver:20280915T083000
DTEND;TZID=America/Vancouver:20280915T085000
DTSTAMP:20260425T095037
CREATED:20251027T210214Z
LAST-MODIFIED:20251027T210256Z
UID:10000374-1852619400-1852620600@haisla.ca
SUMMARY:Meditation
DESCRIPTION:
URL:https://haisla.ca/event/meditation/2028-09-15/
LOCATION:Haisla Health Centre\, 130 Owekeno Avenue\, Haisla\, British Columbia\, Canada
CATEGORIES:Health and Wellness
END:VEVENT
BEGIN:VEVENT
DTSTART;TZID=America/Vancouver:20280919T083000
DTEND;TZID=America/Vancouver:20280919T085000
DTSTAMP:20260425T095037
CREATED:20251027T210214Z
LAST-MODIFIED:20251027T210256Z
UID:10000375-1852965000-1852966200@haisla.ca
SUMMARY:Meditation
DESCRIPTION:
URL:https://haisla.ca/event/meditation/2028-09-19/
LOCATION:Haisla Health Centre\, 130 Owekeno Avenue\, Haisla\, British Columbia\, Canada
CATEGORIES:Health and Wellness
END:VEVENT
BEGIN:VEVENT
DTSTART;TZID=America/Vancouver:20280922T083000
DTEND;TZID=America/Vancouver:20280922T085000
DTSTAMP:20260425T095037
CREATED:20251027T210214Z
LAST-MODIFIED:20251027T210256Z
UID:10000376-1853224200-1853225400@haisla.ca
SUMMARY:Meditation
DESCRIPTION:
URL:https://haisla.ca/event/meditation/2028-09-22/
LOCATION:Haisla Health Centre\, 130 Owekeno Avenue\, Haisla\, British Columbia\, Canada
CATEGORIES:Health and Wellness
END:VEVENT
BEGIN:VEVENT
DTSTART;TZID=America/Vancouver:20280926T083000
DTEND;TZID=America/Vancouver:20280926T085000
DTSTAMP:20260425T095037
CREATED:20251027T210214Z
LAST-MODIFIED:20251027T210256Z
UID:10000377-1853569800-1853571000@haisla.ca
SUMMARY:Meditation
DESCRIPTION:
URL:https://haisla.ca/event/meditation/2028-09-26/
LOCATION:Haisla Health Centre\, 130 Owekeno Avenue\, Haisla\, British Columbia\, Canada
CATEGORIES:Health and Wellness
END:VEVENT
BEGIN:VEVENT
DTSTART;TZID=America/Vancouver:20280929T083000
DTEND;TZID=America/Vancouver:20280929T085000
DTSTAMP:20260425T095037
CREATED:20251027T210214Z
LAST-MODIFIED:20251027T210256Z
UID:10000378-1853829000-1853830200@haisla.ca
SUMMARY:Meditation
DESCRIPTION:
URL:https://haisla.ca/event/meditation/2028-09-29/
LOCATION:Haisla Health Centre\, 130 Owekeno Avenue\, Haisla\, British Columbia\, Canada
CATEGORIES:Health and Wellness
END:VEVENT
BEGIN:VEVENT
DTSTART;TZID=America/Vancouver:20281003T083000
DTEND;TZID=America/Vancouver:20281003T085000
DTSTAMP:20260425T095037
CREATED:20251027T210214Z
LAST-MODIFIED:20251027T210256Z
UID:10000379-1854174600-1854175800@haisla.ca
SUMMARY:Meditation
DESCRIPTION:
URL:https://haisla.ca/event/meditation/2028-10-03/
LOCATION:Haisla Health Centre\, 130 Owekeno Avenue\, Haisla\, British Columbia\, Canada
CATEGORIES:Health and Wellness
END:VEVENT
BEGIN:VEVENT
DTSTART;TZID=America/Vancouver:20281006T083000
DTEND;TZID=America/Vancouver:20281006T085000
DTSTAMP:20260425T095037
CREATED:20251027T210214Z
LAST-MODIFIED:20251027T210256Z
UID:10000380-1854433800-1854435000@haisla.ca
SUMMARY:Meditation
DESCRIPTION:
URL:https://haisla.ca/event/meditation/2028-10-06/
LOCATION:Haisla Health Centre\, 130 Owekeno Avenue\, Haisla\, British Columbia\, Canada
CATEGORIES:Health and Wellness
END:VEVENT
BEGIN:VEVENT
DTSTART;TZID=America/Vancouver:20281010T083000
DTEND;TZID=America/Vancouver:20281010T085000
DTSTAMP:20260425T095037
CREATED:20251027T210214Z
LAST-MODIFIED:20251027T210256Z
UID:10000381-1854779400-1854780600@haisla.ca
SUMMARY:Meditation
DESCRIPTION:
URL:https://haisla.ca/event/meditation/2028-10-10/
LOCATION:Haisla Health Centre\, 130 Owekeno Avenue\, Haisla\, British Columbia\, Canada
CATEGORIES:Health and Wellness
END:VEVENT
BEGIN:VEVENT
DTSTART;TZID=America/Vancouver:20281013T083000
DTEND;TZID=America/Vancouver:20281013T085000
DTSTAMP:20260425T095037
CREATED:20251027T210214Z
LAST-MODIFIED:20251027T210256Z
UID:10000382-1855038600-1855039800@haisla.ca
SUMMARY:Meditation
DESCRIPTION:
URL:https://haisla.ca/event/meditation/2028-10-13/
LOCATION:Haisla Health Centre\, 130 Owekeno Avenue\, Haisla\, British Columbia\, Canada
CATEGORIES:Health and Wellness
END:VEVENT
BEGIN:VEVENT
DTSTART;TZID=America/Vancouver:20281017T083000
DTEND;TZID=America/Vancouver:20281017T085000
DTSTAMP:20260425T095037
CREATED:20251027T210214Z
LAST-MODIFIED:20251027T210256Z
UID:10000383-1855384200-1855385400@haisla.ca
SUMMARY:Meditation
DESCRIPTION:
URL:https://haisla.ca/event/meditation/2028-10-17/
LOCATION:Haisla Health Centre\, 130 Owekeno Avenue\, Haisla\, British Columbia\, Canada
CATEGORIES:Health and Wellness
END:VEVENT
BEGIN:VEVENT
DTSTART;TZID=America/Vancouver:20281020T083000
DTEND;TZID=America/Vancouver:20281020T085000
DTSTAMP:20260425T095037
CREATED:20251027T210214Z
LAST-MODIFIED:20251027T210256Z
UID:10000384-1855643400-1855644600@haisla.ca
SUMMARY:Meditation
DESCRIPTION:
URL:https://haisla.ca/event/meditation/2028-10-20/
LOCATION:Haisla Health Centre\, 130 Owekeno Avenue\, Haisla\, British Columbia\, Canada
CATEGORIES:Health and Wellness
END:VEVENT
BEGIN:VEVENT
DTSTART;TZID=America/Vancouver:20281024T083000
DTEND;TZID=America/Vancouver:20281024T085000
DTSTAMP:20260425T095037
CREATED:20251027T210214Z
LAST-MODIFIED:20251027T210256Z
UID:10000385-1855989000-1855990200@haisla.ca
SUMMARY:Meditation
DESCRIPTION:
URL:https://haisla.ca/event/meditation/2028-10-24/
LOCATION:Haisla Health Centre\, 130 Owekeno Avenue\, Haisla\, British Columbia\, Canada
CATEGORIES:Health and Wellness
END:VEVENT
BEGIN:VEVENT
DTSTART;TZID=America/Vancouver:20281027T083000
DTEND;TZID=America/Vancouver:20281027T085000
DTSTAMP:20260425T095037
CREATED:20251027T210214Z
LAST-MODIFIED:20251027T210256Z
UID:10000386-1856248200-1856249400@haisla.ca
SUMMARY:Meditation
DESCRIPTION:
URL:https://haisla.ca/event/meditation/2028-10-27/
LOCATION:Haisla Health Centre\, 130 Owekeno Avenue\, Haisla\, British Columbia\, Canada
CATEGORIES:Health and Wellness
END:VEVENT
BEGIN:VEVENT
DTSTART;TZID=America/Vancouver:20281031T083000
DTEND;TZID=America/Vancouver:20281031T085000
DTSTAMP:20260425T095037
CREATED:20251027T210214Z
LAST-MODIFIED:20251027T210256Z
UID:10000387-1856593800-1856595000@haisla.ca
SUMMARY:Meditation
DESCRIPTION:
URL:https://haisla.ca/event/meditation/2028-10-31/
LOCATION:Haisla Health Centre\, 130 Owekeno Avenue\, Haisla\, British Columbia\, Canada
CATEGORIES:Health and Wellness
END:VEVENT
BEGIN:VEVENT
DTSTART;TZID=America/Vancouver:20281103T083000
DTEND;TZID=America/Vancouver:20281103T085000
DTSTAMP:20260425T095037
CREATED:20251027T210214Z
LAST-MODIFIED:20251027T210256Z
UID:10000388-1856853000-1856854200@haisla.ca
SUMMARY:Meditation
DESCRIPTION:
URL:https://haisla.ca/event/meditation/2028-11-03/
LOCATION:Haisla Health Centre\, 130 Owekeno Avenue\, Haisla\, British Columbia\, Canada
CATEGORIES:Health and Wellness
END:VEVENT
BEGIN:VEVENT
DTSTART;TZID=America/Vancouver:20281107T083000
DTEND;TZID=America/Vancouver:20281107T085000
DTSTAMP:20260425T095037
CREATED:20251027T210214Z
LAST-MODIFIED:20251027T210256Z
UID:10000389-1857198600-1857199800@haisla.ca
SUMMARY:Meditation
DESCRIPTION:
URL:https://haisla.ca/event/meditation/2028-11-07/
LOCATION:Haisla Health Centre\, 130 Owekeno Avenue\, Haisla\, British Columbia\, Canada
CATEGORIES:Health and Wellness
END:VEVENT
BEGIN:VEVENT
DTSTART;TZID=America/Vancouver:20281110T083000
DTEND;TZID=America/Vancouver:20281110T085000
DTSTAMP:20260425T095037
CREATED:20251027T210214Z
LAST-MODIFIED:20251027T210256Z
UID:10000390-1857457800-1857459000@haisla.ca
SUMMARY:Meditation
DESCRIPTION:
URL:https://haisla.ca/event/meditation/2028-11-10/
LOCATION:Haisla Health Centre\, 130 Owekeno Avenue\, Haisla\, British Columbia\, Canada
CATEGORIES:Health and Wellness
END:VEVENT
BEGIN:VEVENT
DTSTART;TZID=America/Vancouver:20281114T083000
DTEND;TZID=America/Vancouver:20281114T085000
DTSTAMP:20260425T095037
CREATED:20251027T210214Z
LAST-MODIFIED:20251027T210256Z
UID:10000391-1857803400-1857804600@haisla.ca
SUMMARY:Meditation
DESCRIPTION:
URL:https://haisla.ca/event/meditation/2028-11-14/
LOCATION:Haisla Health Centre\, 130 Owekeno Avenue\, Haisla\, British Columbia\, Canada
CATEGORIES:Health and Wellness
END:VEVENT
BEGIN:VEVENT
DTSTART;TZID=America/Vancouver:20281117T083000
DTEND;TZID=America/Vancouver:20281117T085000
DTSTAMP:20260425T095037
CREATED:20251027T210214Z
LAST-MODIFIED:20251027T210256Z
UID:10000392-1858062600-1858063800@haisla.ca
SUMMARY:Meditation
DESCRIPTION:
URL:https://haisla.ca/event/meditation/2028-11-17/
LOCATION:Haisla Health Centre\, 130 Owekeno Avenue\, Haisla\, British Columbia\, Canada
CATEGORIES:Health and Wellness
END:VEVENT
BEGIN:VEVENT
DTSTART;TZID=America/Vancouver:20281121T083000
DTEND;TZID=America/Vancouver:20281121T085000
DTSTAMP:20260425T095037
CREATED:20251027T210214Z
LAST-MODIFIED:20251027T210256Z
UID:10000393-1858408200-1858409400@haisla.ca
SUMMARY:Meditation
DESCRIPTION:
URL:https://haisla.ca/event/meditation/2028-11-21/
LOCATION:Haisla Health Centre\, 130 Owekeno Avenue\, Haisla\, British Columbia\, Canada
CATEGORIES:Health and Wellness
END:VEVENT
BEGIN:VEVENT
DTSTART;TZID=America/Vancouver:20281124T083000
DTEND;TZID=America/Vancouver:20281124T085000
DTSTAMP:20260425T095037
CREATED:20251027T210214Z
LAST-MODIFIED:20251027T210256Z
UID:10000394-1858667400-1858668600@haisla.ca
SUMMARY:Meditation
DESCRIPTION:
URL:https://haisla.ca/event/meditation/2028-11-24/
LOCATION:Haisla Health Centre\, 130 Owekeno Avenue\, Haisla\, British Columbia\, Canada
CATEGORIES:Health and Wellness
END:VEVENT
END:VCALENDAR