BEGIN:VCALENDAR
VERSION:2.0
PRODID:-//Haisla Nation - ECPv6.15.20//NONSGML v1.0//EN
CALSCALE:GREGORIAN
METHOD:PUBLISH
X-ORIGINAL-URL:https://haisla.ca
X-WR-CALDESC:Events for Haisla Nation
REFRESH-INTERVAL;VALUE=DURATION:PT1H
X-Robots-Tag:noindex
X-PUBLISHED-TTL:PT1H
BEGIN:VTIMEZONE
TZID:America/Vancouver
BEGIN:DAYLIGHT
TZOFFSETFROM:-0800
TZOFFSETTO:-0700
TZNAME:PDT
DTSTART:20260308T100000
END:DAYLIGHT
BEGIN:STANDARD
TZOFFSETFROM:-0700
TZOFFSETTO:-0800
TZNAME:PST
DTSTART:20261101T090000
END:STANDARD
BEGIN:DAYLIGHT
TZOFFSETFROM:-0800
TZOFFSETTO:-0700
TZNAME:PDT
DTSTART:20270314T100000
END:DAYLIGHT
BEGIN:STANDARD
TZOFFSETFROM:-0700
TZOFFSETTO:-0800
TZNAME:PST
DTSTART:20271107T090000
END:STANDARD
BEGIN:DAYLIGHT
TZOFFSETFROM:-0800
TZOFFSETTO:-0700
TZNAME:PDT
DTSTART:20280312T100000
END:DAYLIGHT
BEGIN:STANDARD
TZOFFSETFROM:-0700
TZOFFSETTO:-0800
TZNAME:PST
DTSTART:20281105T090000
END:STANDARD
END:VTIMEZONE
BEGIN:VEVENT
DTSTART;TZID=America/Vancouver:20270528T094500
DTEND;TZID=America/Vancouver:20270528T224000
DTSTAMP:20260424T090927
CREATED:20251027T210626Z
LAST-MODIFIED:20251027T210951Z
UID:10000761-1811497500-1811544000@haisla.ca
SUMMARY:Yoga For Wellness
DESCRIPTION:Gentle movement and mindfulness practices to support mental and physical well-being.
URL:https://haisla.ca/event/yoga-for-wellness/2027-05-28/
LOCATION:Haisla Health Centre\, 130 Owekeno Avenue\, Haisla\, British Columbia\, Canada
CATEGORIES:Health and Wellness
END:VEVENT
BEGIN:VEVENT
DTSTART;TZID=America/Vancouver:20270528T120000
DTEND;TZID=America/Vancouver:20270528T130000
DTSTAMP:20260424T090927
CREATED:20251027T211054Z
LAST-MODIFIED:20251027T211127Z
UID:10001805-1811505600-1811509200@haisla.ca
SUMMARY:Yoga For Wellness
DESCRIPTION:Gentle movement and mindfulness practices to support mental and physical well-being.
URL:https://haisla.ca/event/yoga-for-wellness-2/2027-05-28/
LOCATION:Haisla Health Centre\, 130 Owekeno Avenue\, Haisla\, British Columbia\, Canada
CATEGORIES:Health and Wellness
END:VEVENT
BEGIN:VEVENT
DTSTART;TZID=America/Vancouver:20270601T094500
DTEND;TZID=America/Vancouver:20270601T224000
DTSTAMP:20260424T090927
CREATED:20251027T210626Z
LAST-MODIFIED:20251027T210951Z
UID:10000762-1811843100-1811889600@haisla.ca
SUMMARY:Yoga For Wellness
DESCRIPTION:Gentle movement and mindfulness practices to support mental and physical well-being.
URL:https://haisla.ca/event/yoga-for-wellness/2027-06-01/
LOCATION:Haisla Health Centre\, 130 Owekeno Avenue\, Haisla\, British Columbia\, Canada
CATEGORIES:Health and Wellness
END:VEVENT
BEGIN:VEVENT
DTSTART;TZID=America/Vancouver:20270601T120000
DTEND;TZID=America/Vancouver:20270601T130000
DTSTAMP:20260424T090927
CREATED:20251027T211054Z
LAST-MODIFIED:20251027T211127Z
UID:10001806-1811851200-1811854800@haisla.ca
SUMMARY:Yoga For Wellness
DESCRIPTION:Gentle movement and mindfulness practices to support mental and physical well-being.
URL:https://haisla.ca/event/yoga-for-wellness-2/2027-06-01/
LOCATION:Haisla Health Centre\, 130 Owekeno Avenue\, Haisla\, British Columbia\, Canada
CATEGORIES:Health and Wellness
END:VEVENT
BEGIN:VEVENT
DTSTART;TZID=America/Vancouver:20270604T094500
DTEND;TZID=America/Vancouver:20270604T224000
DTSTAMP:20260424T090927
CREATED:20251027T210626Z
LAST-MODIFIED:20251027T210951Z
UID:10000763-1812102300-1812148800@haisla.ca
SUMMARY:Yoga For Wellness
DESCRIPTION:Gentle movement and mindfulness practices to support mental and physical well-being.
URL:https://haisla.ca/event/yoga-for-wellness/2027-06-04/
LOCATION:Haisla Health Centre\, 130 Owekeno Avenue\, Haisla\, British Columbia\, Canada
CATEGORIES:Health and Wellness
END:VEVENT
BEGIN:VEVENT
DTSTART;TZID=America/Vancouver:20270604T120000
DTEND;TZID=America/Vancouver:20270604T130000
DTSTAMP:20260424T090927
CREATED:20251027T211054Z
LAST-MODIFIED:20251027T211127Z
UID:10001807-1812110400-1812114000@haisla.ca
SUMMARY:Yoga For Wellness
DESCRIPTION:Gentle movement and mindfulness practices to support mental and physical well-being.
URL:https://haisla.ca/event/yoga-for-wellness-2/2027-06-04/
LOCATION:Haisla Health Centre\, 130 Owekeno Avenue\, Haisla\, British Columbia\, Canada
CATEGORIES:Health and Wellness
END:VEVENT
BEGIN:VEVENT
DTSTART;TZID=America/Vancouver:20270608T094500
DTEND;TZID=America/Vancouver:20270608T224000
DTSTAMP:20260424T090927
CREATED:20251027T210626Z
LAST-MODIFIED:20251027T210951Z
UID:10000764-1812447900-1812494400@haisla.ca
SUMMARY:Yoga For Wellness
DESCRIPTION:Gentle movement and mindfulness practices to support mental and physical well-being.
URL:https://haisla.ca/event/yoga-for-wellness/2027-06-08/
LOCATION:Haisla Health Centre\, 130 Owekeno Avenue\, Haisla\, British Columbia\, Canada
CATEGORIES:Health and Wellness
END:VEVENT
BEGIN:VEVENT
DTSTART;TZID=America/Vancouver:20270608T120000
DTEND;TZID=America/Vancouver:20270608T130000
DTSTAMP:20260424T090927
CREATED:20251027T211054Z
LAST-MODIFIED:20251027T211127Z
UID:10001808-1812456000-1812459600@haisla.ca
SUMMARY:Yoga For Wellness
DESCRIPTION:Gentle movement and mindfulness practices to support mental and physical well-being.
URL:https://haisla.ca/event/yoga-for-wellness-2/2027-06-08/
LOCATION:Haisla Health Centre\, 130 Owekeno Avenue\, Haisla\, British Columbia\, Canada
CATEGORIES:Health and Wellness
END:VEVENT
BEGIN:VEVENT
DTSTART;TZID=America/Vancouver:20270611T094500
DTEND;TZID=America/Vancouver:20270611T224000
DTSTAMP:20260424T090927
CREATED:20251027T210626Z
LAST-MODIFIED:20251027T210951Z
UID:10000765-1812707100-1812753600@haisla.ca
SUMMARY:Yoga For Wellness
DESCRIPTION:Gentle movement and mindfulness practices to support mental and physical well-being.
URL:https://haisla.ca/event/yoga-for-wellness/2027-06-11/
LOCATION:Haisla Health Centre\, 130 Owekeno Avenue\, Haisla\, British Columbia\, Canada
CATEGORIES:Health and Wellness
END:VEVENT
BEGIN:VEVENT
DTSTART;TZID=America/Vancouver:20270611T120000
DTEND;TZID=America/Vancouver:20270611T130000
DTSTAMP:20260424T090927
CREATED:20251027T211054Z
LAST-MODIFIED:20251027T211127Z
UID:10001809-1812715200-1812718800@haisla.ca
SUMMARY:Yoga For Wellness
DESCRIPTION:Gentle movement and mindfulness practices to support mental and physical well-being.
URL:https://haisla.ca/event/yoga-for-wellness-2/2027-06-11/
LOCATION:Haisla Health Centre\, 130 Owekeno Avenue\, Haisla\, British Columbia\, Canada
CATEGORIES:Health and Wellness
END:VEVENT
BEGIN:VEVENT
DTSTART;TZID=America/Vancouver:20270615T094500
DTEND;TZID=America/Vancouver:20270615T224000
DTSTAMP:20260424T090927
CREATED:20251027T210626Z
LAST-MODIFIED:20251027T210951Z
UID:10000766-1813052700-1813099200@haisla.ca
SUMMARY:Yoga For Wellness
DESCRIPTION:Gentle movement and mindfulness practices to support mental and physical well-being.
URL:https://haisla.ca/event/yoga-for-wellness/2027-06-15/
LOCATION:Haisla Health Centre\, 130 Owekeno Avenue\, Haisla\, British Columbia\, Canada
CATEGORIES:Health and Wellness
END:VEVENT
BEGIN:VEVENT
DTSTART;TZID=America/Vancouver:20270615T120000
DTEND;TZID=America/Vancouver:20270615T130000
DTSTAMP:20260424T090927
CREATED:20251027T211054Z
LAST-MODIFIED:20251027T211127Z
UID:10001810-1813060800-1813064400@haisla.ca
SUMMARY:Yoga For Wellness
DESCRIPTION:Gentle movement and mindfulness practices to support mental and physical well-being.
URL:https://haisla.ca/event/yoga-for-wellness-2/2027-06-15/
LOCATION:Haisla Health Centre\, 130 Owekeno Avenue\, Haisla\, British Columbia\, Canada
CATEGORIES:Health and Wellness
END:VEVENT
BEGIN:VEVENT
DTSTART;TZID=America/Vancouver:20270618T094500
DTEND;TZID=America/Vancouver:20270618T224000
DTSTAMP:20260424T090927
CREATED:20251027T210626Z
LAST-MODIFIED:20251027T210951Z
UID:10000767-1813311900-1813358400@haisla.ca
SUMMARY:Yoga For Wellness
DESCRIPTION:Gentle movement and mindfulness practices to support mental and physical well-being.
URL:https://haisla.ca/event/yoga-for-wellness/2027-06-18/
LOCATION:Haisla Health Centre\, 130 Owekeno Avenue\, Haisla\, British Columbia\, Canada
CATEGORIES:Health and Wellness
END:VEVENT
BEGIN:VEVENT
DTSTART;TZID=America/Vancouver:20270618T120000
DTEND;TZID=America/Vancouver:20270618T130000
DTSTAMP:20260424T090927
CREATED:20251027T211054Z
LAST-MODIFIED:20251027T211127Z
UID:10001811-1813320000-1813323600@haisla.ca
SUMMARY:Yoga For Wellness
DESCRIPTION:Gentle movement and mindfulness practices to support mental and physical well-being.
URL:https://haisla.ca/event/yoga-for-wellness-2/2027-06-18/
LOCATION:Haisla Health Centre\, 130 Owekeno Avenue\, Haisla\, British Columbia\, Canada
CATEGORIES:Health and Wellness
END:VEVENT
BEGIN:VEVENT
DTSTART;TZID=America/Vancouver:20270622T094500
DTEND;TZID=America/Vancouver:20270622T224000
DTSTAMP:20260424T090927
CREATED:20251027T210626Z
LAST-MODIFIED:20251027T210951Z
UID:10000768-1813657500-1813704000@haisla.ca
SUMMARY:Yoga For Wellness
DESCRIPTION:Gentle movement and mindfulness practices to support mental and physical well-being.
URL:https://haisla.ca/event/yoga-for-wellness/2027-06-22/
LOCATION:Haisla Health Centre\, 130 Owekeno Avenue\, Haisla\, British Columbia\, Canada
CATEGORIES:Health and Wellness
END:VEVENT
BEGIN:VEVENT
DTSTART;TZID=America/Vancouver:20270622T120000
DTEND;TZID=America/Vancouver:20270622T130000
DTSTAMP:20260424T090927
CREATED:20251027T211054Z
LAST-MODIFIED:20251027T211127Z
UID:10001812-1813665600-1813669200@haisla.ca
SUMMARY:Yoga For Wellness
DESCRIPTION:Gentle movement and mindfulness practices to support mental and physical well-being.
URL:https://haisla.ca/event/yoga-for-wellness-2/2027-06-22/
LOCATION:Haisla Health Centre\, 130 Owekeno Avenue\, Haisla\, British Columbia\, Canada
CATEGORIES:Health and Wellness
END:VEVENT
BEGIN:VEVENT
DTSTART;TZID=America/Vancouver:20270625T094500
DTEND;TZID=America/Vancouver:20270625T224000
DTSTAMP:20260424T090927
CREATED:20251027T210626Z
LAST-MODIFIED:20251027T210951Z
UID:10000769-1813916700-1813963200@haisla.ca
SUMMARY:Yoga For Wellness
DESCRIPTION:Gentle movement and mindfulness practices to support mental and physical well-being.
URL:https://haisla.ca/event/yoga-for-wellness/2027-06-25/
LOCATION:Haisla Health Centre\, 130 Owekeno Avenue\, Haisla\, British Columbia\, Canada
CATEGORIES:Health and Wellness
END:VEVENT
BEGIN:VEVENT
DTSTART;TZID=America/Vancouver:20270625T120000
DTEND;TZID=America/Vancouver:20270625T130000
DTSTAMP:20260424T090927
CREATED:20251027T211054Z
LAST-MODIFIED:20251027T211127Z
UID:10001813-1813924800-1813928400@haisla.ca
SUMMARY:Yoga For Wellness
DESCRIPTION:Gentle movement and mindfulness practices to support mental and physical well-being.
URL:https://haisla.ca/event/yoga-for-wellness-2/2027-06-25/
LOCATION:Haisla Health Centre\, 130 Owekeno Avenue\, Haisla\, British Columbia\, Canada
CATEGORIES:Health and Wellness
END:VEVENT
BEGIN:VEVENT
DTSTART;TZID=America/Vancouver:20270629T094500
DTEND;TZID=America/Vancouver:20270629T224000
DTSTAMP:20260424T090927
CREATED:20251027T210626Z
LAST-MODIFIED:20251027T210951Z
UID:10000770-1814262300-1814308800@haisla.ca
SUMMARY:Yoga For Wellness
DESCRIPTION:Gentle movement and mindfulness practices to support mental and physical well-being.
URL:https://haisla.ca/event/yoga-for-wellness/2027-06-29/
LOCATION:Haisla Health Centre\, 130 Owekeno Avenue\, Haisla\, British Columbia\, Canada
CATEGORIES:Health and Wellness
END:VEVENT
BEGIN:VEVENT
DTSTART;TZID=America/Vancouver:20270629T120000
DTEND;TZID=America/Vancouver:20270629T130000
DTSTAMP:20260424T090927
CREATED:20251027T211054Z
LAST-MODIFIED:20251027T211127Z
UID:10001814-1814270400-1814274000@haisla.ca
SUMMARY:Yoga For Wellness
DESCRIPTION:Gentle movement and mindfulness practices to support mental and physical well-being.
URL:https://haisla.ca/event/yoga-for-wellness-2/2027-06-29/
LOCATION:Haisla Health Centre\, 130 Owekeno Avenue\, Haisla\, British Columbia\, Canada
CATEGORIES:Health and Wellness
END:VEVENT
BEGIN:VEVENT
DTSTART;TZID=America/Vancouver:20270702T094500
DTEND;TZID=America/Vancouver:20270702T224000
DTSTAMP:20260424T090927
CREATED:20251027T210626Z
LAST-MODIFIED:20251027T210951Z
UID:10000771-1814521500-1814568000@haisla.ca
SUMMARY:Yoga For Wellness
DESCRIPTION:Gentle movement and mindfulness practices to support mental and physical well-being.
URL:https://haisla.ca/event/yoga-for-wellness/2027-07-02/
LOCATION:Haisla Health Centre\, 130 Owekeno Avenue\, Haisla\, British Columbia\, Canada
CATEGORIES:Health and Wellness
END:VEVENT
BEGIN:VEVENT
DTSTART;TZID=America/Vancouver:20270702T120000
DTEND;TZID=America/Vancouver:20270702T130000
DTSTAMP:20260424T090927
CREATED:20251027T211054Z
LAST-MODIFIED:20251027T211127Z
UID:10001815-1814529600-1814533200@haisla.ca
SUMMARY:Yoga For Wellness
DESCRIPTION:Gentle movement and mindfulness practices to support mental and physical well-being.
URL:https://haisla.ca/event/yoga-for-wellness-2/2027-07-02/
LOCATION:Haisla Health Centre\, 130 Owekeno Avenue\, Haisla\, British Columbia\, Canada
CATEGORIES:Health and Wellness
END:VEVENT
BEGIN:VEVENT
DTSTART;TZID=America/Vancouver:20270706T094500
DTEND;TZID=America/Vancouver:20270706T224000
DTSTAMP:20260424T090927
CREATED:20251027T210626Z
LAST-MODIFIED:20251027T210951Z
UID:10000772-1814867100-1814913600@haisla.ca
SUMMARY:Yoga For Wellness
DESCRIPTION:Gentle movement and mindfulness practices to support mental and physical well-being.
URL:https://haisla.ca/event/yoga-for-wellness/2027-07-06/
LOCATION:Haisla Health Centre\, 130 Owekeno Avenue\, Haisla\, British Columbia\, Canada
CATEGORIES:Health and Wellness
END:VEVENT
BEGIN:VEVENT
DTSTART;TZID=America/Vancouver:20270706T120000
DTEND;TZID=America/Vancouver:20270706T130000
DTSTAMP:20260424T090927
CREATED:20251027T211054Z
LAST-MODIFIED:20251027T211127Z
UID:10001816-1814875200-1814878800@haisla.ca
SUMMARY:Yoga For Wellness
DESCRIPTION:Gentle movement and mindfulness practices to support mental and physical well-being.
URL:https://haisla.ca/event/yoga-for-wellness-2/2027-07-06/
LOCATION:Haisla Health Centre\, 130 Owekeno Avenue\, Haisla\, British Columbia\, Canada
CATEGORIES:Health and Wellness
END:VEVENT
BEGIN:VEVENT
DTSTART;TZID=America/Vancouver:20270709T094500
DTEND;TZID=America/Vancouver:20270709T224000
DTSTAMP:20260424T090927
CREATED:20251027T210626Z
LAST-MODIFIED:20251027T210951Z
UID:10000773-1815126300-1815172800@haisla.ca
SUMMARY:Yoga For Wellness
DESCRIPTION:Gentle movement and mindfulness practices to support mental and physical well-being.
URL:https://haisla.ca/event/yoga-for-wellness/2027-07-09/
LOCATION:Haisla Health Centre\, 130 Owekeno Avenue\, Haisla\, British Columbia\, Canada
CATEGORIES:Health and Wellness
END:VEVENT
BEGIN:VEVENT
DTSTART;TZID=America/Vancouver:20270709T120000
DTEND;TZID=America/Vancouver:20270709T130000
DTSTAMP:20260424T090927
CREATED:20251027T211054Z
LAST-MODIFIED:20251027T211127Z
UID:10001817-1815134400-1815138000@haisla.ca
SUMMARY:Yoga For Wellness
DESCRIPTION:Gentle movement and mindfulness practices to support mental and physical well-being.
URL:https://haisla.ca/event/yoga-for-wellness-2/2027-07-09/
LOCATION:Haisla Health Centre\, 130 Owekeno Avenue\, Haisla\, British Columbia\, Canada
CATEGORIES:Health and Wellness
END:VEVENT
BEGIN:VEVENT
DTSTART;TZID=America/Vancouver:20270713T094500
DTEND;TZID=America/Vancouver:20270713T224000
DTSTAMP:20260424T090927
CREATED:20251027T210626Z
LAST-MODIFIED:20251027T210951Z
UID:10000774-1815471900-1815518400@haisla.ca
SUMMARY:Yoga For Wellness
DESCRIPTION:Gentle movement and mindfulness practices to support mental and physical well-being.
URL:https://haisla.ca/event/yoga-for-wellness/2027-07-13/
LOCATION:Haisla Health Centre\, 130 Owekeno Avenue\, Haisla\, British Columbia\, Canada
CATEGORIES:Health and Wellness
END:VEVENT
BEGIN:VEVENT
DTSTART;TZID=America/Vancouver:20270713T120000
DTEND;TZID=America/Vancouver:20270713T130000
DTSTAMP:20260424T090927
CREATED:20251027T211054Z
LAST-MODIFIED:20251027T211127Z
UID:10001818-1815480000-1815483600@haisla.ca
SUMMARY:Yoga For Wellness
DESCRIPTION:Gentle movement and mindfulness practices to support mental and physical well-being.
URL:https://haisla.ca/event/yoga-for-wellness-2/2027-07-13/
LOCATION:Haisla Health Centre\, 130 Owekeno Avenue\, Haisla\, British Columbia\, Canada
CATEGORIES:Health and Wellness
END:VEVENT
BEGIN:VEVENT
DTSTART;TZID=America/Vancouver:20270716T094500
DTEND;TZID=America/Vancouver:20270716T224000
DTSTAMP:20260424T090927
CREATED:20251027T210626Z
LAST-MODIFIED:20251027T210951Z
UID:10000775-1815731100-1815777600@haisla.ca
SUMMARY:Yoga For Wellness
DESCRIPTION:Gentle movement and mindfulness practices to support mental and physical well-being.
URL:https://haisla.ca/event/yoga-for-wellness/2027-07-16/
LOCATION:Haisla Health Centre\, 130 Owekeno Avenue\, Haisla\, British Columbia\, Canada
CATEGORIES:Health and Wellness
END:VEVENT
BEGIN:VEVENT
DTSTART;TZID=America/Vancouver:20270716T120000
DTEND;TZID=America/Vancouver:20270716T130000
DTSTAMP:20260424T090927
CREATED:20251027T211054Z
LAST-MODIFIED:20251027T211127Z
UID:10001819-1815739200-1815742800@haisla.ca
SUMMARY:Yoga For Wellness
DESCRIPTION:Gentle movement and mindfulness practices to support mental and physical well-being.
URL:https://haisla.ca/event/yoga-for-wellness-2/2027-07-16/
LOCATION:Haisla Health Centre\, 130 Owekeno Avenue\, Haisla\, British Columbia\, Canada
CATEGORIES:Health and Wellness
END:VEVENT
END:VCALENDAR