BEGIN:VCALENDAR
VERSION:2.0
PRODID:-//Haisla Nation - ECPv6.15.20//NONSGML v1.0//EN
CALSCALE:GREGORIAN
METHOD:PUBLISH
X-WR-CALNAME:Haisla Nation
X-ORIGINAL-URL:https://haisla.ca
X-WR-CALDESC:Events for Haisla Nation
REFRESH-INTERVAL;VALUE=DURATION:PT1H
X-Robots-Tag:noindex
X-PUBLISHED-TTL:PT1H
BEGIN:VTIMEZONE
TZID:America/Vancouver
BEGIN:DAYLIGHT
TZOFFSETFROM:-0800
TZOFFSETTO:-0700
TZNAME:PDT
DTSTART:20290311T100000
END:DAYLIGHT
BEGIN:STANDARD
TZOFFSETFROM:-0700
TZOFFSETTO:-0800
TZNAME:PST
DTSTART:20291104T090000
END:STANDARD
BEGIN:DAYLIGHT
TZOFFSETFROM:-0800
TZOFFSETTO:-0700
TZNAME:PDT
DTSTART:20300310T100000
END:DAYLIGHT
BEGIN:STANDARD
TZOFFSETFROM:-0700
TZOFFSETTO:-0800
TZNAME:PST
DTSTART:20301103T090000
END:STANDARD
BEGIN:DAYLIGHT
TZOFFSETFROM:-0800
TZOFFSETTO:-0700
TZNAME:PDT
DTSTART:20310309T100000
END:DAYLIGHT
BEGIN:STANDARD
TZOFFSETFROM:-0700
TZOFFSETTO:-0800
TZNAME:PST
DTSTART:20311102T090000
END:STANDARD
END:VTIMEZONE
BEGIN:VEVENT
DTSTART;TZID=America/Vancouver:20300618T180000
DTEND;TZID=America/Vancouver:20300618T200000
DTSTAMP:20260425T132437
CREATED:20251027T212049Z
LAST-MODIFIED:20251027T212115Z
UID:10002404-1908036000-1908043200@haisla.ca
SUMMARY:Wellbriety Men's Group
DESCRIPTION:A culturally grounded recovery group rooted in Indigenous teachings and the Medicine Wheel.
URL:https://haisla.ca/event/wellbriety-mens-group/2030-06-18/
LOCATION:Haisla Health Centre\, 130 Owekeno Avenue\, Haisla\, British Columbia\, Canada
CATEGORIES:Health and Wellness
END:VEVENT
BEGIN:VEVENT
DTSTART;TZID=America/Vancouver:20300625T180000
DTEND;TZID=America/Vancouver:20300625T200000
DTSTAMP:20260425T132437
CREATED:20251027T212049Z
LAST-MODIFIED:20251027T212115Z
UID:10002405-1908640800-1908648000@haisla.ca
SUMMARY:Wellbriety Men's Group
DESCRIPTION:A culturally grounded recovery group rooted in Indigenous teachings and the Medicine Wheel.
URL:https://haisla.ca/event/wellbriety-mens-group/2030-06-25/
LOCATION:Haisla Health Centre\, 130 Owekeno Avenue\, Haisla\, British Columbia\, Canada
CATEGORIES:Health and Wellness
END:VEVENT
BEGIN:VEVENT
DTSTART;TZID=America/Vancouver:20300702T180000
DTEND;TZID=America/Vancouver:20300702T200000
DTSTAMP:20260425T132437
CREATED:20251027T212049Z
LAST-MODIFIED:20251027T212115Z
UID:10002406-1909245600-1909252800@haisla.ca
SUMMARY:Wellbriety Men's Group
DESCRIPTION:A culturally grounded recovery group rooted in Indigenous teachings and the Medicine Wheel.
URL:https://haisla.ca/event/wellbriety-mens-group/2030-07-02/
LOCATION:Haisla Health Centre\, 130 Owekeno Avenue\, Haisla\, British Columbia\, Canada
CATEGORIES:Health and Wellness
END:VEVENT
BEGIN:VEVENT
DTSTART;TZID=America/Vancouver:20300709T180000
DTEND;TZID=America/Vancouver:20300709T200000
DTSTAMP:20260425T132437
CREATED:20251027T212049Z
LAST-MODIFIED:20251027T212115Z
UID:10002407-1909850400-1909857600@haisla.ca
SUMMARY:Wellbriety Men's Group
DESCRIPTION:A culturally grounded recovery group rooted in Indigenous teachings and the Medicine Wheel.
URL:https://haisla.ca/event/wellbriety-mens-group/2030-07-09/
LOCATION:Haisla Health Centre\, 130 Owekeno Avenue\, Haisla\, British Columbia\, Canada
CATEGORIES:Health and Wellness
END:VEVENT
BEGIN:VEVENT
DTSTART;TZID=America/Vancouver:20300716T180000
DTEND;TZID=America/Vancouver:20300716T200000
DTSTAMP:20260425T132437
CREATED:20251027T212049Z
LAST-MODIFIED:20251027T212115Z
UID:10002408-1910455200-1910462400@haisla.ca
SUMMARY:Wellbriety Men's Group
DESCRIPTION:A culturally grounded recovery group rooted in Indigenous teachings and the Medicine Wheel.
URL:https://haisla.ca/event/wellbriety-mens-group/2030-07-16/
LOCATION:Haisla Health Centre\, 130 Owekeno Avenue\, Haisla\, British Columbia\, Canada
CATEGORIES:Health and Wellness
END:VEVENT
BEGIN:VEVENT
DTSTART;TZID=America/Vancouver:20300723T180000
DTEND;TZID=America/Vancouver:20300723T200000
DTSTAMP:20260425T132437
CREATED:20251027T212049Z
LAST-MODIFIED:20251027T212115Z
UID:10002409-1911060000-1911067200@haisla.ca
SUMMARY:Wellbriety Men's Group
DESCRIPTION:A culturally grounded recovery group rooted in Indigenous teachings and the Medicine Wheel.
URL:https://haisla.ca/event/wellbriety-mens-group/2030-07-23/
LOCATION:Haisla Health Centre\, 130 Owekeno Avenue\, Haisla\, British Columbia\, Canada
CATEGORIES:Health and Wellness
END:VEVENT
BEGIN:VEVENT
DTSTART;TZID=America/Vancouver:20300730T180000
DTEND;TZID=America/Vancouver:20300730T200000
DTSTAMP:20260425T132437
CREATED:20251027T212049Z
LAST-MODIFIED:20251027T212115Z
UID:10002410-1911664800-1911672000@haisla.ca
SUMMARY:Wellbriety Men's Group
DESCRIPTION:A culturally grounded recovery group rooted in Indigenous teachings and the Medicine Wheel.
URL:https://haisla.ca/event/wellbriety-mens-group/2030-07-30/
LOCATION:Haisla Health Centre\, 130 Owekeno Avenue\, Haisla\, British Columbia\, Canada
CATEGORIES:Health and Wellness
END:VEVENT
BEGIN:VEVENT
DTSTART;TZID=America/Vancouver:20300806T180000
DTEND;TZID=America/Vancouver:20300806T200000
DTSTAMP:20260425T132437
CREATED:20251027T212049Z
LAST-MODIFIED:20251027T212115Z
UID:10002411-1912269600-1912276800@haisla.ca
SUMMARY:Wellbriety Men's Group
DESCRIPTION:A culturally grounded recovery group rooted in Indigenous teachings and the Medicine Wheel.
URL:https://haisla.ca/event/wellbriety-mens-group/2030-08-06/
LOCATION:Haisla Health Centre\, 130 Owekeno Avenue\, Haisla\, British Columbia\, Canada
CATEGORIES:Health and Wellness
END:VEVENT
BEGIN:VEVENT
DTSTART;TZID=America/Vancouver:20300813T180000
DTEND;TZID=America/Vancouver:20300813T200000
DTSTAMP:20260425T132437
CREATED:20251027T212049Z
LAST-MODIFIED:20251027T212115Z
UID:10002412-1912874400-1912881600@haisla.ca
SUMMARY:Wellbriety Men's Group
DESCRIPTION:A culturally grounded recovery group rooted in Indigenous teachings and the Medicine Wheel.
URL:https://haisla.ca/event/wellbriety-mens-group/2030-08-13/
LOCATION:Haisla Health Centre\, 130 Owekeno Avenue\, Haisla\, British Columbia\, Canada
CATEGORIES:Health and Wellness
END:VEVENT
BEGIN:VEVENT
DTSTART;TZID=America/Vancouver:20300820T180000
DTEND;TZID=America/Vancouver:20300820T200000
DTSTAMP:20260425T132437
CREATED:20251027T212049Z
LAST-MODIFIED:20251027T212115Z
UID:10002413-1913479200-1913486400@haisla.ca
SUMMARY:Wellbriety Men's Group
DESCRIPTION:A culturally grounded recovery group rooted in Indigenous teachings and the Medicine Wheel.
URL:https://haisla.ca/event/wellbriety-mens-group/2030-08-20/
LOCATION:Haisla Health Centre\, 130 Owekeno Avenue\, Haisla\, British Columbia\, Canada
CATEGORIES:Health and Wellness
END:VEVENT
BEGIN:VEVENT
DTSTART;TZID=America/Vancouver:20300827T180000
DTEND;TZID=America/Vancouver:20300827T200000
DTSTAMP:20260425T132437
CREATED:20251027T212049Z
LAST-MODIFIED:20251027T212115Z
UID:10002414-1914084000-1914091200@haisla.ca
SUMMARY:Wellbriety Men's Group
DESCRIPTION:A culturally grounded recovery group rooted in Indigenous teachings and the Medicine Wheel.
URL:https://haisla.ca/event/wellbriety-mens-group/2030-08-27/
LOCATION:Haisla Health Centre\, 130 Owekeno Avenue\, Haisla\, British Columbia\, Canada
CATEGORIES:Health and Wellness
END:VEVENT
BEGIN:VEVENT
DTSTART;TZID=America/Vancouver:20300903T180000
DTEND;TZID=America/Vancouver:20300903T200000
DTSTAMP:20260425T132437
CREATED:20251027T212049Z
LAST-MODIFIED:20251027T212115Z
UID:10002415-1914688800-1914696000@haisla.ca
SUMMARY:Wellbriety Men's Group
DESCRIPTION:A culturally grounded recovery group rooted in Indigenous teachings and the Medicine Wheel.
URL:https://haisla.ca/event/wellbriety-mens-group/2030-09-03/
LOCATION:Haisla Health Centre\, 130 Owekeno Avenue\, Haisla\, British Columbia\, Canada
CATEGORIES:Health and Wellness
END:VEVENT
BEGIN:VEVENT
DTSTART;TZID=America/Vancouver:20300910T180000
DTEND;TZID=America/Vancouver:20300910T200000
DTSTAMP:20260425T132437
CREATED:20251027T212049Z
LAST-MODIFIED:20251027T212115Z
UID:10002416-1915293600-1915300800@haisla.ca
SUMMARY:Wellbriety Men's Group
DESCRIPTION:A culturally grounded recovery group rooted in Indigenous teachings and the Medicine Wheel.
URL:https://haisla.ca/event/wellbriety-mens-group/2030-09-10/
LOCATION:Haisla Health Centre\, 130 Owekeno Avenue\, Haisla\, British Columbia\, Canada
CATEGORIES:Health and Wellness
END:VEVENT
BEGIN:VEVENT
DTSTART;TZID=America/Vancouver:20300917T180000
DTEND;TZID=America/Vancouver:20300917T200000
DTSTAMP:20260425T132437
CREATED:20251027T212049Z
LAST-MODIFIED:20251027T212115Z
UID:10002417-1915898400-1915905600@haisla.ca
SUMMARY:Wellbriety Men's Group
DESCRIPTION:A culturally grounded recovery group rooted in Indigenous teachings and the Medicine Wheel.
URL:https://haisla.ca/event/wellbriety-mens-group/2030-09-17/
LOCATION:Haisla Health Centre\, 130 Owekeno Avenue\, Haisla\, British Columbia\, Canada
CATEGORIES:Health and Wellness
END:VEVENT
BEGIN:VEVENT
DTSTART;TZID=America/Vancouver:20300924T180000
DTEND;TZID=America/Vancouver:20300924T200000
DTSTAMP:20260425T132437
CREATED:20251027T212049Z
LAST-MODIFIED:20251027T212115Z
UID:10002418-1916503200-1916510400@haisla.ca
SUMMARY:Wellbriety Men's Group
DESCRIPTION:A culturally grounded recovery group rooted in Indigenous teachings and the Medicine Wheel.
URL:https://haisla.ca/event/wellbriety-mens-group/2030-09-24/
LOCATION:Haisla Health Centre\, 130 Owekeno Avenue\, Haisla\, British Columbia\, Canada
CATEGORIES:Health and Wellness
END:VEVENT
BEGIN:VEVENT
DTSTART;TZID=America/Vancouver:20301001T180000
DTEND;TZID=America/Vancouver:20301001T200000
DTSTAMP:20260425T132437
CREATED:20251027T212049Z
LAST-MODIFIED:20251027T212115Z
UID:10002419-1917108000-1917115200@haisla.ca
SUMMARY:Wellbriety Men's Group
DESCRIPTION:A culturally grounded recovery group rooted in Indigenous teachings and the Medicine Wheel.
URL:https://haisla.ca/event/wellbriety-mens-group/2030-10-01/
LOCATION:Haisla Health Centre\, 130 Owekeno Avenue\, Haisla\, British Columbia\, Canada
CATEGORIES:Health and Wellness
END:VEVENT
BEGIN:VEVENT
DTSTART;TZID=America/Vancouver:20301008T180000
DTEND;TZID=America/Vancouver:20301008T200000
DTSTAMP:20260425T132437
CREATED:20251027T212049Z
LAST-MODIFIED:20251027T212115Z
UID:10002420-1917712800-1917720000@haisla.ca
SUMMARY:Wellbriety Men's Group
DESCRIPTION:A culturally grounded recovery group rooted in Indigenous teachings and the Medicine Wheel.
URL:https://haisla.ca/event/wellbriety-mens-group/2030-10-08/
LOCATION:Haisla Health Centre\, 130 Owekeno Avenue\, Haisla\, British Columbia\, Canada
CATEGORIES:Health and Wellness
END:VEVENT
BEGIN:VEVENT
DTSTART;TZID=America/Vancouver:20301015T180000
DTEND;TZID=America/Vancouver:20301015T200000
DTSTAMP:20260425T132437
CREATED:20251027T212049Z
LAST-MODIFIED:20251027T212115Z
UID:10002421-1918317600-1918324800@haisla.ca
SUMMARY:Wellbriety Men's Group
DESCRIPTION:A culturally grounded recovery group rooted in Indigenous teachings and the Medicine Wheel.
URL:https://haisla.ca/event/wellbriety-mens-group/2030-10-15/
LOCATION:Haisla Health Centre\, 130 Owekeno Avenue\, Haisla\, British Columbia\, Canada
CATEGORIES:Health and Wellness
END:VEVENT
BEGIN:VEVENT
DTSTART;TZID=America/Vancouver:20301022T180000
DTEND;TZID=America/Vancouver:20301022T200000
DTSTAMP:20260425T132437
CREATED:20251027T212049Z
LAST-MODIFIED:20251027T212115Z
UID:10002422-1918922400-1918929600@haisla.ca
SUMMARY:Wellbriety Men's Group
DESCRIPTION:A culturally grounded recovery group rooted in Indigenous teachings and the Medicine Wheel.
URL:https://haisla.ca/event/wellbriety-mens-group/2030-10-22/
LOCATION:Haisla Health Centre\, 130 Owekeno Avenue\, Haisla\, British Columbia\, Canada
CATEGORIES:Health and Wellness
END:VEVENT
END:VCALENDAR