BEGIN:VCALENDAR
VERSION:2.0
PRODID:-//Haisla Nation - ECPv6.15.20//NONSGML v1.0//EN
CALSCALE:GREGORIAN
METHOD:PUBLISH
X-ORIGINAL-URL:https://haisla.ca
X-WR-CALDESC:Events for Haisla Nation
REFRESH-INTERVAL;VALUE=DURATION:PT1H
X-Robots-Tag:noindex
X-PUBLISHED-TTL:PT1H
BEGIN:VTIMEZONE
TZID:America/Vancouver
BEGIN:DAYLIGHT
TZOFFSETFROM:-0800
TZOFFSETTO:-0700
TZNAME:PDT
DTSTART:20260308T100000
END:DAYLIGHT
BEGIN:STANDARD
TZOFFSETFROM:-0700
TZOFFSETTO:-0800
TZNAME:PST
DTSTART:20261101T090000
END:STANDARD
BEGIN:DAYLIGHT
TZOFFSETFROM:-0800
TZOFFSETTO:-0700
TZNAME:PDT
DTSTART:20270314T100000
END:DAYLIGHT
BEGIN:STANDARD
TZOFFSETFROM:-0700
TZOFFSETTO:-0800
TZNAME:PST
DTSTART:20271107T090000
END:STANDARD
BEGIN:DAYLIGHT
TZOFFSETFROM:-0800
TZOFFSETTO:-0700
TZNAME:PDT
DTSTART:20280312T100000
END:DAYLIGHT
BEGIN:STANDARD
TZOFFSETFROM:-0700
TZOFFSETTO:-0800
TZNAME:PST
DTSTART:20281105T090000
END:STANDARD
END:VTIMEZONE
BEGIN:VEVENT
DTSTART;TZID=America/Vancouver:20270212T094500
DTEND;TZID=America/Vancouver:20270212T224000
DTSTAMP:20260422T040025
CREATED:20251027T210626Z
LAST-MODIFIED:20251027T210951Z
UID:10000731-1802425500-1802472000@haisla.ca
SUMMARY:Yoga For Wellness
DESCRIPTION:Gentle movement and mindfulness practices to support mental and physical well-being.
URL:https://haisla.ca/event/yoga-for-wellness/2027-02-12/
LOCATION:Haisla Health Centre\, 130 Owekeno Avenue\, Haisla\, British Columbia\, Canada
CATEGORIES:Health and Wellness
END:VEVENT
BEGIN:VEVENT
DTSTART;TZID=America/Vancouver:20270212T120000
DTEND;TZID=America/Vancouver:20270212T130000
DTSTAMP:20260422T040025
CREATED:20251027T211054Z
LAST-MODIFIED:20251027T211127Z
UID:10001775-1802433600-1802437200@haisla.ca
SUMMARY:Yoga For Wellness
DESCRIPTION:Gentle movement and mindfulness practices to support mental and physical well-being.
URL:https://haisla.ca/event/yoga-for-wellness-2/2027-02-12/
LOCATION:Haisla Health Centre\, 130 Owekeno Avenue\, Haisla\, British Columbia\, Canada
CATEGORIES:Health and Wellness
END:VEVENT
BEGIN:VEVENT
DTSTART;TZID=America/Vancouver:20270216T094500
DTEND;TZID=America/Vancouver:20270216T224000
DTSTAMP:20260422T040025
CREATED:20251027T210626Z
LAST-MODIFIED:20251027T210951Z
UID:10000732-1802771100-1802817600@haisla.ca
SUMMARY:Yoga For Wellness
DESCRIPTION:Gentle movement and mindfulness practices to support mental and physical well-being.
URL:https://haisla.ca/event/yoga-for-wellness/2027-02-16/
LOCATION:Haisla Health Centre\, 130 Owekeno Avenue\, Haisla\, British Columbia\, Canada
CATEGORIES:Health and Wellness
END:VEVENT
BEGIN:VEVENT
DTSTART;TZID=America/Vancouver:20270216T120000
DTEND;TZID=America/Vancouver:20270216T130000
DTSTAMP:20260422T040025
CREATED:20251027T211054Z
LAST-MODIFIED:20251027T211127Z
UID:10001776-1802779200-1802782800@haisla.ca
SUMMARY:Yoga For Wellness
DESCRIPTION:Gentle movement and mindfulness practices to support mental and physical well-being.
URL:https://haisla.ca/event/yoga-for-wellness-2/2027-02-16/
LOCATION:Haisla Health Centre\, 130 Owekeno Avenue\, Haisla\, British Columbia\, Canada
CATEGORIES:Health and Wellness
END:VEVENT
BEGIN:VEVENT
DTSTART;TZID=America/Vancouver:20270219T094500
DTEND;TZID=America/Vancouver:20270219T224000
DTSTAMP:20260422T040025
CREATED:20251027T210626Z
LAST-MODIFIED:20251027T210951Z
UID:10000733-1803030300-1803076800@haisla.ca
SUMMARY:Yoga For Wellness
DESCRIPTION:Gentle movement and mindfulness practices to support mental and physical well-being.
URL:https://haisla.ca/event/yoga-for-wellness/2027-02-19/
LOCATION:Haisla Health Centre\, 130 Owekeno Avenue\, Haisla\, British Columbia\, Canada
CATEGORIES:Health and Wellness
END:VEVENT
BEGIN:VEVENT
DTSTART;TZID=America/Vancouver:20270219T120000
DTEND;TZID=America/Vancouver:20270219T130000
DTSTAMP:20260422T040025
CREATED:20251027T211054Z
LAST-MODIFIED:20251027T211127Z
UID:10001777-1803038400-1803042000@haisla.ca
SUMMARY:Yoga For Wellness
DESCRIPTION:Gentle movement and mindfulness practices to support mental and physical well-being.
URL:https://haisla.ca/event/yoga-for-wellness-2/2027-02-19/
LOCATION:Haisla Health Centre\, 130 Owekeno Avenue\, Haisla\, British Columbia\, Canada
CATEGORIES:Health and Wellness
END:VEVENT
BEGIN:VEVENT
DTSTART;TZID=America/Vancouver:20270223T094500
DTEND;TZID=America/Vancouver:20270223T224000
DTSTAMP:20260422T040025
CREATED:20251027T210626Z
LAST-MODIFIED:20251027T210951Z
UID:10000734-1803375900-1803422400@haisla.ca
SUMMARY:Yoga For Wellness
DESCRIPTION:Gentle movement and mindfulness practices to support mental and physical well-being.
URL:https://haisla.ca/event/yoga-for-wellness/2027-02-23/
LOCATION:Haisla Health Centre\, 130 Owekeno Avenue\, Haisla\, British Columbia\, Canada
CATEGORIES:Health and Wellness
END:VEVENT
BEGIN:VEVENT
DTSTART;TZID=America/Vancouver:20270223T120000
DTEND;TZID=America/Vancouver:20270223T130000
DTSTAMP:20260422T040025
CREATED:20251027T211054Z
LAST-MODIFIED:20251027T211127Z
UID:10001778-1803384000-1803387600@haisla.ca
SUMMARY:Yoga For Wellness
DESCRIPTION:Gentle movement and mindfulness practices to support mental and physical well-being.
URL:https://haisla.ca/event/yoga-for-wellness-2/2027-02-23/
LOCATION:Haisla Health Centre\, 130 Owekeno Avenue\, Haisla\, British Columbia\, Canada
CATEGORIES:Health and Wellness
END:VEVENT
BEGIN:VEVENT
DTSTART;TZID=America/Vancouver:20270226T094500
DTEND;TZID=America/Vancouver:20270226T224000
DTSTAMP:20260422T040025
CREATED:20251027T210626Z
LAST-MODIFIED:20251027T210951Z
UID:10000735-1803635100-1803681600@haisla.ca
SUMMARY:Yoga For Wellness
DESCRIPTION:Gentle movement and mindfulness practices to support mental and physical well-being.
URL:https://haisla.ca/event/yoga-for-wellness/2027-02-26/
LOCATION:Haisla Health Centre\, 130 Owekeno Avenue\, Haisla\, British Columbia\, Canada
CATEGORIES:Health and Wellness
END:VEVENT
BEGIN:VEVENT
DTSTART;TZID=America/Vancouver:20270226T120000
DTEND;TZID=America/Vancouver:20270226T130000
DTSTAMP:20260422T040025
CREATED:20251027T211054Z
LAST-MODIFIED:20251027T211127Z
UID:10001779-1803643200-1803646800@haisla.ca
SUMMARY:Yoga For Wellness
DESCRIPTION:Gentle movement and mindfulness practices to support mental and physical well-being.
URL:https://haisla.ca/event/yoga-for-wellness-2/2027-02-26/
LOCATION:Haisla Health Centre\, 130 Owekeno Avenue\, Haisla\, British Columbia\, Canada
CATEGORIES:Health and Wellness
END:VEVENT
BEGIN:VEVENT
DTSTART;TZID=America/Vancouver:20270302T094500
DTEND;TZID=America/Vancouver:20270302T224000
DTSTAMP:20260422T040025
CREATED:20251027T210626Z
LAST-MODIFIED:20251027T210951Z
UID:10000736-1803980700-1804027200@haisla.ca
SUMMARY:Yoga For Wellness
DESCRIPTION:Gentle movement and mindfulness practices to support mental and physical well-being.
URL:https://haisla.ca/event/yoga-for-wellness/2027-03-02/
LOCATION:Haisla Health Centre\, 130 Owekeno Avenue\, Haisla\, British Columbia\, Canada
CATEGORIES:Health and Wellness
END:VEVENT
BEGIN:VEVENT
DTSTART;TZID=America/Vancouver:20270302T120000
DTEND;TZID=America/Vancouver:20270302T130000
DTSTAMP:20260422T040025
CREATED:20251027T211054Z
LAST-MODIFIED:20251027T211127Z
UID:10001780-1803988800-1803992400@haisla.ca
SUMMARY:Yoga For Wellness
DESCRIPTION:Gentle movement and mindfulness practices to support mental and physical well-being.
URL:https://haisla.ca/event/yoga-for-wellness-2/2027-03-02/
LOCATION:Haisla Health Centre\, 130 Owekeno Avenue\, Haisla\, British Columbia\, Canada
CATEGORIES:Health and Wellness
END:VEVENT
BEGIN:VEVENT
DTSTART;TZID=America/Vancouver:20270305T094500
DTEND;TZID=America/Vancouver:20270305T224000
DTSTAMP:20260422T040025
CREATED:20251027T210626Z
LAST-MODIFIED:20251027T210951Z
UID:10000737-1804239900-1804286400@haisla.ca
SUMMARY:Yoga For Wellness
DESCRIPTION:Gentle movement and mindfulness practices to support mental and physical well-being.
URL:https://haisla.ca/event/yoga-for-wellness/2027-03-05/
LOCATION:Haisla Health Centre\, 130 Owekeno Avenue\, Haisla\, British Columbia\, Canada
CATEGORIES:Health and Wellness
END:VEVENT
BEGIN:VEVENT
DTSTART;TZID=America/Vancouver:20270305T120000
DTEND;TZID=America/Vancouver:20270305T130000
DTSTAMP:20260422T040025
CREATED:20251027T211054Z
LAST-MODIFIED:20251027T211127Z
UID:10001781-1804248000-1804251600@haisla.ca
SUMMARY:Yoga For Wellness
DESCRIPTION:Gentle movement and mindfulness practices to support mental and physical well-being.
URL:https://haisla.ca/event/yoga-for-wellness-2/2027-03-05/
LOCATION:Haisla Health Centre\, 130 Owekeno Avenue\, Haisla\, British Columbia\, Canada
CATEGORIES:Health and Wellness
END:VEVENT
BEGIN:VEVENT
DTSTART;TZID=America/Vancouver:20270309T094500
DTEND;TZID=America/Vancouver:20270309T224000
DTSTAMP:20260422T040025
CREATED:20251027T210626Z
LAST-MODIFIED:20251027T210951Z
UID:10000738-1804585500-1804632000@haisla.ca
SUMMARY:Yoga For Wellness
DESCRIPTION:Gentle movement and mindfulness practices to support mental and physical well-being.
URL:https://haisla.ca/event/yoga-for-wellness/2027-03-09/
LOCATION:Haisla Health Centre\, 130 Owekeno Avenue\, Haisla\, British Columbia\, Canada
CATEGORIES:Health and Wellness
END:VEVENT
BEGIN:VEVENT
DTSTART;TZID=America/Vancouver:20270309T120000
DTEND;TZID=America/Vancouver:20270309T130000
DTSTAMP:20260422T040025
CREATED:20251027T211054Z
LAST-MODIFIED:20251027T211127Z
UID:10001782-1804593600-1804597200@haisla.ca
SUMMARY:Yoga For Wellness
DESCRIPTION:Gentle movement and mindfulness practices to support mental and physical well-being.
URL:https://haisla.ca/event/yoga-for-wellness-2/2027-03-09/
LOCATION:Haisla Health Centre\, 130 Owekeno Avenue\, Haisla\, British Columbia\, Canada
CATEGORIES:Health and Wellness
END:VEVENT
BEGIN:VEVENT
DTSTART;TZID=America/Vancouver:20270312T094500
DTEND;TZID=America/Vancouver:20270312T224000
DTSTAMP:20260422T040025
CREATED:20251027T210626Z
LAST-MODIFIED:20251027T210951Z
UID:10000739-1804844700-1804891200@haisla.ca
SUMMARY:Yoga For Wellness
DESCRIPTION:Gentle movement and mindfulness practices to support mental and physical well-being.
URL:https://haisla.ca/event/yoga-for-wellness/2027-03-12/
LOCATION:Haisla Health Centre\, 130 Owekeno Avenue\, Haisla\, British Columbia\, Canada
CATEGORIES:Health and Wellness
END:VEVENT
BEGIN:VEVENT
DTSTART;TZID=America/Vancouver:20270312T120000
DTEND;TZID=America/Vancouver:20270312T130000
DTSTAMP:20260422T040025
CREATED:20251027T211054Z
LAST-MODIFIED:20251027T211127Z
UID:10001783-1804852800-1804856400@haisla.ca
SUMMARY:Yoga For Wellness
DESCRIPTION:Gentle movement and mindfulness practices to support mental and physical well-being.
URL:https://haisla.ca/event/yoga-for-wellness-2/2027-03-12/
LOCATION:Haisla Health Centre\, 130 Owekeno Avenue\, Haisla\, British Columbia\, Canada
CATEGORIES:Health and Wellness
END:VEVENT
BEGIN:VEVENT
DTSTART;TZID=America/Vancouver:20270316T094500
DTEND;TZID=America/Vancouver:20270316T224000
DTSTAMP:20260422T040025
CREATED:20251027T210626Z
LAST-MODIFIED:20251027T210951Z
UID:10000740-1805190300-1805236800@haisla.ca
SUMMARY:Yoga For Wellness
DESCRIPTION:Gentle movement and mindfulness practices to support mental and physical well-being.
URL:https://haisla.ca/event/yoga-for-wellness/2027-03-16/
LOCATION:Haisla Health Centre\, 130 Owekeno Avenue\, Haisla\, British Columbia\, Canada
CATEGORIES:Health and Wellness
END:VEVENT
BEGIN:VEVENT
DTSTART;TZID=America/Vancouver:20270316T120000
DTEND;TZID=America/Vancouver:20270316T130000
DTSTAMP:20260422T040025
CREATED:20251027T211054Z
LAST-MODIFIED:20251027T211127Z
UID:10001784-1805198400-1805202000@haisla.ca
SUMMARY:Yoga For Wellness
DESCRIPTION:Gentle movement and mindfulness practices to support mental and physical well-being.
URL:https://haisla.ca/event/yoga-for-wellness-2/2027-03-16/
LOCATION:Haisla Health Centre\, 130 Owekeno Avenue\, Haisla\, British Columbia\, Canada
CATEGORIES:Health and Wellness
END:VEVENT
BEGIN:VEVENT
DTSTART;TZID=America/Vancouver:20270319T094500
DTEND;TZID=America/Vancouver:20270319T224000
DTSTAMP:20260422T040025
CREATED:20251027T210626Z
LAST-MODIFIED:20251027T210951Z
UID:10000741-1805449500-1805496000@haisla.ca
SUMMARY:Yoga For Wellness
DESCRIPTION:Gentle movement and mindfulness practices to support mental and physical well-being.
URL:https://haisla.ca/event/yoga-for-wellness/2027-03-19/
LOCATION:Haisla Health Centre\, 130 Owekeno Avenue\, Haisla\, British Columbia\, Canada
CATEGORIES:Health and Wellness
END:VEVENT
BEGIN:VEVENT
DTSTART;TZID=America/Vancouver:20270319T120000
DTEND;TZID=America/Vancouver:20270319T130000
DTSTAMP:20260422T040025
CREATED:20251027T211054Z
LAST-MODIFIED:20251027T211127Z
UID:10001785-1805457600-1805461200@haisla.ca
SUMMARY:Yoga For Wellness
DESCRIPTION:Gentle movement and mindfulness practices to support mental and physical well-being.
URL:https://haisla.ca/event/yoga-for-wellness-2/2027-03-19/
LOCATION:Haisla Health Centre\, 130 Owekeno Avenue\, Haisla\, British Columbia\, Canada
CATEGORIES:Health and Wellness
END:VEVENT
BEGIN:VEVENT
DTSTART;TZID=America/Vancouver:20270323T094500
DTEND;TZID=America/Vancouver:20270323T224000
DTSTAMP:20260422T040025
CREATED:20251027T210626Z
LAST-MODIFIED:20251027T210951Z
UID:10000742-1805795100-1805841600@haisla.ca
SUMMARY:Yoga For Wellness
DESCRIPTION:Gentle movement and mindfulness practices to support mental and physical well-being.
URL:https://haisla.ca/event/yoga-for-wellness/2027-03-23/
LOCATION:Haisla Health Centre\, 130 Owekeno Avenue\, Haisla\, British Columbia\, Canada
CATEGORIES:Health and Wellness
END:VEVENT
BEGIN:VEVENT
DTSTART;TZID=America/Vancouver:20270323T120000
DTEND;TZID=America/Vancouver:20270323T130000
DTSTAMP:20260422T040025
CREATED:20251027T211054Z
LAST-MODIFIED:20251027T211127Z
UID:10001786-1805803200-1805806800@haisla.ca
SUMMARY:Yoga For Wellness
DESCRIPTION:Gentle movement and mindfulness practices to support mental and physical well-being.
URL:https://haisla.ca/event/yoga-for-wellness-2/2027-03-23/
LOCATION:Haisla Health Centre\, 130 Owekeno Avenue\, Haisla\, British Columbia\, Canada
CATEGORIES:Health and Wellness
END:VEVENT
BEGIN:VEVENT
DTSTART;TZID=America/Vancouver:20270326T094500
DTEND;TZID=America/Vancouver:20270326T224000
DTSTAMP:20260422T040025
CREATED:20251027T210626Z
LAST-MODIFIED:20251027T210951Z
UID:10000743-1806054300-1806100800@haisla.ca
SUMMARY:Yoga For Wellness
DESCRIPTION:Gentle movement and mindfulness practices to support mental and physical well-being.
URL:https://haisla.ca/event/yoga-for-wellness/2027-03-26/
LOCATION:Haisla Health Centre\, 130 Owekeno Avenue\, Haisla\, British Columbia\, Canada
CATEGORIES:Health and Wellness
END:VEVENT
BEGIN:VEVENT
DTSTART;TZID=America/Vancouver:20270326T120000
DTEND;TZID=America/Vancouver:20270326T130000
DTSTAMP:20260422T040025
CREATED:20251027T211054Z
LAST-MODIFIED:20251027T211127Z
UID:10001787-1806062400-1806066000@haisla.ca
SUMMARY:Yoga For Wellness
DESCRIPTION:Gentle movement and mindfulness practices to support mental and physical well-being.
URL:https://haisla.ca/event/yoga-for-wellness-2/2027-03-26/
LOCATION:Haisla Health Centre\, 130 Owekeno Avenue\, Haisla\, British Columbia\, Canada
CATEGORIES:Health and Wellness
END:VEVENT
BEGIN:VEVENT
DTSTART;TZID=America/Vancouver:20270330T094500
DTEND;TZID=America/Vancouver:20270330T224000
DTSTAMP:20260422T040025
CREATED:20251027T210626Z
LAST-MODIFIED:20251027T210951Z
UID:10000744-1806399900-1806446400@haisla.ca
SUMMARY:Yoga For Wellness
DESCRIPTION:Gentle movement and mindfulness practices to support mental and physical well-being.
URL:https://haisla.ca/event/yoga-for-wellness/2027-03-30/
LOCATION:Haisla Health Centre\, 130 Owekeno Avenue\, Haisla\, British Columbia\, Canada
CATEGORIES:Health and Wellness
END:VEVENT
BEGIN:VEVENT
DTSTART;TZID=America/Vancouver:20270330T120000
DTEND;TZID=America/Vancouver:20270330T130000
DTSTAMP:20260422T040025
CREATED:20251027T211054Z
LAST-MODIFIED:20251027T211127Z
UID:10001788-1806408000-1806411600@haisla.ca
SUMMARY:Yoga For Wellness
DESCRIPTION:Gentle movement and mindfulness practices to support mental and physical well-being.
URL:https://haisla.ca/event/yoga-for-wellness-2/2027-03-30/
LOCATION:Haisla Health Centre\, 130 Owekeno Avenue\, Haisla\, British Columbia\, Canada
CATEGORIES:Health and Wellness
END:VEVENT
BEGIN:VEVENT
DTSTART;TZID=America/Vancouver:20270402T094500
DTEND;TZID=America/Vancouver:20270402T224000
DTSTAMP:20260422T040026
CREATED:20251027T210626Z
LAST-MODIFIED:20251027T210951Z
UID:10000745-1806659100-1806705600@haisla.ca
SUMMARY:Yoga For Wellness
DESCRIPTION:Gentle movement and mindfulness practices to support mental and physical well-being.
URL:https://haisla.ca/event/yoga-for-wellness/2027-04-02/
LOCATION:Haisla Health Centre\, 130 Owekeno Avenue\, Haisla\, British Columbia\, Canada
CATEGORIES:Health and Wellness
END:VEVENT
BEGIN:VEVENT
DTSTART;TZID=America/Vancouver:20270402T120000
DTEND;TZID=America/Vancouver:20270402T130000
DTSTAMP:20260422T040026
CREATED:20251027T211054Z
LAST-MODIFIED:20251027T211127Z
UID:10001789-1806667200-1806670800@haisla.ca
SUMMARY:Yoga For Wellness
DESCRIPTION:Gentle movement and mindfulness practices to support mental and physical well-being.
URL:https://haisla.ca/event/yoga-for-wellness-2/2027-04-02/
LOCATION:Haisla Health Centre\, 130 Owekeno Avenue\, Haisla\, British Columbia\, Canada
CATEGORIES:Health and Wellness
END:VEVENT
END:VCALENDAR