BEGIN:VCALENDAR
VERSION:2.0
PRODID:-//Haisla Nation - ECPv6.15.20//NONSGML v1.0//EN
CALSCALE:GREGORIAN
METHOD:PUBLISH
X-WR-CALNAME:Haisla Nation
X-ORIGINAL-URL:https://haisla.ca
X-WR-CALDESC:Events for Haisla Nation
REFRESH-INTERVAL;VALUE=DURATION:PT1H
X-Robots-Tag:noindex
X-PUBLISHED-TTL:PT1H
BEGIN:VTIMEZONE
TZID:America/Vancouver
BEGIN:DAYLIGHT
TZOFFSETFROM:-0800
TZOFFSETTO:-0700
TZNAME:PDT
DTSTART:20260308T100000
END:DAYLIGHT
BEGIN:STANDARD
TZOFFSETFROM:-0700
TZOFFSETTO:-0800
TZNAME:PST
DTSTART:20261101T090000
END:STANDARD
BEGIN:DAYLIGHT
TZOFFSETFROM:-0800
TZOFFSETTO:-0700
TZNAME:PDT
DTSTART:20270314T100000
END:DAYLIGHT
BEGIN:STANDARD
TZOFFSETFROM:-0700
TZOFFSETTO:-0800
TZNAME:PST
DTSTART:20271107T090000
END:STANDARD
BEGIN:DAYLIGHT
TZOFFSETFROM:-0800
TZOFFSETTO:-0700
TZNAME:PDT
DTSTART:20280312T100000
END:DAYLIGHT
BEGIN:STANDARD
TZOFFSETFROM:-0700
TZOFFSETTO:-0800
TZNAME:PST
DTSTART:20281105T090000
END:STANDARD
BEGIN:DAYLIGHT
TZOFFSETFROM:-0800
TZOFFSETTO:-0700
TZNAME:PDT
DTSTART:20290311T100000
END:DAYLIGHT
BEGIN:STANDARD
TZOFFSETFROM:-0700
TZOFFSETTO:-0800
TZNAME:PST
DTSTART:20291104T090000
END:STANDARD
END:VTIMEZONE
BEGIN:VEVENT
DTSTART;TZID=America/Vancouver:20271203T083000
DTEND;TZID=America/Vancouver:20271203T085000
DTSTAMP:20260422T193334
CREATED:20251027T210214Z
LAST-MODIFIED:20251027T210256Z
UID:10000292-1827822600-1827823800@haisla.ca
SUMMARY:Meditation
DESCRIPTION:
URL:https://haisla.ca/event/meditation/2027-12-03/
LOCATION:Haisla Health Centre\, 130 Owekeno Avenue\, Haisla\, British Columbia\, Canada
CATEGORIES:Health and Wellness
END:VEVENT
BEGIN:VEVENT
DTSTART;TZID=America/Vancouver:20271207T083000
DTEND;TZID=America/Vancouver:20271207T085000
DTSTAMP:20260422T193334
CREATED:20251027T210214Z
LAST-MODIFIED:20251027T210256Z
UID:10000293-1828168200-1828169400@haisla.ca
SUMMARY:Meditation
DESCRIPTION:
URL:https://haisla.ca/event/meditation/2027-12-07/
LOCATION:Haisla Health Centre\, 130 Owekeno Avenue\, Haisla\, British Columbia\, Canada
CATEGORIES:Health and Wellness
END:VEVENT
BEGIN:VEVENT
DTSTART;TZID=America/Vancouver:20271210T083000
DTEND;TZID=America/Vancouver:20271210T085000
DTSTAMP:20260422T193334
CREATED:20251027T210214Z
LAST-MODIFIED:20251027T210256Z
UID:10000294-1828427400-1828428600@haisla.ca
SUMMARY:Meditation
DESCRIPTION:
URL:https://haisla.ca/event/meditation/2027-12-10/
LOCATION:Haisla Health Centre\, 130 Owekeno Avenue\, Haisla\, British Columbia\, Canada
CATEGORIES:Health and Wellness
END:VEVENT
BEGIN:VEVENT
DTSTART;TZID=America/Vancouver:20271214T083000
DTEND;TZID=America/Vancouver:20271214T085000
DTSTAMP:20260422T193334
CREATED:20251027T210214Z
LAST-MODIFIED:20251027T210256Z
UID:10000295-1828773000-1828774200@haisla.ca
SUMMARY:Meditation
DESCRIPTION:
URL:https://haisla.ca/event/meditation/2027-12-14/
LOCATION:Haisla Health Centre\, 130 Owekeno Avenue\, Haisla\, British Columbia\, Canada
CATEGORIES:Health and Wellness
END:VEVENT
BEGIN:VEVENT
DTSTART;TZID=America/Vancouver:20271217T083000
DTEND;TZID=America/Vancouver:20271217T085000
DTSTAMP:20260422T193334
CREATED:20251027T210214Z
LAST-MODIFIED:20251027T210256Z
UID:10000296-1829032200-1829033400@haisla.ca
SUMMARY:Meditation
DESCRIPTION:
URL:https://haisla.ca/event/meditation/2027-12-17/
LOCATION:Haisla Health Centre\, 130 Owekeno Avenue\, Haisla\, British Columbia\, Canada
CATEGORIES:Health and Wellness
END:VEVENT
BEGIN:VEVENT
DTSTART;TZID=America/Vancouver:20271221T083000
DTEND;TZID=America/Vancouver:20271221T085000
DTSTAMP:20260422T193334
CREATED:20251027T210214Z
LAST-MODIFIED:20251027T210256Z
UID:10000297-1829377800-1829379000@haisla.ca
SUMMARY:Meditation
DESCRIPTION:
URL:https://haisla.ca/event/meditation/2027-12-21/
LOCATION:Haisla Health Centre\, 130 Owekeno Avenue\, Haisla\, British Columbia\, Canada
CATEGORIES:Health and Wellness
END:VEVENT
BEGIN:VEVENT
DTSTART;TZID=America/Vancouver:20271224T083000
DTEND;TZID=America/Vancouver:20271224T085000
DTSTAMP:20260422T193334
CREATED:20251027T210214Z
LAST-MODIFIED:20251027T210256Z
UID:10000298-1829637000-1829638200@haisla.ca
SUMMARY:Meditation
DESCRIPTION:
URL:https://haisla.ca/event/meditation/2027-12-24/
LOCATION:Haisla Health Centre\, 130 Owekeno Avenue\, Haisla\, British Columbia\, Canada
CATEGORIES:Health and Wellness
END:VEVENT
BEGIN:VEVENT
DTSTART;TZID=America/Vancouver:20271228T083000
DTEND;TZID=America/Vancouver:20271228T085000
DTSTAMP:20260422T193334
CREATED:20251027T210214Z
LAST-MODIFIED:20251027T210256Z
UID:10000299-1829982600-1829983800@haisla.ca
SUMMARY:Meditation
DESCRIPTION:
URL:https://haisla.ca/event/meditation/2027-12-28/
LOCATION:Haisla Health Centre\, 130 Owekeno Avenue\, Haisla\, British Columbia\, Canada
CATEGORIES:Health and Wellness
END:VEVENT
BEGIN:VEVENT
DTSTART;TZID=America/Vancouver:20271231T083000
DTEND;TZID=America/Vancouver:20271231T085000
DTSTAMP:20260422T193334
CREATED:20251027T210214Z
LAST-MODIFIED:20251027T210256Z
UID:10000300-1830241800-1830243000@haisla.ca
SUMMARY:Meditation
DESCRIPTION:
URL:https://haisla.ca/event/meditation/2027-12-31/
LOCATION:Haisla Health Centre\, 130 Owekeno Avenue\, Haisla\, British Columbia\, Canada
CATEGORIES:Health and Wellness
END:VEVENT
BEGIN:VEVENT
DTSTART;TZID=America/Vancouver:20280104T083000
DTEND;TZID=America/Vancouver:20280104T085000
DTSTAMP:20260422T193334
CREATED:20251027T210214Z
LAST-MODIFIED:20251027T210256Z
UID:10000301-1830587400-1830588600@haisla.ca
SUMMARY:Meditation
DESCRIPTION:
URL:https://haisla.ca/event/meditation/2028-01-04/
LOCATION:Haisla Health Centre\, 130 Owekeno Avenue\, Haisla\, British Columbia\, Canada
CATEGORIES:Health and Wellness
END:VEVENT
BEGIN:VEVENT
DTSTART;TZID=America/Vancouver:20280107T083000
DTEND;TZID=America/Vancouver:20280107T085000
DTSTAMP:20260422T193334
CREATED:20251027T210214Z
LAST-MODIFIED:20251027T210256Z
UID:10000302-1830846600-1830847800@haisla.ca
SUMMARY:Meditation
DESCRIPTION:
URL:https://haisla.ca/event/meditation/2028-01-07/
LOCATION:Haisla Health Centre\, 130 Owekeno Avenue\, Haisla\, British Columbia\, Canada
CATEGORIES:Health and Wellness
END:VEVENT
BEGIN:VEVENT
DTSTART;TZID=America/Vancouver:20280111T083000
DTEND;TZID=America/Vancouver:20280111T085000
DTSTAMP:20260422T193334
CREATED:20251027T210214Z
LAST-MODIFIED:20251027T210256Z
UID:10000303-1831192200-1831193400@haisla.ca
SUMMARY:Meditation
DESCRIPTION:
URL:https://haisla.ca/event/meditation/2028-01-11/
LOCATION:Haisla Health Centre\, 130 Owekeno Avenue\, Haisla\, British Columbia\, Canada
CATEGORIES:Health and Wellness
END:VEVENT
BEGIN:VEVENT
DTSTART;TZID=America/Vancouver:20280114T083000
DTEND;TZID=America/Vancouver:20280114T085000
DTSTAMP:20260422T193334
CREATED:20251027T210214Z
LAST-MODIFIED:20251027T210256Z
UID:10000304-1831451400-1831452600@haisla.ca
SUMMARY:Meditation
DESCRIPTION:
URL:https://haisla.ca/event/meditation/2028-01-14/
LOCATION:Haisla Health Centre\, 130 Owekeno Avenue\, Haisla\, British Columbia\, Canada
CATEGORIES:Health and Wellness
END:VEVENT
BEGIN:VEVENT
DTSTART;TZID=America/Vancouver:20280118T083000
DTEND;TZID=America/Vancouver:20280118T085000
DTSTAMP:20260422T193334
CREATED:20251027T210214Z
LAST-MODIFIED:20251027T210256Z
UID:10000305-1831797000-1831798200@haisla.ca
SUMMARY:Meditation
DESCRIPTION:
URL:https://haisla.ca/event/meditation/2028-01-18/
LOCATION:Haisla Health Centre\, 130 Owekeno Avenue\, Haisla\, British Columbia\, Canada
CATEGORIES:Health and Wellness
END:VEVENT
BEGIN:VEVENT
DTSTART;TZID=America/Vancouver:20280121T083000
DTEND;TZID=America/Vancouver:20280121T085000
DTSTAMP:20260422T193334
CREATED:20251027T210214Z
LAST-MODIFIED:20251027T210256Z
UID:10000306-1832056200-1832057400@haisla.ca
SUMMARY:Meditation
DESCRIPTION:
URL:https://haisla.ca/event/meditation/2028-01-21/
LOCATION:Haisla Health Centre\, 130 Owekeno Avenue\, Haisla\, British Columbia\, Canada
CATEGORIES:Health and Wellness
END:VEVENT
BEGIN:VEVENT
DTSTART;TZID=America/Vancouver:20280125T083000
DTEND;TZID=America/Vancouver:20280125T085000
DTSTAMP:20260422T193334
CREATED:20251027T210214Z
LAST-MODIFIED:20251027T210256Z
UID:10000307-1832401800-1832403000@haisla.ca
SUMMARY:Meditation
DESCRIPTION:
URL:https://haisla.ca/event/meditation/2028-01-25/
LOCATION:Haisla Health Centre\, 130 Owekeno Avenue\, Haisla\, British Columbia\, Canada
CATEGORIES:Health and Wellness
END:VEVENT
BEGIN:VEVENT
DTSTART;TZID=America/Vancouver:20280128T083000
DTEND;TZID=America/Vancouver:20280128T085000
DTSTAMP:20260422T193334
CREATED:20251027T210214Z
LAST-MODIFIED:20251027T210256Z
UID:10000308-1832661000-1832662200@haisla.ca
SUMMARY:Meditation
DESCRIPTION:
URL:https://haisla.ca/event/meditation/2028-01-28/
LOCATION:Haisla Health Centre\, 130 Owekeno Avenue\, Haisla\, British Columbia\, Canada
CATEGORIES:Health and Wellness
END:VEVENT
BEGIN:VEVENT
DTSTART;TZID=America/Vancouver:20280201T083000
DTEND;TZID=America/Vancouver:20280201T085000
DTSTAMP:20260422T193334
CREATED:20251027T210214Z
LAST-MODIFIED:20251027T210256Z
UID:10000309-1833006600-1833007800@haisla.ca
SUMMARY:Meditation
DESCRIPTION:
URL:https://haisla.ca/event/meditation/2028-02-01/
LOCATION:Haisla Health Centre\, 130 Owekeno Avenue\, Haisla\, British Columbia\, Canada
CATEGORIES:Health and Wellness
END:VEVENT
BEGIN:VEVENT
DTSTART;TZID=America/Vancouver:20280204T083000
DTEND;TZID=America/Vancouver:20280204T085000
DTSTAMP:20260422T193334
CREATED:20251027T210214Z
LAST-MODIFIED:20251027T210256Z
UID:10000310-1833265800-1833267000@haisla.ca
SUMMARY:Meditation
DESCRIPTION:
URL:https://haisla.ca/event/meditation/2028-02-04/
LOCATION:Haisla Health Centre\, 130 Owekeno Avenue\, Haisla\, British Columbia\, Canada
CATEGORIES:Health and Wellness
END:VEVENT
BEGIN:VEVENT
DTSTART;TZID=America/Vancouver:20280208T083000
DTEND;TZID=America/Vancouver:20280208T085000
DTSTAMP:20260422T193334
CREATED:20251027T210214Z
LAST-MODIFIED:20251027T210256Z
UID:10000311-1833611400-1833612600@haisla.ca
SUMMARY:Meditation
DESCRIPTION:
URL:https://haisla.ca/event/meditation/2028-02-08/
LOCATION:Haisla Health Centre\, 130 Owekeno Avenue\, Haisla\, British Columbia\, Canada
CATEGORIES:Health and Wellness
END:VEVENT
BEGIN:VEVENT
DTSTART;TZID=America/Vancouver:20280211T083000
DTEND;TZID=America/Vancouver:20280211T085000
DTSTAMP:20260422T193334
CREATED:20251027T210214Z
LAST-MODIFIED:20251027T210256Z
UID:10000312-1833870600-1833871800@haisla.ca
SUMMARY:Meditation
DESCRIPTION:
URL:https://haisla.ca/event/meditation/2028-02-11/
LOCATION:Haisla Health Centre\, 130 Owekeno Avenue\, Haisla\, British Columbia\, Canada
CATEGORIES:Health and Wellness
END:VEVENT
BEGIN:VEVENT
DTSTART;TZID=America/Vancouver:20280215T083000
DTEND;TZID=America/Vancouver:20280215T085000
DTSTAMP:20260422T193334
CREATED:20251027T210214Z
LAST-MODIFIED:20251027T210256Z
UID:10000313-1834216200-1834217400@haisla.ca
SUMMARY:Meditation
DESCRIPTION:
URL:https://haisla.ca/event/meditation/2028-02-15/
LOCATION:Haisla Health Centre\, 130 Owekeno Avenue\, Haisla\, British Columbia\, Canada
CATEGORIES:Health and Wellness
END:VEVENT
BEGIN:VEVENT
DTSTART;TZID=America/Vancouver:20280218T083000
DTEND;TZID=America/Vancouver:20280218T085000
DTSTAMP:20260422T193334
CREATED:20251027T210214Z
LAST-MODIFIED:20251027T210256Z
UID:10000314-1834475400-1834476600@haisla.ca
SUMMARY:Meditation
DESCRIPTION:
URL:https://haisla.ca/event/meditation/2028-02-18/
LOCATION:Haisla Health Centre\, 130 Owekeno Avenue\, Haisla\, British Columbia\, Canada
CATEGORIES:Health and Wellness
END:VEVENT
BEGIN:VEVENT
DTSTART;TZID=America/Vancouver:20280222T083000
DTEND;TZID=America/Vancouver:20280222T085000
DTSTAMP:20260422T193334
CREATED:20251027T210214Z
LAST-MODIFIED:20251027T210256Z
UID:10000315-1834821000-1834822200@haisla.ca
SUMMARY:Meditation
DESCRIPTION:
URL:https://haisla.ca/event/meditation/2028-02-22/
LOCATION:Haisla Health Centre\, 130 Owekeno Avenue\, Haisla\, British Columbia\, Canada
CATEGORIES:Health and Wellness
END:VEVENT
BEGIN:VEVENT
DTSTART;TZID=America/Vancouver:20280225T083000
DTEND;TZID=America/Vancouver:20280225T085000
DTSTAMP:20260422T193334
CREATED:20251027T210214Z
LAST-MODIFIED:20251027T210256Z
UID:10000316-1835080200-1835081400@haisla.ca
SUMMARY:Meditation
DESCRIPTION:
URL:https://haisla.ca/event/meditation/2028-02-25/
LOCATION:Haisla Health Centre\, 130 Owekeno Avenue\, Haisla\, British Columbia\, Canada
CATEGORIES:Health and Wellness
END:VEVENT
BEGIN:VEVENT
DTSTART;TZID=America/Vancouver:20280229T083000
DTEND;TZID=America/Vancouver:20280229T085000
DTSTAMP:20260422T193334
CREATED:20251027T210214Z
LAST-MODIFIED:20251027T210256Z
UID:10000317-1835425800-1835427000@haisla.ca
SUMMARY:Meditation
DESCRIPTION:
URL:https://haisla.ca/event/meditation/2028-02-29/
LOCATION:Haisla Health Centre\, 130 Owekeno Avenue\, Haisla\, British Columbia\, Canada
CATEGORIES:Health and Wellness
END:VEVENT
BEGIN:VEVENT
DTSTART;TZID=America/Vancouver:20280303T083000
DTEND;TZID=America/Vancouver:20280303T085000
DTSTAMP:20260422T193334
CREATED:20251027T210214Z
LAST-MODIFIED:20251027T210256Z
UID:10000318-1835685000-1835686200@haisla.ca
SUMMARY:Meditation
DESCRIPTION:
URL:https://haisla.ca/event/meditation/2028-03-03/
LOCATION:Haisla Health Centre\, 130 Owekeno Avenue\, Haisla\, British Columbia\, Canada
CATEGORIES:Health and Wellness
END:VEVENT
BEGIN:VEVENT
DTSTART;TZID=America/Vancouver:20280307T083000
DTEND;TZID=America/Vancouver:20280307T085000
DTSTAMP:20260422T193334
CREATED:20251027T210214Z
LAST-MODIFIED:20251027T210256Z
UID:10000319-1836030600-1836031800@haisla.ca
SUMMARY:Meditation
DESCRIPTION:
URL:https://haisla.ca/event/meditation/2028-03-07/
LOCATION:Haisla Health Centre\, 130 Owekeno Avenue\, Haisla\, British Columbia\, Canada
CATEGORIES:Health and Wellness
END:VEVENT
BEGIN:VEVENT
DTSTART;TZID=America/Vancouver:20280310T083000
DTEND;TZID=America/Vancouver:20280310T085000
DTSTAMP:20260422T193334
CREATED:20251027T210214Z
LAST-MODIFIED:20251027T210256Z
UID:10000320-1836289800-1836291000@haisla.ca
SUMMARY:Meditation
DESCRIPTION:
URL:https://haisla.ca/event/meditation/2028-03-10/
LOCATION:Haisla Health Centre\, 130 Owekeno Avenue\, Haisla\, British Columbia\, Canada
CATEGORIES:Health and Wellness
END:VEVENT
BEGIN:VEVENT
DTSTART;TZID=America/Vancouver:20280314T083000
DTEND;TZID=America/Vancouver:20280314T085000
DTSTAMP:20260422T193334
CREATED:20251027T210214Z
LAST-MODIFIED:20251027T210256Z
UID:10000321-1836635400-1836636600@haisla.ca
SUMMARY:Meditation
DESCRIPTION:
URL:https://haisla.ca/event/meditation/2028-03-14/
LOCATION:Haisla Health Centre\, 130 Owekeno Avenue\, Haisla\, British Columbia\, Canada
CATEGORIES:Health and Wellness
END:VEVENT
END:VCALENDAR