BEGIN:VCALENDAR
VERSION:2.0
PRODID:-//Haisla Nation - ECPv6.15.20//NONSGML v1.0//EN
CALSCALE:GREGORIAN
METHOD:PUBLISH
X-WR-CALNAME:Haisla Nation
X-ORIGINAL-URL:https://haisla.ca
X-WR-CALDESC:Events for Haisla Nation
REFRESH-INTERVAL;VALUE=DURATION:PT1H
X-Robots-Tag:noindex
X-PUBLISHED-TTL:PT1H
BEGIN:VTIMEZONE
TZID:America/Vancouver
BEGIN:DAYLIGHT
TZOFFSETFROM:-0800
TZOFFSETTO:-0700
TZNAME:PDT
DTSTART:20260308T100000
END:DAYLIGHT
BEGIN:STANDARD
TZOFFSETFROM:-0700
TZOFFSETTO:-0800
TZNAME:PST
DTSTART:20261101T090000
END:STANDARD
BEGIN:DAYLIGHT
TZOFFSETFROM:-0800
TZOFFSETTO:-0700
TZNAME:PDT
DTSTART:20270314T100000
END:DAYLIGHT
BEGIN:STANDARD
TZOFFSETFROM:-0700
TZOFFSETTO:-0800
TZNAME:PST
DTSTART:20271107T090000
END:STANDARD
BEGIN:DAYLIGHT
TZOFFSETFROM:-0800
TZOFFSETTO:-0700
TZNAME:PDT
DTSTART:20280312T100000
END:DAYLIGHT
BEGIN:STANDARD
TZOFFSETFROM:-0700
TZOFFSETTO:-0800
TZNAME:PST
DTSTART:20281105T090000
END:STANDARD
END:VTIMEZONE
BEGIN:VEVENT
DTSTART;TZID=America/Vancouver:20270910T083000
DTEND;TZID=America/Vancouver:20270910T085000
DTSTAMP:20260422T175236
CREATED:20251027T210214Z
LAST-MODIFIED:20251027T210256Z
UID:10000268-1820565000-1820566200@haisla.ca
SUMMARY:Meditation
DESCRIPTION:
URL:https://haisla.ca/event/meditation/2027-09-10/
LOCATION:Haisla Health Centre\, 130 Owekeno Avenue\, Haisla\, British Columbia\, Canada
CATEGORIES:Health and Wellness
END:VEVENT
BEGIN:VEVENT
DTSTART;TZID=America/Vancouver:20270914T083000
DTEND;TZID=America/Vancouver:20270914T085000
DTSTAMP:20260422T175236
CREATED:20251027T210214Z
LAST-MODIFIED:20251027T210256Z
UID:10000269-1820910600-1820911800@haisla.ca
SUMMARY:Meditation
DESCRIPTION:
URL:https://haisla.ca/event/meditation/2027-09-14/
LOCATION:Haisla Health Centre\, 130 Owekeno Avenue\, Haisla\, British Columbia\, Canada
CATEGORIES:Health and Wellness
END:VEVENT
BEGIN:VEVENT
DTSTART;TZID=America/Vancouver:20270917T083000
DTEND;TZID=America/Vancouver:20270917T085000
DTSTAMP:20260422T175236
CREATED:20251027T210214Z
LAST-MODIFIED:20251027T210256Z
UID:10000270-1821169800-1821171000@haisla.ca
SUMMARY:Meditation
DESCRIPTION:
URL:https://haisla.ca/event/meditation/2027-09-17/
LOCATION:Haisla Health Centre\, 130 Owekeno Avenue\, Haisla\, British Columbia\, Canada
CATEGORIES:Health and Wellness
END:VEVENT
BEGIN:VEVENT
DTSTART;TZID=America/Vancouver:20270921T083000
DTEND;TZID=America/Vancouver:20270921T085000
DTSTAMP:20260422T175236
CREATED:20251027T210214Z
LAST-MODIFIED:20251027T210256Z
UID:10000271-1821515400-1821516600@haisla.ca
SUMMARY:Meditation
DESCRIPTION:
URL:https://haisla.ca/event/meditation/2027-09-21/
LOCATION:Haisla Health Centre\, 130 Owekeno Avenue\, Haisla\, British Columbia\, Canada
CATEGORIES:Health and Wellness
END:VEVENT
BEGIN:VEVENT
DTSTART;TZID=America/Vancouver:20270924T083000
DTEND;TZID=America/Vancouver:20270924T085000
DTSTAMP:20260422T175236
CREATED:20251027T210214Z
LAST-MODIFIED:20251027T210256Z
UID:10000272-1821774600-1821775800@haisla.ca
SUMMARY:Meditation
DESCRIPTION:
URL:https://haisla.ca/event/meditation/2027-09-24/
LOCATION:Haisla Health Centre\, 130 Owekeno Avenue\, Haisla\, British Columbia\, Canada
CATEGORIES:Health and Wellness
END:VEVENT
BEGIN:VEVENT
DTSTART;TZID=America/Vancouver:20270928T083000
DTEND;TZID=America/Vancouver:20270928T085000
DTSTAMP:20260422T175236
CREATED:20251027T210214Z
LAST-MODIFIED:20251027T210256Z
UID:10000273-1822120200-1822121400@haisla.ca
SUMMARY:Meditation
DESCRIPTION:
URL:https://haisla.ca/event/meditation/2027-09-28/
LOCATION:Haisla Health Centre\, 130 Owekeno Avenue\, Haisla\, British Columbia\, Canada
CATEGORIES:Health and Wellness
END:VEVENT
BEGIN:VEVENT
DTSTART;TZID=America/Vancouver:20271001T083000
DTEND;TZID=America/Vancouver:20271001T085000
DTSTAMP:20260422T175236
CREATED:20251027T210214Z
LAST-MODIFIED:20251027T210256Z
UID:10000274-1822379400-1822380600@haisla.ca
SUMMARY:Meditation
DESCRIPTION:
URL:https://haisla.ca/event/meditation/2027-10-01/
LOCATION:Haisla Health Centre\, 130 Owekeno Avenue\, Haisla\, British Columbia\, Canada
CATEGORIES:Health and Wellness
END:VEVENT
BEGIN:VEVENT
DTSTART;TZID=America/Vancouver:20271005T083000
DTEND;TZID=America/Vancouver:20271005T085000
DTSTAMP:20260422T175236
CREATED:20251027T210214Z
LAST-MODIFIED:20251027T210256Z
UID:10000275-1822725000-1822726200@haisla.ca
SUMMARY:Meditation
DESCRIPTION:
URL:https://haisla.ca/event/meditation/2027-10-05/
LOCATION:Haisla Health Centre\, 130 Owekeno Avenue\, Haisla\, British Columbia\, Canada
CATEGORIES:Health and Wellness
END:VEVENT
BEGIN:VEVENT
DTSTART;TZID=America/Vancouver:20271008T083000
DTEND;TZID=America/Vancouver:20271008T085000
DTSTAMP:20260422T175236
CREATED:20251027T210214Z
LAST-MODIFIED:20251027T210256Z
UID:10000276-1822984200-1822985400@haisla.ca
SUMMARY:Meditation
DESCRIPTION:
URL:https://haisla.ca/event/meditation/2027-10-08/
LOCATION:Haisla Health Centre\, 130 Owekeno Avenue\, Haisla\, British Columbia\, Canada
CATEGORIES:Health and Wellness
END:VEVENT
BEGIN:VEVENT
DTSTART;TZID=America/Vancouver:20271012T083000
DTEND;TZID=America/Vancouver:20271012T085000
DTSTAMP:20260422T175236
CREATED:20251027T210214Z
LAST-MODIFIED:20251027T210256Z
UID:10000277-1823329800-1823331000@haisla.ca
SUMMARY:Meditation
DESCRIPTION:
URL:https://haisla.ca/event/meditation/2027-10-12/
LOCATION:Haisla Health Centre\, 130 Owekeno Avenue\, Haisla\, British Columbia\, Canada
CATEGORIES:Health and Wellness
END:VEVENT
BEGIN:VEVENT
DTSTART;TZID=America/Vancouver:20271015T083000
DTEND;TZID=America/Vancouver:20271015T085000
DTSTAMP:20260422T175236
CREATED:20251027T210214Z
LAST-MODIFIED:20251027T210256Z
UID:10000278-1823589000-1823590200@haisla.ca
SUMMARY:Meditation
DESCRIPTION:
URL:https://haisla.ca/event/meditation/2027-10-15/
LOCATION:Haisla Health Centre\, 130 Owekeno Avenue\, Haisla\, British Columbia\, Canada
CATEGORIES:Health and Wellness
END:VEVENT
BEGIN:VEVENT
DTSTART;TZID=America/Vancouver:20271019T083000
DTEND;TZID=America/Vancouver:20271019T085000
DTSTAMP:20260422T175236
CREATED:20251027T210214Z
LAST-MODIFIED:20251027T210256Z
UID:10000279-1823934600-1823935800@haisla.ca
SUMMARY:Meditation
DESCRIPTION:
URL:https://haisla.ca/event/meditation/2027-10-19/
LOCATION:Haisla Health Centre\, 130 Owekeno Avenue\, Haisla\, British Columbia\, Canada
CATEGORIES:Health and Wellness
END:VEVENT
BEGIN:VEVENT
DTSTART;TZID=America/Vancouver:20271022T083000
DTEND;TZID=America/Vancouver:20271022T085000
DTSTAMP:20260422T175236
CREATED:20251027T210214Z
LAST-MODIFIED:20251027T210256Z
UID:10000280-1824193800-1824195000@haisla.ca
SUMMARY:Meditation
DESCRIPTION:
URL:https://haisla.ca/event/meditation/2027-10-22/
LOCATION:Haisla Health Centre\, 130 Owekeno Avenue\, Haisla\, British Columbia\, Canada
CATEGORIES:Health and Wellness
END:VEVENT
BEGIN:VEVENT
DTSTART;TZID=America/Vancouver:20271026T083000
DTEND;TZID=America/Vancouver:20271026T085000
DTSTAMP:20260422T175236
CREATED:20251027T210214Z
LAST-MODIFIED:20251027T210256Z
UID:10000281-1824539400-1824540600@haisla.ca
SUMMARY:Meditation
DESCRIPTION:
URL:https://haisla.ca/event/meditation/2027-10-26/
LOCATION:Haisla Health Centre\, 130 Owekeno Avenue\, Haisla\, British Columbia\, Canada
CATEGORIES:Health and Wellness
END:VEVENT
BEGIN:VEVENT
DTSTART;TZID=America/Vancouver:20271029T083000
DTEND;TZID=America/Vancouver:20271029T085000
DTSTAMP:20260422T175236
CREATED:20251027T210214Z
LAST-MODIFIED:20251027T210256Z
UID:10000282-1824798600-1824799800@haisla.ca
SUMMARY:Meditation
DESCRIPTION:
URL:https://haisla.ca/event/meditation/2027-10-29/
LOCATION:Haisla Health Centre\, 130 Owekeno Avenue\, Haisla\, British Columbia\, Canada
CATEGORIES:Health and Wellness
END:VEVENT
BEGIN:VEVENT
DTSTART;TZID=America/Vancouver:20271102T083000
DTEND;TZID=America/Vancouver:20271102T085000
DTSTAMP:20260422T175236
CREATED:20251027T210214Z
LAST-MODIFIED:20251027T210256Z
UID:10000283-1825144200-1825145400@haisla.ca
SUMMARY:Meditation
DESCRIPTION:
URL:https://haisla.ca/event/meditation/2027-11-02/
LOCATION:Haisla Health Centre\, 130 Owekeno Avenue\, Haisla\, British Columbia\, Canada
CATEGORIES:Health and Wellness
END:VEVENT
BEGIN:VEVENT
DTSTART;TZID=America/Vancouver:20271105T083000
DTEND;TZID=America/Vancouver:20271105T085000
DTSTAMP:20260422T175236
CREATED:20251027T210214Z
LAST-MODIFIED:20251027T210256Z
UID:10000284-1825403400-1825404600@haisla.ca
SUMMARY:Meditation
DESCRIPTION:
URL:https://haisla.ca/event/meditation/2027-11-05/
LOCATION:Haisla Health Centre\, 130 Owekeno Avenue\, Haisla\, British Columbia\, Canada
CATEGORIES:Health and Wellness
END:VEVENT
BEGIN:VEVENT
DTSTART;TZID=America/Vancouver:20271109T083000
DTEND;TZID=America/Vancouver:20271109T085000
DTSTAMP:20260422T175236
CREATED:20251027T210214Z
LAST-MODIFIED:20251027T210256Z
UID:10000285-1825749000-1825750200@haisla.ca
SUMMARY:Meditation
DESCRIPTION:
URL:https://haisla.ca/event/meditation/2027-11-09/
LOCATION:Haisla Health Centre\, 130 Owekeno Avenue\, Haisla\, British Columbia\, Canada
CATEGORIES:Health and Wellness
END:VEVENT
BEGIN:VEVENT
DTSTART;TZID=America/Vancouver:20271112T083000
DTEND;TZID=America/Vancouver:20271112T085000
DTSTAMP:20260422T175236
CREATED:20251027T210214Z
LAST-MODIFIED:20251027T210256Z
UID:10000286-1826008200-1826009400@haisla.ca
SUMMARY:Meditation
DESCRIPTION:
URL:https://haisla.ca/event/meditation/2027-11-12/
LOCATION:Haisla Health Centre\, 130 Owekeno Avenue\, Haisla\, British Columbia\, Canada
CATEGORIES:Health and Wellness
END:VEVENT
BEGIN:VEVENT
DTSTART;TZID=America/Vancouver:20271116T083000
DTEND;TZID=America/Vancouver:20271116T085000
DTSTAMP:20260422T175236
CREATED:20251027T210214Z
LAST-MODIFIED:20251027T210256Z
UID:10000287-1826353800-1826355000@haisla.ca
SUMMARY:Meditation
DESCRIPTION:
URL:https://haisla.ca/event/meditation/2027-11-16/
LOCATION:Haisla Health Centre\, 130 Owekeno Avenue\, Haisla\, British Columbia\, Canada
CATEGORIES:Health and Wellness
END:VEVENT
BEGIN:VEVENT
DTSTART;TZID=America/Vancouver:20271119T083000
DTEND;TZID=America/Vancouver:20271119T085000
DTSTAMP:20260422T175236
CREATED:20251027T210214Z
LAST-MODIFIED:20251027T210256Z
UID:10000288-1826613000-1826614200@haisla.ca
SUMMARY:Meditation
DESCRIPTION:
URL:https://haisla.ca/event/meditation/2027-11-19/
LOCATION:Haisla Health Centre\, 130 Owekeno Avenue\, Haisla\, British Columbia\, Canada
CATEGORIES:Health and Wellness
END:VEVENT
BEGIN:VEVENT
DTSTART;TZID=America/Vancouver:20271123T083000
DTEND;TZID=America/Vancouver:20271123T085000
DTSTAMP:20260422T175236
CREATED:20251027T210214Z
LAST-MODIFIED:20251027T210256Z
UID:10000289-1826958600-1826959800@haisla.ca
SUMMARY:Meditation
DESCRIPTION:
URL:https://haisla.ca/event/meditation/2027-11-23/
LOCATION:Haisla Health Centre\, 130 Owekeno Avenue\, Haisla\, British Columbia\, Canada
CATEGORIES:Health and Wellness
END:VEVENT
BEGIN:VEVENT
DTSTART;TZID=America/Vancouver:20271126T083000
DTEND;TZID=America/Vancouver:20271126T085000
DTSTAMP:20260422T175236
CREATED:20251027T210214Z
LAST-MODIFIED:20251027T210256Z
UID:10000290-1827217800-1827219000@haisla.ca
SUMMARY:Meditation
DESCRIPTION:
URL:https://haisla.ca/event/meditation/2027-11-26/
LOCATION:Haisla Health Centre\, 130 Owekeno Avenue\, Haisla\, British Columbia\, Canada
CATEGORIES:Health and Wellness
END:VEVENT
BEGIN:VEVENT
DTSTART;TZID=America/Vancouver:20271130T083000
DTEND;TZID=America/Vancouver:20271130T085000
DTSTAMP:20260422T175236
CREATED:20251027T210214Z
LAST-MODIFIED:20251027T210256Z
UID:10000291-1827563400-1827564600@haisla.ca
SUMMARY:Meditation
DESCRIPTION:
URL:https://haisla.ca/event/meditation/2027-11-30/
LOCATION:Haisla Health Centre\, 130 Owekeno Avenue\, Haisla\, British Columbia\, Canada
CATEGORIES:Health and Wellness
END:VEVENT
BEGIN:VEVENT
DTSTART;TZID=America/Vancouver:20271203T083000
DTEND;TZID=America/Vancouver:20271203T085000
DTSTAMP:20260422T175236
CREATED:20251027T210214Z
LAST-MODIFIED:20251027T210256Z
UID:10000292-1827822600-1827823800@haisla.ca
SUMMARY:Meditation
DESCRIPTION:
URL:https://haisla.ca/event/meditation/2027-12-03/
LOCATION:Haisla Health Centre\, 130 Owekeno Avenue\, Haisla\, British Columbia\, Canada
CATEGORIES:Health and Wellness
END:VEVENT
BEGIN:VEVENT
DTSTART;TZID=America/Vancouver:20271207T083000
DTEND;TZID=America/Vancouver:20271207T085000
DTSTAMP:20260422T175236
CREATED:20251027T210214Z
LAST-MODIFIED:20251027T210256Z
UID:10000293-1828168200-1828169400@haisla.ca
SUMMARY:Meditation
DESCRIPTION:
URL:https://haisla.ca/event/meditation/2027-12-07/
LOCATION:Haisla Health Centre\, 130 Owekeno Avenue\, Haisla\, British Columbia\, Canada
CATEGORIES:Health and Wellness
END:VEVENT
BEGIN:VEVENT
DTSTART;TZID=America/Vancouver:20271210T083000
DTEND;TZID=America/Vancouver:20271210T085000
DTSTAMP:20260422T175236
CREATED:20251027T210214Z
LAST-MODIFIED:20251027T210256Z
UID:10000294-1828427400-1828428600@haisla.ca
SUMMARY:Meditation
DESCRIPTION:
URL:https://haisla.ca/event/meditation/2027-12-10/
LOCATION:Haisla Health Centre\, 130 Owekeno Avenue\, Haisla\, British Columbia\, Canada
CATEGORIES:Health and Wellness
END:VEVENT
BEGIN:VEVENT
DTSTART;TZID=America/Vancouver:20271214T083000
DTEND;TZID=America/Vancouver:20271214T085000
DTSTAMP:20260422T175236
CREATED:20251027T210214Z
LAST-MODIFIED:20251027T210256Z
UID:10000295-1828773000-1828774200@haisla.ca
SUMMARY:Meditation
DESCRIPTION:
URL:https://haisla.ca/event/meditation/2027-12-14/
LOCATION:Haisla Health Centre\, 130 Owekeno Avenue\, Haisla\, British Columbia\, Canada
CATEGORIES:Health and Wellness
END:VEVENT
BEGIN:VEVENT
DTSTART;TZID=America/Vancouver:20271217T083000
DTEND;TZID=America/Vancouver:20271217T085000
DTSTAMP:20260422T175236
CREATED:20251027T210214Z
LAST-MODIFIED:20251027T210256Z
UID:10000296-1829032200-1829033400@haisla.ca
SUMMARY:Meditation
DESCRIPTION:
URL:https://haisla.ca/event/meditation/2027-12-17/
LOCATION:Haisla Health Centre\, 130 Owekeno Avenue\, Haisla\, British Columbia\, Canada
CATEGORIES:Health and Wellness
END:VEVENT
BEGIN:VEVENT
DTSTART;TZID=America/Vancouver:20271221T083000
DTEND;TZID=America/Vancouver:20271221T085000
DTSTAMP:20260422T175236
CREATED:20251027T210214Z
LAST-MODIFIED:20251027T210256Z
UID:10000297-1829377800-1829379000@haisla.ca
SUMMARY:Meditation
DESCRIPTION:
URL:https://haisla.ca/event/meditation/2027-12-21/
LOCATION:Haisla Health Centre\, 130 Owekeno Avenue\, Haisla\, British Columbia\, Canada
CATEGORIES:Health and Wellness
END:VEVENT
END:VCALENDAR