BEGIN:VCALENDAR
VERSION:2.0
PRODID:-//Haisla Nation - ECPv6.15.20//NONSGML v1.0//EN
CALSCALE:GREGORIAN
METHOD:PUBLISH
X-ORIGINAL-URL:https://haisla.ca
X-WR-CALDESC:Events for Haisla Nation
REFRESH-INTERVAL;VALUE=DURATION:PT1H
X-Robots-Tag:noindex
X-PUBLISHED-TTL:PT1H
BEGIN:VTIMEZONE
TZID:America/Vancouver
BEGIN:DAYLIGHT
TZOFFSETFROM:-0800
TZOFFSETTO:-0700
TZNAME:PDT
DTSTART:20250309T100000
END:DAYLIGHT
BEGIN:STANDARD
TZOFFSETFROM:-0700
TZOFFSETTO:-0800
TZNAME:PST
DTSTART:20251102T090000
END:STANDARD
BEGIN:DAYLIGHT
TZOFFSETFROM:-0800
TZOFFSETTO:-0700
TZNAME:PDT
DTSTART:20260308T100000
END:DAYLIGHT
BEGIN:STANDARD
TZOFFSETFROM:-0700
TZOFFSETTO:-0800
TZNAME:PST
DTSTART:20261101T090000
END:STANDARD
BEGIN:DAYLIGHT
TZOFFSETFROM:-0800
TZOFFSETTO:-0700
TZNAME:PDT
DTSTART:20270314T100000
END:DAYLIGHT
BEGIN:STANDARD
TZOFFSETFROM:-0700
TZOFFSETTO:-0800
TZNAME:PST
DTSTART:20271107T090000
END:STANDARD
END:VTIMEZONE
BEGIN:VEVENT
DTSTART;TZID=America/Vancouver:20260424T190000
DTEND;TZID=America/Vancouver:20260424T200000
DTSTAMP:20260422T130319
CREATED:20260422T162537Z
LAST-MODIFIED:20260422T162537Z
UID:10002449-1777057200-1777060800@haisla.ca
SUMMARY:Alcoholics Anonymous
DESCRIPTION:From Health & Wellness\n\n\n—–\n\n\nJoin us for weekly Alcoholics Anonymous meetings at the Haisla Health Centre. These gatherings offer a supportive space for anyone on a recovery journey. Everyone is welcome and encouraged to feel safe and supported.\n\n\nMeetings take place every Friday from 7:00 PM to 8:00 PM at 130 Owekeno Ave. If you have questions\, contact the Haisla Health Centre at 250 632 3600.
URL:https://haisla.ca/event/alcoholics-anonymous/2026-04-24/
LOCATION:Haisla Health Centre\, 130 Owekeno Avenue\, Haisla\, British Columbia\, Canada
CATEGORIES:Health and Wellness
END:VEVENT
BEGIN:VEVENT
DTSTART;TZID=America/Vancouver:20260501T190000
DTEND;TZID=America/Vancouver:20260501T200000
DTSTAMP:20260422T130319
CREATED:20260422T162537Z
LAST-MODIFIED:20260422T162537Z
UID:10002450-1777662000-1777665600@haisla.ca
SUMMARY:Alcoholics Anonymous
DESCRIPTION:From Health & Wellness\n\n\n—–\n\n\nJoin us for weekly Alcoholics Anonymous meetings at the Haisla Health Centre. These gatherings offer a supportive space for anyone on a recovery journey. Everyone is welcome and encouraged to feel safe and supported.\n\n\nMeetings take place every Friday from 7:00 PM to 8:00 PM at 130 Owekeno Ave. If you have questions\, contact the Haisla Health Centre at 250 632 3600.
URL:https://haisla.ca/event/alcoholics-anonymous/2026-05-01/
LOCATION:Haisla Health Centre\, 130 Owekeno Avenue\, Haisla\, British Columbia\, Canada
CATEGORIES:Health and Wellness
END:VEVENT
BEGIN:VEVENT
DTSTART;TZID=America/Vancouver:20260508T190000
DTEND;TZID=America/Vancouver:20260508T200000
DTSTAMP:20260422T130319
CREATED:20260422T162537Z
LAST-MODIFIED:20260422T162537Z
UID:10002451-1778266800-1778270400@haisla.ca
SUMMARY:Alcoholics Anonymous
DESCRIPTION:From Health & Wellness\n\n\n—–\n\n\nJoin us for weekly Alcoholics Anonymous meetings at the Haisla Health Centre. These gatherings offer a supportive space for anyone on a recovery journey. Everyone is welcome and encouraged to feel safe and supported.\n\n\nMeetings take place every Friday from 7:00 PM to 8:00 PM at 130 Owekeno Ave. If you have questions\, contact the Haisla Health Centre at 250 632 3600.
URL:https://haisla.ca/event/alcoholics-anonymous/2026-05-08/
LOCATION:Haisla Health Centre\, 130 Owekeno Avenue\, Haisla\, British Columbia\, Canada
CATEGORIES:Health and Wellness
END:VEVENT
BEGIN:VEVENT
DTSTART;TZID=America/Vancouver:20260515T190000
DTEND;TZID=America/Vancouver:20260515T200000
DTSTAMP:20260422T130319
CREATED:20260422T162537Z
LAST-MODIFIED:20260422T162537Z
UID:10002452-1778871600-1778875200@haisla.ca
SUMMARY:Alcoholics Anonymous
DESCRIPTION:From Health & Wellness\n\n\n—–\n\n\nJoin us for weekly Alcoholics Anonymous meetings at the Haisla Health Centre. These gatherings offer a supportive space for anyone on a recovery journey. Everyone is welcome and encouraged to feel safe and supported.\n\n\nMeetings take place every Friday from 7:00 PM to 8:00 PM at 130 Owekeno Ave. If you have questions\, contact the Haisla Health Centre at 250 632 3600.
URL:https://haisla.ca/event/alcoholics-anonymous/2026-05-15/
LOCATION:Haisla Health Centre\, 130 Owekeno Avenue\, Haisla\, British Columbia\, Canada
CATEGORIES:Health and Wellness
END:VEVENT
BEGIN:VEVENT
DTSTART;TZID=America/Vancouver:20260522T190000
DTEND;TZID=America/Vancouver:20260522T200000
DTSTAMP:20260422T130319
CREATED:20260422T162537Z
LAST-MODIFIED:20260422T162537Z
UID:10002453-1779476400-1779480000@haisla.ca
SUMMARY:Alcoholics Anonymous
DESCRIPTION:From Health & Wellness\n\n\n—–\n\n\nJoin us for weekly Alcoholics Anonymous meetings at the Haisla Health Centre. These gatherings offer a supportive space for anyone on a recovery journey. Everyone is welcome and encouraged to feel safe and supported.\n\n\nMeetings take place every Friday from 7:00 PM to 8:00 PM at 130 Owekeno Ave. If you have questions\, contact the Haisla Health Centre at 250 632 3600.
URL:https://haisla.ca/event/alcoholics-anonymous/2026-05-22/
LOCATION:Haisla Health Centre\, 130 Owekeno Avenue\, Haisla\, British Columbia\, Canada
CATEGORIES:Health and Wellness
END:VEVENT
BEGIN:VEVENT
DTSTART;TZID=America/Vancouver:20260529T190000
DTEND;TZID=America/Vancouver:20260529T200000
DTSTAMP:20260422T130319
CREATED:20260422T162537Z
LAST-MODIFIED:20260422T162537Z
UID:10002454-1780081200-1780084800@haisla.ca
SUMMARY:Alcoholics Anonymous
DESCRIPTION:From Health & Wellness\n\n\n—–\n\n\nJoin us for weekly Alcoholics Anonymous meetings at the Haisla Health Centre. These gatherings offer a supportive space for anyone on a recovery journey. Everyone is welcome and encouraged to feel safe and supported.\n\n\nMeetings take place every Friday from 7:00 PM to 8:00 PM at 130 Owekeno Ave. If you have questions\, contact the Haisla Health Centre at 250 632 3600.
URL:https://haisla.ca/event/alcoholics-anonymous/2026-05-29/
LOCATION:Haisla Health Centre\, 130 Owekeno Avenue\, Haisla\, British Columbia\, Canada
CATEGORIES:Health and Wellness
END:VEVENT
BEGIN:VEVENT
DTSTART;TZID=America/Vancouver:20260605T190000
DTEND;TZID=America/Vancouver:20260605T200000
DTSTAMP:20260422T130319
CREATED:20260422T162537Z
LAST-MODIFIED:20260422T162537Z
UID:10002455-1780686000-1780689600@haisla.ca
SUMMARY:Alcoholics Anonymous
DESCRIPTION:From Health & Wellness\n\n\n—–\n\n\nJoin us for weekly Alcoholics Anonymous meetings at the Haisla Health Centre. These gatherings offer a supportive space for anyone on a recovery journey. Everyone is welcome and encouraged to feel safe and supported.\n\n\nMeetings take place every Friday from 7:00 PM to 8:00 PM at 130 Owekeno Ave. If you have questions\, contact the Haisla Health Centre at 250 632 3600.
URL:https://haisla.ca/event/alcoholics-anonymous/2026-06-05/
LOCATION:Haisla Health Centre\, 130 Owekeno Avenue\, Haisla\, British Columbia\, Canada
CATEGORIES:Health and Wellness
END:VEVENT
BEGIN:VEVENT
DTSTART;TZID=America/Vancouver:20260612T190000
DTEND;TZID=America/Vancouver:20260612T200000
DTSTAMP:20260422T130319
CREATED:20260422T162537Z
LAST-MODIFIED:20260422T162537Z
UID:10002456-1781290800-1781294400@haisla.ca
SUMMARY:Alcoholics Anonymous
DESCRIPTION:From Health & Wellness\n\n\n—–\n\n\nJoin us for weekly Alcoholics Anonymous meetings at the Haisla Health Centre. These gatherings offer a supportive space for anyone on a recovery journey. Everyone is welcome and encouraged to feel safe and supported.\n\n\nMeetings take place every Friday from 7:00 PM to 8:00 PM at 130 Owekeno Ave. If you have questions\, contact the Haisla Health Centre at 250 632 3600.
URL:https://haisla.ca/event/alcoholics-anonymous/2026-06-12/
LOCATION:Haisla Health Centre\, 130 Owekeno Avenue\, Haisla\, British Columbia\, Canada
CATEGORIES:Health and Wellness
END:VEVENT
BEGIN:VEVENT
DTSTART;TZID=America/Vancouver:20260619T190000
DTEND;TZID=America/Vancouver:20260619T200000
DTSTAMP:20260422T130319
CREATED:20260422T162537Z
LAST-MODIFIED:20260422T162537Z
UID:10002457-1781895600-1781899200@haisla.ca
SUMMARY:Alcoholics Anonymous
DESCRIPTION:From Health & Wellness\n\n\n—–\n\n\nJoin us for weekly Alcoholics Anonymous meetings at the Haisla Health Centre. These gatherings offer a supportive space for anyone on a recovery journey. Everyone is welcome and encouraged to feel safe and supported.\n\n\nMeetings take place every Friday from 7:00 PM to 8:00 PM at 130 Owekeno Ave. If you have questions\, contact the Haisla Health Centre at 250 632 3600.
URL:https://haisla.ca/event/alcoholics-anonymous/2026-06-19/
LOCATION:Haisla Health Centre\, 130 Owekeno Avenue\, Haisla\, British Columbia\, Canada
CATEGORIES:Health and Wellness
END:VEVENT
BEGIN:VEVENT
DTSTART;TZID=America/Vancouver:20260626T190000
DTEND;TZID=America/Vancouver:20260626T200000
DTSTAMP:20260422T130319
CREATED:20260422T162537Z
LAST-MODIFIED:20260422T162537Z
UID:10002458-1782500400-1782504000@haisla.ca
SUMMARY:Alcoholics Anonymous
DESCRIPTION:From Health & Wellness\n\n\n—–\n\n\nJoin us for weekly Alcoholics Anonymous meetings at the Haisla Health Centre. These gatherings offer a supportive space for anyone on a recovery journey. Everyone is welcome and encouraged to feel safe and supported.\n\n\nMeetings take place every Friday from 7:00 PM to 8:00 PM at 130 Owekeno Ave. If you have questions\, contact the Haisla Health Centre at 250 632 3600.
URL:https://haisla.ca/event/alcoholics-anonymous/2026-06-26/
LOCATION:Haisla Health Centre\, 130 Owekeno Avenue\, Haisla\, British Columbia\, Canada
CATEGORIES:Health and Wellness
END:VEVENT
BEGIN:VEVENT
DTSTART;TZID=America/Vancouver:20260703T190000
DTEND;TZID=America/Vancouver:20260703T200000
DTSTAMP:20260422T130319
CREATED:20260422T162537Z
LAST-MODIFIED:20260422T162537Z
UID:10002459-1783105200-1783108800@haisla.ca
SUMMARY:Alcoholics Anonymous
DESCRIPTION:From Health & Wellness\n\n\n—–\n\n\nJoin us for weekly Alcoholics Anonymous meetings at the Haisla Health Centre. These gatherings offer a supportive space for anyone on a recovery journey. Everyone is welcome and encouraged to feel safe and supported.\n\n\nMeetings take place every Friday from 7:00 PM to 8:00 PM at 130 Owekeno Ave. If you have questions\, contact the Haisla Health Centre at 250 632 3600.
URL:https://haisla.ca/event/alcoholics-anonymous/2026-07-03/
LOCATION:Haisla Health Centre\, 130 Owekeno Avenue\, Haisla\, British Columbia\, Canada
CATEGORIES:Health and Wellness
END:VEVENT
BEGIN:VEVENT
DTSTART;TZID=America/Vancouver:20260710T190000
DTEND;TZID=America/Vancouver:20260710T200000
DTSTAMP:20260422T130319
CREATED:20260422T162537Z
LAST-MODIFIED:20260422T162537Z
UID:10002460-1783710000-1783713600@haisla.ca
SUMMARY:Alcoholics Anonymous
DESCRIPTION:From Health & Wellness\n\n\n—–\n\n\nJoin us for weekly Alcoholics Anonymous meetings at the Haisla Health Centre. These gatherings offer a supportive space for anyone on a recovery journey. Everyone is welcome and encouraged to feel safe and supported.\n\n\nMeetings take place every Friday from 7:00 PM to 8:00 PM at 130 Owekeno Ave. If you have questions\, contact the Haisla Health Centre at 250 632 3600.
URL:https://haisla.ca/event/alcoholics-anonymous/2026-07-10/
LOCATION:Haisla Health Centre\, 130 Owekeno Avenue\, Haisla\, British Columbia\, Canada
CATEGORIES:Health and Wellness
END:VEVENT
BEGIN:VEVENT
DTSTART;TZID=America/Vancouver:20260717T190000
DTEND;TZID=America/Vancouver:20260717T200000
DTSTAMP:20260422T130319
CREATED:20260422T162537Z
LAST-MODIFIED:20260422T162537Z
UID:10002461-1784314800-1784318400@haisla.ca
SUMMARY:Alcoholics Anonymous
DESCRIPTION:From Health & Wellness\n\n\n—–\n\n\nJoin us for weekly Alcoholics Anonymous meetings at the Haisla Health Centre. These gatherings offer a supportive space for anyone on a recovery journey. Everyone is welcome and encouraged to feel safe and supported.\n\n\nMeetings take place every Friday from 7:00 PM to 8:00 PM at 130 Owekeno Ave. If you have questions\, contact the Haisla Health Centre at 250 632 3600.
URL:https://haisla.ca/event/alcoholics-anonymous/2026-07-17/
LOCATION:Haisla Health Centre\, 130 Owekeno Avenue\, Haisla\, British Columbia\, Canada
CATEGORIES:Health and Wellness
END:VEVENT
BEGIN:VEVENT
DTSTART;TZID=America/Vancouver:20260724T190000
DTEND;TZID=America/Vancouver:20260724T200000
DTSTAMP:20260422T130319
CREATED:20260422T162537Z
LAST-MODIFIED:20260422T162537Z
UID:10002462-1784919600-1784923200@haisla.ca
SUMMARY:Alcoholics Anonymous
DESCRIPTION:From Health & Wellness\n\n\n—–\n\n\nJoin us for weekly Alcoholics Anonymous meetings at the Haisla Health Centre. These gatherings offer a supportive space for anyone on a recovery journey. Everyone is welcome and encouraged to feel safe and supported.\n\n\nMeetings take place every Friday from 7:00 PM to 8:00 PM at 130 Owekeno Ave. If you have questions\, contact the Haisla Health Centre at 250 632 3600.
URL:https://haisla.ca/event/alcoholics-anonymous/2026-07-24/
LOCATION:Haisla Health Centre\, 130 Owekeno Avenue\, Haisla\, British Columbia\, Canada
CATEGORIES:Health and Wellness
END:VEVENT
BEGIN:VEVENT
DTSTART;TZID=America/Vancouver:20260731T190000
DTEND;TZID=America/Vancouver:20260731T200000
DTSTAMP:20260422T130319
CREATED:20260422T162537Z
LAST-MODIFIED:20260422T162537Z
UID:10002463-1785524400-1785528000@haisla.ca
SUMMARY:Alcoholics Anonymous
DESCRIPTION:From Health & Wellness\n\n\n—–\n\n\nJoin us for weekly Alcoholics Anonymous meetings at the Haisla Health Centre. These gatherings offer a supportive space for anyone on a recovery journey. Everyone is welcome and encouraged to feel safe and supported.\n\n\nMeetings take place every Friday from 7:00 PM to 8:00 PM at 130 Owekeno Ave. If you have questions\, contact the Haisla Health Centre at 250 632 3600.
URL:https://haisla.ca/event/alcoholics-anonymous/2026-07-31/
LOCATION:Haisla Health Centre\, 130 Owekeno Avenue\, Haisla\, British Columbia\, Canada
CATEGORIES:Health and Wellness
END:VEVENT
END:VCALENDAR