BEGIN:VCALENDAR
VERSION:2.0
PRODID:-//Haisla Nation - ECPv6.15.20//NONSGML v1.0//EN
CALSCALE:GREGORIAN
METHOD:PUBLISH
X-WR-CALNAME:Haisla Nation
X-ORIGINAL-URL:https://haisla.ca
X-WR-CALDESC:Events for Haisla Nation
REFRESH-INTERVAL;VALUE=DURATION:PT1H
X-Robots-Tag:noindex
X-PUBLISHED-TTL:PT1H
BEGIN:VTIMEZONE
TZID:America/Vancouver
BEGIN:DAYLIGHT
TZOFFSETFROM:-0800
TZOFFSETTO:-0700
TZNAME:PDT
DTSTART:20250309T100000
END:DAYLIGHT
BEGIN:STANDARD
TZOFFSETFROM:-0700
TZOFFSETTO:-0800
TZNAME:PST
DTSTART:20251102T090000
END:STANDARD
BEGIN:DAYLIGHT
TZOFFSETFROM:-0800
TZOFFSETTO:-0700
TZNAME:PDT
DTSTART:20260308T100000
END:DAYLIGHT
BEGIN:STANDARD
TZOFFSETFROM:-0700
TZOFFSETTO:-0800
TZNAME:PST
DTSTART:20261101T090000
END:STANDARD
BEGIN:DAYLIGHT
TZOFFSETFROM:-0800
TZOFFSETTO:-0700
TZNAME:PDT
DTSTART:20270314T100000
END:DAYLIGHT
BEGIN:STANDARD
TZOFFSETFROM:-0700
TZOFFSETTO:-0800
TZNAME:PST
DTSTART:20271107T090000
END:STANDARD
END:VTIMEZONE
BEGIN:VEVENT
DTSTART;TZID=America/Vancouver:20260421T094500
DTEND;TZID=America/Vancouver:20260421T224000
DTSTAMP:20260421T044954
CREATED:20251027T210626Z
LAST-MODIFIED:20251027T210951Z
UID:10000646-1776764700-1776811200@haisla.ca
SUMMARY:Yoga For Wellness
DESCRIPTION:Gentle movement and mindfulness practices to support mental and physical well-being.
URL:https://haisla.ca/event/yoga-for-wellness/2026-04-21/
LOCATION:Haisla Health Centre\, 130 Owekeno Avenue\, Haisla\, British Columbia\, Canada
CATEGORIES:Health and Wellness
END:VEVENT
BEGIN:VEVENT
DTSTART;TZID=America/Vancouver:20260421T120000
DTEND;TZID=America/Vancouver:20260421T130000
DTSTAMP:20260421T044954
CREATED:20251027T211054Z
LAST-MODIFIED:20251027T211127Z
UID:10001690-1776772800-1776776400@haisla.ca
SUMMARY:Yoga For Wellness
DESCRIPTION:Gentle movement and mindfulness practices to support mental and physical well-being.
URL:https://haisla.ca/event/yoga-for-wellness-2/2026-04-21/
LOCATION:Haisla Health Centre\, 130 Owekeno Avenue\, Haisla\, British Columbia\, Canada
CATEGORIES:Health and Wellness
END:VEVENT
BEGIN:VEVENT
DTSTART;TZID=America/Vancouver:20260424T094500
DTEND;TZID=America/Vancouver:20260424T224000
DTSTAMP:20260421T044954
CREATED:20251027T210626Z
LAST-MODIFIED:20251027T210951Z
UID:10000647-1777023900-1777070400@haisla.ca
SUMMARY:Yoga For Wellness
DESCRIPTION:Gentle movement and mindfulness practices to support mental and physical well-being.
URL:https://haisla.ca/event/yoga-for-wellness/2026-04-24/
LOCATION:Haisla Health Centre\, 130 Owekeno Avenue\, Haisla\, British Columbia\, Canada
CATEGORIES:Health and Wellness
END:VEVENT
BEGIN:VEVENT
DTSTART;TZID=America/Vancouver:20260424T120000
DTEND;TZID=America/Vancouver:20260424T130000
DTSTAMP:20260421T044954
CREATED:20251027T211054Z
LAST-MODIFIED:20251027T211127Z
UID:10001691-1777032000-1777035600@haisla.ca
SUMMARY:Yoga For Wellness
DESCRIPTION:Gentle movement and mindfulness practices to support mental and physical well-being.
URL:https://haisla.ca/event/yoga-for-wellness-2/2026-04-24/
LOCATION:Haisla Health Centre\, 130 Owekeno Avenue\, Haisla\, British Columbia\, Canada
CATEGORIES:Health and Wellness
END:VEVENT
BEGIN:VEVENT
DTSTART;TZID=America/Vancouver:20260428T094500
DTEND;TZID=America/Vancouver:20260428T224000
DTSTAMP:20260421T044954
CREATED:20251027T210626Z
LAST-MODIFIED:20251027T210951Z
UID:10000648-1777369500-1777416000@haisla.ca
SUMMARY:Yoga For Wellness
DESCRIPTION:Gentle movement and mindfulness practices to support mental and physical well-being.
URL:https://haisla.ca/event/yoga-for-wellness/2026-04-28/
LOCATION:Haisla Health Centre\, 130 Owekeno Avenue\, Haisla\, British Columbia\, Canada
CATEGORIES:Health and Wellness
END:VEVENT
BEGIN:VEVENT
DTSTART;TZID=America/Vancouver:20260428T120000
DTEND;TZID=America/Vancouver:20260428T130000
DTSTAMP:20260421T044954
CREATED:20251027T211054Z
LAST-MODIFIED:20251027T211127Z
UID:10001692-1777377600-1777381200@haisla.ca
SUMMARY:Yoga For Wellness
DESCRIPTION:Gentle movement and mindfulness practices to support mental and physical well-being.
URL:https://haisla.ca/event/yoga-for-wellness-2/2026-04-28/
LOCATION:Haisla Health Centre\, 130 Owekeno Avenue\, Haisla\, British Columbia\, Canada
CATEGORIES:Health and Wellness
END:VEVENT
BEGIN:VEVENT
DTSTART;TZID=America/Vancouver:20260501T094500
DTEND;TZID=America/Vancouver:20260501T224000
DTSTAMP:20260421T044954
CREATED:20251027T210626Z
LAST-MODIFIED:20251027T210951Z
UID:10000649-1777628700-1777675200@haisla.ca
SUMMARY:Yoga For Wellness
DESCRIPTION:Gentle movement and mindfulness practices to support mental and physical well-being.
URL:https://haisla.ca/event/yoga-for-wellness/2026-05-01/
LOCATION:Haisla Health Centre\, 130 Owekeno Avenue\, Haisla\, British Columbia\, Canada
CATEGORIES:Health and Wellness
END:VEVENT
BEGIN:VEVENT
DTSTART;TZID=America/Vancouver:20260501T120000
DTEND;TZID=America/Vancouver:20260501T130000
DTSTAMP:20260421T044954
CREATED:20251027T211054Z
LAST-MODIFIED:20251027T211127Z
UID:10001693-1777636800-1777640400@haisla.ca
SUMMARY:Yoga For Wellness
DESCRIPTION:Gentle movement and mindfulness practices to support mental and physical well-being.
URL:https://haisla.ca/event/yoga-for-wellness-2/2026-05-01/
LOCATION:Haisla Health Centre\, 130 Owekeno Avenue\, Haisla\, British Columbia\, Canada
CATEGORIES:Health and Wellness
END:VEVENT
BEGIN:VEVENT
DTSTART;TZID=America/Vancouver:20260505T094500
DTEND;TZID=America/Vancouver:20260505T224000
DTSTAMP:20260421T044954
CREATED:20251027T210626Z
LAST-MODIFIED:20251027T210951Z
UID:10000650-1777974300-1778020800@haisla.ca
SUMMARY:Yoga For Wellness
DESCRIPTION:Gentle movement and mindfulness practices to support mental and physical well-being.
URL:https://haisla.ca/event/yoga-for-wellness/2026-05-05/
LOCATION:Haisla Health Centre\, 130 Owekeno Avenue\, Haisla\, British Columbia\, Canada
CATEGORIES:Health and Wellness
END:VEVENT
BEGIN:VEVENT
DTSTART;TZID=America/Vancouver:20260505T120000
DTEND;TZID=America/Vancouver:20260505T130000
DTSTAMP:20260421T044954
CREATED:20251027T211054Z
LAST-MODIFIED:20251027T211127Z
UID:10001694-1777982400-1777986000@haisla.ca
SUMMARY:Yoga For Wellness
DESCRIPTION:Gentle movement and mindfulness practices to support mental and physical well-being.
URL:https://haisla.ca/event/yoga-for-wellness-2/2026-05-05/
LOCATION:Haisla Health Centre\, 130 Owekeno Avenue\, Haisla\, British Columbia\, Canada
CATEGORIES:Health and Wellness
END:VEVENT
BEGIN:VEVENT
DTSTART;TZID=America/Vancouver:20260508T094500
DTEND;TZID=America/Vancouver:20260508T224000
DTSTAMP:20260421T044954
CREATED:20251027T210626Z
LAST-MODIFIED:20251027T210951Z
UID:10000651-1778233500-1778280000@haisla.ca
SUMMARY:Yoga For Wellness
DESCRIPTION:Gentle movement and mindfulness practices to support mental and physical well-being.
URL:https://haisla.ca/event/yoga-for-wellness/2026-05-08/
LOCATION:Haisla Health Centre\, 130 Owekeno Avenue\, Haisla\, British Columbia\, Canada
CATEGORIES:Health and Wellness
END:VEVENT
BEGIN:VEVENT
DTSTART;TZID=America/Vancouver:20260508T120000
DTEND;TZID=America/Vancouver:20260508T130000
DTSTAMP:20260421T044954
CREATED:20251027T211054Z
LAST-MODIFIED:20251027T211127Z
UID:10001695-1778241600-1778245200@haisla.ca
SUMMARY:Yoga For Wellness
DESCRIPTION:Gentle movement and mindfulness practices to support mental and physical well-being.
URL:https://haisla.ca/event/yoga-for-wellness-2/2026-05-08/
LOCATION:Haisla Health Centre\, 130 Owekeno Avenue\, Haisla\, British Columbia\, Canada
CATEGORIES:Health and Wellness
END:VEVENT
BEGIN:VEVENT
DTSTART;TZID=America/Vancouver:20260512T094500
DTEND;TZID=America/Vancouver:20260512T224000
DTSTAMP:20260421T044954
CREATED:20251027T210626Z
LAST-MODIFIED:20251027T210951Z
UID:10000652-1778579100-1778625600@haisla.ca
SUMMARY:Yoga For Wellness
DESCRIPTION:Gentle movement and mindfulness practices to support mental and physical well-being.
URL:https://haisla.ca/event/yoga-for-wellness/2026-05-12/
LOCATION:Haisla Health Centre\, 130 Owekeno Avenue\, Haisla\, British Columbia\, Canada
CATEGORIES:Health and Wellness
END:VEVENT
BEGIN:VEVENT
DTSTART;TZID=America/Vancouver:20260512T120000
DTEND;TZID=America/Vancouver:20260512T130000
DTSTAMP:20260421T044954
CREATED:20251027T211054Z
LAST-MODIFIED:20251027T211127Z
UID:10001696-1778587200-1778590800@haisla.ca
SUMMARY:Yoga For Wellness
DESCRIPTION:Gentle movement and mindfulness practices to support mental and physical well-being.
URL:https://haisla.ca/event/yoga-for-wellness-2/2026-05-12/
LOCATION:Haisla Health Centre\, 130 Owekeno Avenue\, Haisla\, British Columbia\, Canada
CATEGORIES:Health and Wellness
END:VEVENT
BEGIN:VEVENT
DTSTART;TZID=America/Vancouver:20260515T094500
DTEND;TZID=America/Vancouver:20260515T224000
DTSTAMP:20260421T044954
CREATED:20251027T210626Z
LAST-MODIFIED:20251027T210951Z
UID:10000653-1778838300-1778884800@haisla.ca
SUMMARY:Yoga For Wellness
DESCRIPTION:Gentle movement and mindfulness practices to support mental and physical well-being.
URL:https://haisla.ca/event/yoga-for-wellness/2026-05-15/
LOCATION:Haisla Health Centre\, 130 Owekeno Avenue\, Haisla\, British Columbia\, Canada
CATEGORIES:Health and Wellness
END:VEVENT
BEGIN:VEVENT
DTSTART;TZID=America/Vancouver:20260515T120000
DTEND;TZID=America/Vancouver:20260515T130000
DTSTAMP:20260421T044954
CREATED:20251027T211054Z
LAST-MODIFIED:20251027T211127Z
UID:10001697-1778846400-1778850000@haisla.ca
SUMMARY:Yoga For Wellness
DESCRIPTION:Gentle movement and mindfulness practices to support mental and physical well-being.
URL:https://haisla.ca/event/yoga-for-wellness-2/2026-05-15/
LOCATION:Haisla Health Centre\, 130 Owekeno Avenue\, Haisla\, British Columbia\, Canada
CATEGORIES:Health and Wellness
END:VEVENT
BEGIN:VEVENT
DTSTART;TZID=America/Vancouver:20260519T094500
DTEND;TZID=America/Vancouver:20260519T224000
DTSTAMP:20260421T044954
CREATED:20251027T210626Z
LAST-MODIFIED:20251027T210951Z
UID:10000654-1779183900-1779230400@haisla.ca
SUMMARY:Yoga For Wellness
DESCRIPTION:Gentle movement and mindfulness practices to support mental and physical well-being.
URL:https://haisla.ca/event/yoga-for-wellness/2026-05-19/
LOCATION:Haisla Health Centre\, 130 Owekeno Avenue\, Haisla\, British Columbia\, Canada
CATEGORIES:Health and Wellness
END:VEVENT
BEGIN:VEVENT
DTSTART;TZID=America/Vancouver:20260519T120000
DTEND;TZID=America/Vancouver:20260519T130000
DTSTAMP:20260421T044954
CREATED:20251027T211054Z
LAST-MODIFIED:20251027T211127Z
UID:10001698-1779192000-1779195600@haisla.ca
SUMMARY:Yoga For Wellness
DESCRIPTION:Gentle movement and mindfulness practices to support mental and physical well-being.
URL:https://haisla.ca/event/yoga-for-wellness-2/2026-05-19/
LOCATION:Haisla Health Centre\, 130 Owekeno Avenue\, Haisla\, British Columbia\, Canada
CATEGORIES:Health and Wellness
END:VEVENT
BEGIN:VEVENT
DTSTART;TZID=America/Vancouver:20260522T094500
DTEND;TZID=America/Vancouver:20260522T224000
DTSTAMP:20260421T044954
CREATED:20251027T210626Z
LAST-MODIFIED:20251027T210951Z
UID:10000655-1779443100-1779489600@haisla.ca
SUMMARY:Yoga For Wellness
DESCRIPTION:Gentle movement and mindfulness practices to support mental and physical well-being.
URL:https://haisla.ca/event/yoga-for-wellness/2026-05-22/
LOCATION:Haisla Health Centre\, 130 Owekeno Avenue\, Haisla\, British Columbia\, Canada
CATEGORIES:Health and Wellness
END:VEVENT
BEGIN:VEVENT
DTSTART;TZID=America/Vancouver:20260522T120000
DTEND;TZID=America/Vancouver:20260522T130000
DTSTAMP:20260421T044954
CREATED:20251027T211054Z
LAST-MODIFIED:20251027T211127Z
UID:10001699-1779451200-1779454800@haisla.ca
SUMMARY:Yoga For Wellness
DESCRIPTION:Gentle movement and mindfulness practices to support mental and physical well-being.
URL:https://haisla.ca/event/yoga-for-wellness-2/2026-05-22/
LOCATION:Haisla Health Centre\, 130 Owekeno Avenue\, Haisla\, British Columbia\, Canada
CATEGORIES:Health and Wellness
END:VEVENT
BEGIN:VEVENT
DTSTART;TZID=America/Vancouver:20260526T094500
DTEND;TZID=America/Vancouver:20260526T224000
DTSTAMP:20260421T044954
CREATED:20251027T210626Z
LAST-MODIFIED:20251027T210951Z
UID:10000656-1779788700-1779835200@haisla.ca
SUMMARY:Yoga For Wellness
DESCRIPTION:Gentle movement and mindfulness practices to support mental and physical well-being.
URL:https://haisla.ca/event/yoga-for-wellness/2026-05-26/
LOCATION:Haisla Health Centre\, 130 Owekeno Avenue\, Haisla\, British Columbia\, Canada
CATEGORIES:Health and Wellness
END:VEVENT
BEGIN:VEVENT
DTSTART;TZID=America/Vancouver:20260526T120000
DTEND;TZID=America/Vancouver:20260526T130000
DTSTAMP:20260421T044954
CREATED:20251027T211054Z
LAST-MODIFIED:20251027T211127Z
UID:10001700-1779796800-1779800400@haisla.ca
SUMMARY:Yoga For Wellness
DESCRIPTION:Gentle movement and mindfulness practices to support mental and physical well-being.
URL:https://haisla.ca/event/yoga-for-wellness-2/2026-05-26/
LOCATION:Haisla Health Centre\, 130 Owekeno Avenue\, Haisla\, British Columbia\, Canada
CATEGORIES:Health and Wellness
END:VEVENT
BEGIN:VEVENT
DTSTART;TZID=America/Vancouver:20260529T094500
DTEND;TZID=America/Vancouver:20260529T224000
DTSTAMP:20260421T044954
CREATED:20251027T210626Z
LAST-MODIFIED:20251027T210951Z
UID:10000657-1780047900-1780094400@haisla.ca
SUMMARY:Yoga For Wellness
DESCRIPTION:Gentle movement and mindfulness practices to support mental and physical well-being.
URL:https://haisla.ca/event/yoga-for-wellness/2026-05-29/
LOCATION:Haisla Health Centre\, 130 Owekeno Avenue\, Haisla\, British Columbia\, Canada
CATEGORIES:Health and Wellness
END:VEVENT
BEGIN:VEVENT
DTSTART;TZID=America/Vancouver:20260529T120000
DTEND;TZID=America/Vancouver:20260529T130000
DTSTAMP:20260421T044954
CREATED:20251027T211054Z
LAST-MODIFIED:20251027T211127Z
UID:10001701-1780056000-1780059600@haisla.ca
SUMMARY:Yoga For Wellness
DESCRIPTION:Gentle movement and mindfulness practices to support mental and physical well-being.
URL:https://haisla.ca/event/yoga-for-wellness-2/2026-05-29/
LOCATION:Haisla Health Centre\, 130 Owekeno Avenue\, Haisla\, British Columbia\, Canada
CATEGORIES:Health and Wellness
END:VEVENT
BEGIN:VEVENT
DTSTART;TZID=America/Vancouver:20260602T094500
DTEND;TZID=America/Vancouver:20260602T224000
DTSTAMP:20260421T044954
CREATED:20251027T210626Z
LAST-MODIFIED:20251027T210951Z
UID:10000658-1780393500-1780440000@haisla.ca
SUMMARY:Yoga For Wellness
DESCRIPTION:Gentle movement and mindfulness practices to support mental and physical well-being.
URL:https://haisla.ca/event/yoga-for-wellness/2026-06-02/
LOCATION:Haisla Health Centre\, 130 Owekeno Avenue\, Haisla\, British Columbia\, Canada
CATEGORIES:Health and Wellness
END:VEVENT
BEGIN:VEVENT
DTSTART;TZID=America/Vancouver:20260602T120000
DTEND;TZID=America/Vancouver:20260602T130000
DTSTAMP:20260421T044954
CREATED:20251027T211054Z
LAST-MODIFIED:20251027T211127Z
UID:10001702-1780401600-1780405200@haisla.ca
SUMMARY:Yoga For Wellness
DESCRIPTION:Gentle movement and mindfulness practices to support mental and physical well-being.
URL:https://haisla.ca/event/yoga-for-wellness-2/2026-06-02/
LOCATION:Haisla Health Centre\, 130 Owekeno Avenue\, Haisla\, British Columbia\, Canada
CATEGORIES:Health and Wellness
END:VEVENT
BEGIN:VEVENT
DTSTART;TZID=America/Vancouver:20260605T094500
DTEND;TZID=America/Vancouver:20260605T224000
DTSTAMP:20260421T044954
CREATED:20251027T210626Z
LAST-MODIFIED:20251027T210951Z
UID:10000659-1780652700-1780699200@haisla.ca
SUMMARY:Yoga For Wellness
DESCRIPTION:Gentle movement and mindfulness practices to support mental and physical well-being.
URL:https://haisla.ca/event/yoga-for-wellness/2026-06-05/
LOCATION:Haisla Health Centre\, 130 Owekeno Avenue\, Haisla\, British Columbia\, Canada
CATEGORIES:Health and Wellness
END:VEVENT
BEGIN:VEVENT
DTSTART;TZID=America/Vancouver:20260605T120000
DTEND;TZID=America/Vancouver:20260605T130000
DTSTAMP:20260421T044954
CREATED:20251027T211054Z
LAST-MODIFIED:20251027T211127Z
UID:10001703-1780660800-1780664400@haisla.ca
SUMMARY:Yoga For Wellness
DESCRIPTION:Gentle movement and mindfulness practices to support mental and physical well-being.
URL:https://haisla.ca/event/yoga-for-wellness-2/2026-06-05/
LOCATION:Haisla Health Centre\, 130 Owekeno Avenue\, Haisla\, British Columbia\, Canada
CATEGORIES:Health and Wellness
END:VEVENT
BEGIN:VEVENT
DTSTART;TZID=America/Vancouver:20260609T094500
DTEND;TZID=America/Vancouver:20260609T224000
DTSTAMP:20260421T044954
CREATED:20251027T210626Z
LAST-MODIFIED:20251027T210951Z
UID:10000660-1780998300-1781044800@haisla.ca
SUMMARY:Yoga For Wellness
DESCRIPTION:Gentle movement and mindfulness practices to support mental and physical well-being.
URL:https://haisla.ca/event/yoga-for-wellness/2026-06-09/
LOCATION:Haisla Health Centre\, 130 Owekeno Avenue\, Haisla\, British Columbia\, Canada
CATEGORIES:Health and Wellness
END:VEVENT
BEGIN:VEVENT
DTSTART;TZID=America/Vancouver:20260609T120000
DTEND;TZID=America/Vancouver:20260609T130000
DTSTAMP:20260421T044954
CREATED:20251027T211054Z
LAST-MODIFIED:20251027T211127Z
UID:10001704-1781006400-1781010000@haisla.ca
SUMMARY:Yoga For Wellness
DESCRIPTION:Gentle movement and mindfulness practices to support mental and physical well-being.
URL:https://haisla.ca/event/yoga-for-wellness-2/2026-06-09/
LOCATION:Haisla Health Centre\, 130 Owekeno Avenue\, Haisla\, British Columbia\, Canada
CATEGORIES:Health and Wellness
END:VEVENT
END:VCALENDAR