BEGIN:VCALENDAR
VERSION:2.0
PRODID:-//Haisla Nation - ECPv6.15.20//NONSGML v1.0//EN
CALSCALE:GREGORIAN
METHOD:PUBLISH
X-WR-CALNAME:Haisla Nation
X-ORIGINAL-URL:https://haisla.ca
X-WR-CALDESC:Events for Haisla Nation
REFRESH-INTERVAL;VALUE=DURATION:PT1H
X-Robots-Tag:noindex
X-PUBLISHED-TTL:PT1H
BEGIN:VTIMEZONE
TZID:America/Vancouver
BEGIN:DAYLIGHT
TZOFFSETFROM:-0800
TZOFFSETTO:-0700
TZNAME:PDT
DTSTART:20250309T100000
END:DAYLIGHT
BEGIN:STANDARD
TZOFFSETFROM:-0700
TZOFFSETTO:-0800
TZNAME:PST
DTSTART:20251102T090000
END:STANDARD
BEGIN:DAYLIGHT
TZOFFSETFROM:-0800
TZOFFSETTO:-0700
TZNAME:PDT
DTSTART:20260308T100000
END:DAYLIGHT
BEGIN:STANDARD
TZOFFSETFROM:-0700
TZOFFSETTO:-0800
TZNAME:PST
DTSTART:20261101T090000
END:STANDARD
BEGIN:DAYLIGHT
TZOFFSETFROM:-0800
TZOFFSETTO:-0700
TZNAME:PDT
DTSTART:20270314T100000
END:DAYLIGHT
BEGIN:STANDARD
TZOFFSETFROM:-0700
TZOFFSETTO:-0800
TZNAME:PST
DTSTART:20271107T090000
END:STANDARD
END:VTIMEZONE
BEGIN:VEVENT
DTSTART;TZID=America/Vancouver:20260421T083000
DTEND;TZID=America/Vancouver:20260421T085000
DTSTAMP:20260419T211049
CREATED:20251027T210214Z
LAST-MODIFIED:20251027T210256Z
UID:10000123-1776760200-1776761400@haisla.ca
SUMMARY:Meditation
DESCRIPTION:
URL:https://haisla.ca/event/meditation/2026-04-21/
LOCATION:Haisla Health Centre\, 130 Owekeno Avenue\, Haisla\, British Columbia\, Canada
CATEGORIES:Health and Wellness
END:VEVENT
BEGIN:VEVENT
DTSTART;TZID=America/Vancouver:20260424T083000
DTEND;TZID=America/Vancouver:20260424T085000
DTSTAMP:20260419T211049
CREATED:20251027T210214Z
LAST-MODIFIED:20251027T210256Z
UID:10000124-1777019400-1777020600@haisla.ca
SUMMARY:Meditation
DESCRIPTION:
URL:https://haisla.ca/event/meditation/2026-04-24/
LOCATION:Haisla Health Centre\, 130 Owekeno Avenue\, Haisla\, British Columbia\, Canada
CATEGORIES:Health and Wellness
END:VEVENT
BEGIN:VEVENT
DTSTART;TZID=America/Vancouver:20260428T083000
DTEND;TZID=America/Vancouver:20260428T085000
DTSTAMP:20260419T211049
CREATED:20251027T210214Z
LAST-MODIFIED:20251027T210256Z
UID:10000125-1777365000-1777366200@haisla.ca
SUMMARY:Meditation
DESCRIPTION:
URL:https://haisla.ca/event/meditation/2026-04-28/
LOCATION:Haisla Health Centre\, 130 Owekeno Avenue\, Haisla\, British Columbia\, Canada
CATEGORIES:Health and Wellness
END:VEVENT
BEGIN:VEVENT
DTSTART;TZID=America/Vancouver:20260501T083000
DTEND;TZID=America/Vancouver:20260501T085000
DTSTAMP:20260419T211049
CREATED:20251027T210214Z
LAST-MODIFIED:20251027T210256Z
UID:10000126-1777624200-1777625400@haisla.ca
SUMMARY:Meditation
DESCRIPTION:
URL:https://haisla.ca/event/meditation/2026-05-01/
LOCATION:Haisla Health Centre\, 130 Owekeno Avenue\, Haisla\, British Columbia\, Canada
CATEGORIES:Health and Wellness
END:VEVENT
BEGIN:VEVENT
DTSTART;TZID=America/Vancouver:20260505T083000
DTEND;TZID=America/Vancouver:20260505T085000
DTSTAMP:20260419T211049
CREATED:20251027T210214Z
LAST-MODIFIED:20251027T210256Z
UID:10000127-1777969800-1777971000@haisla.ca
SUMMARY:Meditation
DESCRIPTION:
URL:https://haisla.ca/event/meditation/2026-05-05/
LOCATION:Haisla Health Centre\, 130 Owekeno Avenue\, Haisla\, British Columbia\, Canada
CATEGORIES:Health and Wellness
END:VEVENT
BEGIN:VEVENT
DTSTART;TZID=America/Vancouver:20260508T083000
DTEND;TZID=America/Vancouver:20260508T085000
DTSTAMP:20260419T211049
CREATED:20251027T210214Z
LAST-MODIFIED:20251027T210256Z
UID:10000128-1778229000-1778230200@haisla.ca
SUMMARY:Meditation
DESCRIPTION:
URL:https://haisla.ca/event/meditation/2026-05-08/
LOCATION:Haisla Health Centre\, 130 Owekeno Avenue\, Haisla\, British Columbia\, Canada
CATEGORIES:Health and Wellness
END:VEVENT
BEGIN:VEVENT
DTSTART;TZID=America/Vancouver:20260512T083000
DTEND;TZID=America/Vancouver:20260512T085000
DTSTAMP:20260419T211049
CREATED:20251027T210214Z
LAST-MODIFIED:20251027T210256Z
UID:10000129-1778574600-1778575800@haisla.ca
SUMMARY:Meditation
DESCRIPTION:
URL:https://haisla.ca/event/meditation/2026-05-12/
LOCATION:Haisla Health Centre\, 130 Owekeno Avenue\, Haisla\, British Columbia\, Canada
CATEGORIES:Health and Wellness
END:VEVENT
BEGIN:VEVENT
DTSTART;TZID=America/Vancouver:20260515T083000
DTEND;TZID=America/Vancouver:20260515T085000
DTSTAMP:20260419T211049
CREATED:20251027T210214Z
LAST-MODIFIED:20251027T210256Z
UID:10000130-1778833800-1778835000@haisla.ca
SUMMARY:Meditation
DESCRIPTION:
URL:https://haisla.ca/event/meditation/2026-05-15/
LOCATION:Haisla Health Centre\, 130 Owekeno Avenue\, Haisla\, British Columbia\, Canada
CATEGORIES:Health and Wellness
END:VEVENT
BEGIN:VEVENT
DTSTART;TZID=America/Vancouver:20260519T083000
DTEND;TZID=America/Vancouver:20260519T085000
DTSTAMP:20260419T211049
CREATED:20251027T210214Z
LAST-MODIFIED:20251027T210256Z
UID:10000131-1779179400-1779180600@haisla.ca
SUMMARY:Meditation
DESCRIPTION:
URL:https://haisla.ca/event/meditation/2026-05-19/
LOCATION:Haisla Health Centre\, 130 Owekeno Avenue\, Haisla\, British Columbia\, Canada
CATEGORIES:Health and Wellness
END:VEVENT
BEGIN:VEVENT
DTSTART;TZID=America/Vancouver:20260522T083000
DTEND;TZID=America/Vancouver:20260522T085000
DTSTAMP:20260419T211049
CREATED:20251027T210214Z
LAST-MODIFIED:20251027T210256Z
UID:10000132-1779438600-1779439800@haisla.ca
SUMMARY:Meditation
DESCRIPTION:
URL:https://haisla.ca/event/meditation/2026-05-22/
LOCATION:Haisla Health Centre\, 130 Owekeno Avenue\, Haisla\, British Columbia\, Canada
CATEGORIES:Health and Wellness
END:VEVENT
BEGIN:VEVENT
DTSTART;TZID=America/Vancouver:20260526T083000
DTEND;TZID=America/Vancouver:20260526T085000
DTSTAMP:20260419T211049
CREATED:20251027T210214Z
LAST-MODIFIED:20251027T210256Z
UID:10000133-1779784200-1779785400@haisla.ca
SUMMARY:Meditation
DESCRIPTION:
URL:https://haisla.ca/event/meditation/2026-05-26/
LOCATION:Haisla Health Centre\, 130 Owekeno Avenue\, Haisla\, British Columbia\, Canada
CATEGORIES:Health and Wellness
END:VEVENT
BEGIN:VEVENT
DTSTART;TZID=America/Vancouver:20260529T083000
DTEND;TZID=America/Vancouver:20260529T085000
DTSTAMP:20260419T211049
CREATED:20251027T210214Z
LAST-MODIFIED:20251027T210256Z
UID:10000134-1780043400-1780044600@haisla.ca
SUMMARY:Meditation
DESCRIPTION:
URL:https://haisla.ca/event/meditation/2026-05-29/
LOCATION:Haisla Health Centre\, 130 Owekeno Avenue\, Haisla\, British Columbia\, Canada
CATEGORIES:Health and Wellness
END:VEVENT
BEGIN:VEVENT
DTSTART;TZID=America/Vancouver:20260602T083000
DTEND;TZID=America/Vancouver:20260602T085000
DTSTAMP:20260419T211049
CREATED:20251027T210214Z
LAST-MODIFIED:20251027T210256Z
UID:10000135-1780389000-1780390200@haisla.ca
SUMMARY:Meditation
DESCRIPTION:
URL:https://haisla.ca/event/meditation/2026-06-02/
LOCATION:Haisla Health Centre\, 130 Owekeno Avenue\, Haisla\, British Columbia\, Canada
CATEGORIES:Health and Wellness
END:VEVENT
BEGIN:VEVENT
DTSTART;TZID=America/Vancouver:20260605T083000
DTEND;TZID=America/Vancouver:20260605T085000
DTSTAMP:20260419T211049
CREATED:20251027T210214Z
LAST-MODIFIED:20251027T210256Z
UID:10000136-1780648200-1780649400@haisla.ca
SUMMARY:Meditation
DESCRIPTION:
URL:https://haisla.ca/event/meditation/2026-06-05/
LOCATION:Haisla Health Centre\, 130 Owekeno Avenue\, Haisla\, British Columbia\, Canada
CATEGORIES:Health and Wellness
END:VEVENT
BEGIN:VEVENT
DTSTART;TZID=America/Vancouver:20260609T083000
DTEND;TZID=America/Vancouver:20260609T085000
DTSTAMP:20260419T211049
CREATED:20251027T210214Z
LAST-MODIFIED:20251027T210256Z
UID:10000137-1780993800-1780995000@haisla.ca
SUMMARY:Meditation
DESCRIPTION:
URL:https://haisla.ca/event/meditation/2026-06-09/
LOCATION:Haisla Health Centre\, 130 Owekeno Avenue\, Haisla\, British Columbia\, Canada
CATEGORIES:Health and Wellness
END:VEVENT
BEGIN:VEVENT
DTSTART;TZID=America/Vancouver:20260612T083000
DTEND;TZID=America/Vancouver:20260612T085000
DTSTAMP:20260419T211049
CREATED:20251027T210214Z
LAST-MODIFIED:20251027T210256Z
UID:10000138-1781253000-1781254200@haisla.ca
SUMMARY:Meditation
DESCRIPTION:
URL:https://haisla.ca/event/meditation/2026-06-12/
LOCATION:Haisla Health Centre\, 130 Owekeno Avenue\, Haisla\, British Columbia\, Canada
CATEGORIES:Health and Wellness
END:VEVENT
BEGIN:VEVENT
DTSTART;TZID=America/Vancouver:20260616T083000
DTEND;TZID=America/Vancouver:20260616T085000
DTSTAMP:20260419T211049
CREATED:20251027T210214Z
LAST-MODIFIED:20251027T210256Z
UID:10000139-1781598600-1781599800@haisla.ca
SUMMARY:Meditation
DESCRIPTION:
URL:https://haisla.ca/event/meditation/2026-06-16/
LOCATION:Haisla Health Centre\, 130 Owekeno Avenue\, Haisla\, British Columbia\, Canada
CATEGORIES:Health and Wellness
END:VEVENT
BEGIN:VEVENT
DTSTART;TZID=America/Vancouver:20260619T083000
DTEND;TZID=America/Vancouver:20260619T085000
DTSTAMP:20260419T211049
CREATED:20251027T210214Z
LAST-MODIFIED:20251027T210256Z
UID:10000140-1781857800-1781859000@haisla.ca
SUMMARY:Meditation
DESCRIPTION:
URL:https://haisla.ca/event/meditation/2026-06-19/
LOCATION:Haisla Health Centre\, 130 Owekeno Avenue\, Haisla\, British Columbia\, Canada
CATEGORIES:Health and Wellness
END:VEVENT
BEGIN:VEVENT
DTSTART;TZID=America/Vancouver:20260623T083000
DTEND;TZID=America/Vancouver:20260623T085000
DTSTAMP:20260419T211049
CREATED:20251027T210214Z
LAST-MODIFIED:20251027T210256Z
UID:10000141-1782203400-1782204600@haisla.ca
SUMMARY:Meditation
DESCRIPTION:
URL:https://haisla.ca/event/meditation/2026-06-23/
LOCATION:Haisla Health Centre\, 130 Owekeno Avenue\, Haisla\, British Columbia\, Canada
CATEGORIES:Health and Wellness
END:VEVENT
BEGIN:VEVENT
DTSTART;TZID=America/Vancouver:20260626T083000
DTEND;TZID=America/Vancouver:20260626T085000
DTSTAMP:20260419T211049
CREATED:20251027T210214Z
LAST-MODIFIED:20251027T210256Z
UID:10000142-1782462600-1782463800@haisla.ca
SUMMARY:Meditation
DESCRIPTION:
URL:https://haisla.ca/event/meditation/2026-06-26/
LOCATION:Haisla Health Centre\, 130 Owekeno Avenue\, Haisla\, British Columbia\, Canada
CATEGORIES:Health and Wellness
END:VEVENT
BEGIN:VEVENT
DTSTART;TZID=America/Vancouver:20260630T083000
DTEND;TZID=America/Vancouver:20260630T085000
DTSTAMP:20260419T211049
CREATED:20251027T210214Z
LAST-MODIFIED:20251027T210256Z
UID:10000143-1782808200-1782809400@haisla.ca
SUMMARY:Meditation
DESCRIPTION:
URL:https://haisla.ca/event/meditation/2026-06-30/
LOCATION:Haisla Health Centre\, 130 Owekeno Avenue\, Haisla\, British Columbia\, Canada
CATEGORIES:Health and Wellness
END:VEVENT
BEGIN:VEVENT
DTSTART;TZID=America/Vancouver:20260703T083000
DTEND;TZID=America/Vancouver:20260703T085000
DTSTAMP:20260419T211049
CREATED:20251027T210214Z
LAST-MODIFIED:20251027T210256Z
UID:10000144-1783067400-1783068600@haisla.ca
SUMMARY:Meditation
DESCRIPTION:
URL:https://haisla.ca/event/meditation/2026-07-03/
LOCATION:Haisla Health Centre\, 130 Owekeno Avenue\, Haisla\, British Columbia\, Canada
CATEGORIES:Health and Wellness
END:VEVENT
BEGIN:VEVENT
DTSTART;TZID=America/Vancouver:20260707T083000
DTEND;TZID=America/Vancouver:20260707T085000
DTSTAMP:20260419T211049
CREATED:20251027T210214Z
LAST-MODIFIED:20251027T210256Z
UID:10000145-1783413000-1783414200@haisla.ca
SUMMARY:Meditation
DESCRIPTION:
URL:https://haisla.ca/event/meditation/2026-07-07/
LOCATION:Haisla Health Centre\, 130 Owekeno Avenue\, Haisla\, British Columbia\, Canada
CATEGORIES:Health and Wellness
END:VEVENT
BEGIN:VEVENT
DTSTART;TZID=America/Vancouver:20260710T083000
DTEND;TZID=America/Vancouver:20260710T085000
DTSTAMP:20260419T211049
CREATED:20251027T210214Z
LAST-MODIFIED:20251027T210256Z
UID:10000146-1783672200-1783673400@haisla.ca
SUMMARY:Meditation
DESCRIPTION:
URL:https://haisla.ca/event/meditation/2026-07-10/
LOCATION:Haisla Health Centre\, 130 Owekeno Avenue\, Haisla\, British Columbia\, Canada
CATEGORIES:Health and Wellness
END:VEVENT
BEGIN:VEVENT
DTSTART;TZID=America/Vancouver:20260714T083000
DTEND;TZID=America/Vancouver:20260714T085000
DTSTAMP:20260419T211049
CREATED:20251027T210214Z
LAST-MODIFIED:20251027T210256Z
UID:10000147-1784017800-1784019000@haisla.ca
SUMMARY:Meditation
DESCRIPTION:
URL:https://haisla.ca/event/meditation/2026-07-14/
LOCATION:Haisla Health Centre\, 130 Owekeno Avenue\, Haisla\, British Columbia\, Canada
CATEGORIES:Health and Wellness
END:VEVENT
BEGIN:VEVENT
DTSTART;TZID=America/Vancouver:20260717T083000
DTEND;TZID=America/Vancouver:20260717T085000
DTSTAMP:20260419T211049
CREATED:20251027T210214Z
LAST-MODIFIED:20251027T210256Z
UID:10000148-1784277000-1784278200@haisla.ca
SUMMARY:Meditation
DESCRIPTION:
URL:https://haisla.ca/event/meditation/2026-07-17/
LOCATION:Haisla Health Centre\, 130 Owekeno Avenue\, Haisla\, British Columbia\, Canada
CATEGORIES:Health and Wellness
END:VEVENT
BEGIN:VEVENT
DTSTART;TZID=America/Vancouver:20260721T083000
DTEND;TZID=America/Vancouver:20260721T085000
DTSTAMP:20260419T211049
CREATED:20251027T210214Z
LAST-MODIFIED:20251027T210256Z
UID:10000149-1784622600-1784623800@haisla.ca
SUMMARY:Meditation
DESCRIPTION:
URL:https://haisla.ca/event/meditation/2026-07-21/
LOCATION:Haisla Health Centre\, 130 Owekeno Avenue\, Haisla\, British Columbia\, Canada
CATEGORIES:Health and Wellness
END:VEVENT
BEGIN:VEVENT
DTSTART;TZID=America/Vancouver:20260724T083000
DTEND;TZID=America/Vancouver:20260724T085000
DTSTAMP:20260419T211049
CREATED:20251027T210214Z
LAST-MODIFIED:20251027T210256Z
UID:10000150-1784881800-1784883000@haisla.ca
SUMMARY:Meditation
DESCRIPTION:
URL:https://haisla.ca/event/meditation/2026-07-24/
LOCATION:Haisla Health Centre\, 130 Owekeno Avenue\, Haisla\, British Columbia\, Canada
CATEGORIES:Health and Wellness
END:VEVENT
BEGIN:VEVENT
DTSTART;TZID=America/Vancouver:20260728T083000
DTEND;TZID=America/Vancouver:20260728T085000
DTSTAMP:20260419T211049
CREATED:20251027T210214Z
LAST-MODIFIED:20251027T210256Z
UID:10000151-1785227400-1785228600@haisla.ca
SUMMARY:Meditation
DESCRIPTION:
URL:https://haisla.ca/event/meditation/2026-07-28/
LOCATION:Haisla Health Centre\, 130 Owekeno Avenue\, Haisla\, British Columbia\, Canada
CATEGORIES:Health and Wellness
END:VEVENT
BEGIN:VEVENT
DTSTART;TZID=America/Vancouver:20260731T083000
DTEND;TZID=America/Vancouver:20260731T085000
DTSTAMP:20260419T211049
CREATED:20251027T210214Z
LAST-MODIFIED:20251027T210256Z
UID:10000152-1785486600-1785487800@haisla.ca
SUMMARY:Meditation
DESCRIPTION:
URL:https://haisla.ca/event/meditation/2026-07-31/
LOCATION:Haisla Health Centre\, 130 Owekeno Avenue\, Haisla\, British Columbia\, Canada
CATEGORIES:Health and Wellness
END:VEVENT
END:VCALENDAR