BEGIN:VCALENDAR
VERSION:2.0
PRODID:-//Haisla Nation - ECPv6.15.20//NONSGML v1.0//EN
CALSCALE:GREGORIAN
METHOD:PUBLISH
X-WR-CALNAME:Haisla Nation
X-ORIGINAL-URL:https://haisla.ca
X-WR-CALDESC:Events for Haisla Nation
REFRESH-INTERVAL;VALUE=DURATION:PT1H
X-Robots-Tag:noindex
X-PUBLISHED-TTL:PT1H
BEGIN:VTIMEZONE
TZID:America/Vancouver
BEGIN:DAYLIGHT
TZOFFSETFROM:-0800
TZOFFSETTO:-0700
TZNAME:PDT
DTSTART:20250309T100000
END:DAYLIGHT
BEGIN:STANDARD
TZOFFSETFROM:-0700
TZOFFSETTO:-0800
TZNAME:PST
DTSTART:20251102T090000
END:STANDARD
BEGIN:DAYLIGHT
TZOFFSETFROM:-0800
TZOFFSETTO:-0700
TZNAME:PDT
DTSTART:20260308T100000
END:DAYLIGHT
BEGIN:STANDARD
TZOFFSETFROM:-0700
TZOFFSETTO:-0800
TZNAME:PST
DTSTART:20261101T090000
END:STANDARD
BEGIN:DAYLIGHT
TZOFFSETFROM:-0800
TZOFFSETTO:-0700
TZNAME:PDT
DTSTART:20270314T100000
END:DAYLIGHT
BEGIN:STANDARD
TZOFFSETFROM:-0700
TZOFFSETTO:-0800
TZNAME:PST
DTSTART:20271107T090000
END:STANDARD
END:VTIMEZONE
BEGIN:VEVENT
DTSTART;TZID=America/Vancouver:20260420T180000
DTEND;TZID=America/Vancouver:20260420T200000
DTSTAMP:20260419T211028
CREATED:20251027T204629Z
LAST-MODIFIED:20251027T204629Z
UID:10000039-1776708000-1776715200@haisla.ca
SUMMARY:Wellbriety Women's Group
DESCRIPTION:A culturally grounded recovery group rooted in Indigenous teachings and the Medicine Wheel.
URL:https://haisla.ca/event/wellbriety-womens-group/2026-04-20/
CATEGORIES:Health and Wellness
END:VEVENT
BEGIN:VEVENT
DTSTART;TZID=America/Vancouver:20260427T180000
DTEND;TZID=America/Vancouver:20260427T200000
DTSTAMP:20260419T211028
CREATED:20251027T204629Z
LAST-MODIFIED:20251027T204629Z
UID:10000040-1777312800-1777320000@haisla.ca
SUMMARY:Wellbriety Women's Group
DESCRIPTION:A culturally grounded recovery group rooted in Indigenous teachings and the Medicine Wheel.
URL:https://haisla.ca/event/wellbriety-womens-group/2026-04-27/
CATEGORIES:Health and Wellness
END:VEVENT
BEGIN:VEVENT
DTSTART;TZID=America/Vancouver:20260504T180000
DTEND;TZID=America/Vancouver:20260504T200000
DTSTAMP:20260419T211028
CREATED:20251027T204629Z
LAST-MODIFIED:20251027T204629Z
UID:10000041-1777917600-1777924800@haisla.ca
SUMMARY:Wellbriety Women's Group
DESCRIPTION:A culturally grounded recovery group rooted in Indigenous teachings and the Medicine Wheel.
URL:https://haisla.ca/event/wellbriety-womens-group/2026-05-04/
CATEGORIES:Health and Wellness
END:VEVENT
BEGIN:VEVENT
DTSTART;TZID=America/Vancouver:20260511T180000
DTEND;TZID=America/Vancouver:20260511T200000
DTSTAMP:20260419T211028
CREATED:20251027T204629Z
LAST-MODIFIED:20251027T204629Z
UID:10000042-1778522400-1778529600@haisla.ca
SUMMARY:Wellbriety Women's Group
DESCRIPTION:A culturally grounded recovery group rooted in Indigenous teachings and the Medicine Wheel.
URL:https://haisla.ca/event/wellbriety-womens-group/2026-05-11/
CATEGORIES:Health and Wellness
END:VEVENT
BEGIN:VEVENT
DTSTART;TZID=America/Vancouver:20260518T180000
DTEND;TZID=America/Vancouver:20260518T200000
DTSTAMP:20260419T211028
CREATED:20251027T204629Z
LAST-MODIFIED:20251027T204629Z
UID:10000043-1779127200-1779134400@haisla.ca
SUMMARY:Wellbriety Women's Group
DESCRIPTION:A culturally grounded recovery group rooted in Indigenous teachings and the Medicine Wheel.
URL:https://haisla.ca/event/wellbriety-womens-group/2026-05-18/
CATEGORIES:Health and Wellness
END:VEVENT
BEGIN:VEVENT
DTSTART;TZID=America/Vancouver:20260525T180000
DTEND;TZID=America/Vancouver:20260525T200000
DTSTAMP:20260419T211028
CREATED:20251027T204629Z
LAST-MODIFIED:20251027T204629Z
UID:10000044-1779732000-1779739200@haisla.ca
SUMMARY:Wellbriety Women's Group
DESCRIPTION:A culturally grounded recovery group rooted in Indigenous teachings and the Medicine Wheel.
URL:https://haisla.ca/event/wellbriety-womens-group/2026-05-25/
CATEGORIES:Health and Wellness
END:VEVENT
BEGIN:VEVENT
DTSTART;TZID=America/Vancouver:20260601T180000
DTEND;TZID=America/Vancouver:20260601T200000
DTSTAMP:20260419T211028
CREATED:20251027T204629Z
LAST-MODIFIED:20251027T204629Z
UID:10000045-1780336800-1780344000@haisla.ca
SUMMARY:Wellbriety Women's Group
DESCRIPTION:A culturally grounded recovery group rooted in Indigenous teachings and the Medicine Wheel.
URL:https://haisla.ca/event/wellbriety-womens-group/2026-06-01/
CATEGORIES:Health and Wellness
END:VEVENT
BEGIN:VEVENT
DTSTART;TZID=America/Vancouver:20260608T180000
DTEND;TZID=America/Vancouver:20260608T200000
DTSTAMP:20260419T211028
CREATED:20251027T204629Z
LAST-MODIFIED:20251027T204629Z
UID:10000046-1780941600-1780948800@haisla.ca
SUMMARY:Wellbriety Women's Group
DESCRIPTION:A culturally grounded recovery group rooted in Indigenous teachings and the Medicine Wheel.
URL:https://haisla.ca/event/wellbriety-womens-group/2026-06-08/
CATEGORIES:Health and Wellness
END:VEVENT
BEGIN:VEVENT
DTSTART;TZID=America/Vancouver:20260615T180000
DTEND;TZID=America/Vancouver:20260615T200000
DTSTAMP:20260419T211028
CREATED:20251027T204629Z
LAST-MODIFIED:20251027T204629Z
UID:10000047-1781546400-1781553600@haisla.ca
SUMMARY:Wellbriety Women's Group
DESCRIPTION:A culturally grounded recovery group rooted in Indigenous teachings and the Medicine Wheel.
URL:https://haisla.ca/event/wellbriety-womens-group/2026-06-15/
CATEGORIES:Health and Wellness
END:VEVENT
BEGIN:VEVENT
DTSTART;TZID=America/Vancouver:20260622T180000
DTEND;TZID=America/Vancouver:20260622T200000
DTSTAMP:20260419T211028
CREATED:20251027T204629Z
LAST-MODIFIED:20251027T204629Z
UID:10000048-1782151200-1782158400@haisla.ca
SUMMARY:Wellbriety Women's Group
DESCRIPTION:A culturally grounded recovery group rooted in Indigenous teachings and the Medicine Wheel.
URL:https://haisla.ca/event/wellbriety-womens-group/2026-06-22/
CATEGORIES:Health and Wellness
END:VEVENT
BEGIN:VEVENT
DTSTART;TZID=America/Vancouver:20260629T180000
DTEND;TZID=America/Vancouver:20260629T200000
DTSTAMP:20260419T211028
CREATED:20251027T204629Z
LAST-MODIFIED:20251027T204629Z
UID:10000049-1782756000-1782763200@haisla.ca
SUMMARY:Wellbriety Women's Group
DESCRIPTION:A culturally grounded recovery group rooted in Indigenous teachings and the Medicine Wheel.
URL:https://haisla.ca/event/wellbriety-womens-group/2026-06-29/
CATEGORIES:Health and Wellness
END:VEVENT
BEGIN:VEVENT
DTSTART;TZID=America/Vancouver:20260706T180000
DTEND;TZID=America/Vancouver:20260706T200000
DTSTAMP:20260419T211028
CREATED:20251027T204629Z
LAST-MODIFIED:20251027T204629Z
UID:10000050-1783360800-1783368000@haisla.ca
SUMMARY:Wellbriety Women's Group
DESCRIPTION:A culturally grounded recovery group rooted in Indigenous teachings and the Medicine Wheel.
URL:https://haisla.ca/event/wellbriety-womens-group/2026-07-06/
CATEGORIES:Health and Wellness
END:VEVENT
BEGIN:VEVENT
DTSTART;TZID=America/Vancouver:20260713T180000
DTEND;TZID=America/Vancouver:20260713T200000
DTSTAMP:20260419T211028
CREATED:20251027T204629Z
LAST-MODIFIED:20251027T204629Z
UID:10000051-1783965600-1783972800@haisla.ca
SUMMARY:Wellbriety Women's Group
DESCRIPTION:A culturally grounded recovery group rooted in Indigenous teachings and the Medicine Wheel.
URL:https://haisla.ca/event/wellbriety-womens-group/2026-07-13/
CATEGORIES:Health and Wellness
END:VEVENT
BEGIN:VEVENT
DTSTART;TZID=America/Vancouver:20260720T180000
DTEND;TZID=America/Vancouver:20260720T200000
DTSTAMP:20260419T211028
CREATED:20251027T204629Z
LAST-MODIFIED:20251027T204629Z
UID:10000052-1784570400-1784577600@haisla.ca
SUMMARY:Wellbriety Women's Group
DESCRIPTION:A culturally grounded recovery group rooted in Indigenous teachings and the Medicine Wheel.
URL:https://haisla.ca/event/wellbriety-womens-group/2026-07-20/
CATEGORIES:Health and Wellness
END:VEVENT
BEGIN:VEVENT
DTSTART;TZID=America/Vancouver:20260727T180000
DTEND;TZID=America/Vancouver:20260727T200000
DTSTAMP:20260419T211028
CREATED:20251027T204629Z
LAST-MODIFIED:20251027T204629Z
UID:10000053-1785175200-1785182400@haisla.ca
SUMMARY:Wellbriety Women's Group
DESCRIPTION:A culturally grounded recovery group rooted in Indigenous teachings and the Medicine Wheel.
URL:https://haisla.ca/event/wellbriety-womens-group/2026-07-27/
CATEGORIES:Health and Wellness
END:VEVENT
BEGIN:VEVENT
DTSTART;TZID=America/Vancouver:20260803T180000
DTEND;TZID=America/Vancouver:20260803T200000
DTSTAMP:20260419T211028
CREATED:20251027T204629Z
LAST-MODIFIED:20251027T204629Z
UID:10000054-1785780000-1785787200@haisla.ca
SUMMARY:Wellbriety Women's Group
DESCRIPTION:A culturally grounded recovery group rooted in Indigenous teachings and the Medicine Wheel.
URL:https://haisla.ca/event/wellbriety-womens-group/2026-08-03/
CATEGORIES:Health and Wellness
END:VEVENT
BEGIN:VEVENT
DTSTART;TZID=America/Vancouver:20260810T180000
DTEND;TZID=America/Vancouver:20260810T200000
DTSTAMP:20260419T211028
CREATED:20251027T204629Z
LAST-MODIFIED:20251027T204629Z
UID:10000055-1786384800-1786392000@haisla.ca
SUMMARY:Wellbriety Women's Group
DESCRIPTION:A culturally grounded recovery group rooted in Indigenous teachings and the Medicine Wheel.
URL:https://haisla.ca/event/wellbriety-womens-group/2026-08-10/
CATEGORIES:Health and Wellness
END:VEVENT
BEGIN:VEVENT
DTSTART;TZID=America/Vancouver:20260817T180000
DTEND;TZID=America/Vancouver:20260817T200000
DTSTAMP:20260419T211028
CREATED:20251027T204629Z
LAST-MODIFIED:20251027T204629Z
UID:10000056-1786989600-1786996800@haisla.ca
SUMMARY:Wellbriety Women's Group
DESCRIPTION:A culturally grounded recovery group rooted in Indigenous teachings and the Medicine Wheel.
URL:https://haisla.ca/event/wellbriety-womens-group/2026-08-17/
CATEGORIES:Health and Wellness
END:VEVENT
BEGIN:VEVENT
DTSTART;TZID=America/Vancouver:20260824T180000
DTEND;TZID=America/Vancouver:20260824T200000
DTSTAMP:20260419T211028
CREATED:20251027T204629Z
LAST-MODIFIED:20251027T204629Z
UID:10000057-1787594400-1787601600@haisla.ca
SUMMARY:Wellbriety Women's Group
DESCRIPTION:A culturally grounded recovery group rooted in Indigenous teachings and the Medicine Wheel.
URL:https://haisla.ca/event/wellbriety-womens-group/2026-08-24/
CATEGORIES:Health and Wellness
END:VEVENT
BEGIN:VEVENT
DTSTART;TZID=America/Vancouver:20260831T180000
DTEND;TZID=America/Vancouver:20260831T200000
DTSTAMP:20260419T211028
CREATED:20251027T204629Z
LAST-MODIFIED:20251027T204629Z
UID:10000058-1788199200-1788206400@haisla.ca
SUMMARY:Wellbriety Women's Group
DESCRIPTION:A culturally grounded recovery group rooted in Indigenous teachings and the Medicine Wheel.
URL:https://haisla.ca/event/wellbriety-womens-group/2026-08-31/
CATEGORIES:Health and Wellness
END:VEVENT
BEGIN:VEVENT
DTSTART;TZID=America/Vancouver:20260907T180000
DTEND;TZID=America/Vancouver:20260907T200000
DTSTAMP:20260419T211028
CREATED:20251027T204629Z
LAST-MODIFIED:20251027T204629Z
UID:10000059-1788804000-1788811200@haisla.ca
SUMMARY:Wellbriety Women's Group
DESCRIPTION:A culturally grounded recovery group rooted in Indigenous teachings and the Medicine Wheel.
URL:https://haisla.ca/event/wellbriety-womens-group/2026-09-07/
CATEGORIES:Health and Wellness
END:VEVENT
BEGIN:VEVENT
DTSTART;TZID=America/Vancouver:20260914T180000
DTEND;TZID=America/Vancouver:20260914T200000
DTSTAMP:20260419T211028
CREATED:20251027T204629Z
LAST-MODIFIED:20251027T204629Z
UID:10000060-1789408800-1789416000@haisla.ca
SUMMARY:Wellbriety Women's Group
DESCRIPTION:A culturally grounded recovery group rooted in Indigenous teachings and the Medicine Wheel.
URL:https://haisla.ca/event/wellbriety-womens-group/2026-09-14/
CATEGORIES:Health and Wellness
END:VEVENT
BEGIN:VEVENT
DTSTART;TZID=America/Vancouver:20260921T180000
DTEND;TZID=America/Vancouver:20260921T200000
DTSTAMP:20260419T211029
CREATED:20251027T204629Z
LAST-MODIFIED:20251027T204629Z
UID:10000061-1790013600-1790020800@haisla.ca
SUMMARY:Wellbriety Women's Group
DESCRIPTION:A culturally grounded recovery group rooted in Indigenous teachings and the Medicine Wheel.
URL:https://haisla.ca/event/wellbriety-womens-group/2026-09-21/
CATEGORIES:Health and Wellness
END:VEVENT
BEGIN:VEVENT
DTSTART;TZID=America/Vancouver:20260928T180000
DTEND;TZID=America/Vancouver:20260928T200000
DTSTAMP:20260419T211029
CREATED:20251027T204629Z
LAST-MODIFIED:20251027T204629Z
UID:10000062-1790618400-1790625600@haisla.ca
SUMMARY:Wellbriety Women's Group
DESCRIPTION:A culturally grounded recovery group rooted in Indigenous teachings and the Medicine Wheel.
URL:https://haisla.ca/event/wellbriety-womens-group/2026-09-28/
CATEGORIES:Health and Wellness
END:VEVENT
BEGIN:VEVENT
DTSTART;TZID=America/Vancouver:20261005T180000
DTEND;TZID=America/Vancouver:20261005T200000
DTSTAMP:20260419T211029
CREATED:20251027T204629Z
LAST-MODIFIED:20251027T204629Z
UID:10000063-1791223200-1791230400@haisla.ca
SUMMARY:Wellbriety Women's Group
DESCRIPTION:A culturally grounded recovery group rooted in Indigenous teachings and the Medicine Wheel.
URL:https://haisla.ca/event/wellbriety-womens-group/2026-10-05/
CATEGORIES:Health and Wellness
END:VEVENT
BEGIN:VEVENT
DTSTART;TZID=America/Vancouver:20261012T180000
DTEND;TZID=America/Vancouver:20261012T200000
DTSTAMP:20260419T211029
CREATED:20251027T204629Z
LAST-MODIFIED:20251027T204629Z
UID:10000064-1791828000-1791835200@haisla.ca
SUMMARY:Wellbriety Women's Group
DESCRIPTION:A culturally grounded recovery group rooted in Indigenous teachings and the Medicine Wheel.
URL:https://haisla.ca/event/wellbriety-womens-group/2026-10-12/
CATEGORIES:Health and Wellness
END:VEVENT
BEGIN:VEVENT
DTSTART;TZID=America/Vancouver:20261019T180000
DTEND;TZID=America/Vancouver:20261019T200000
DTSTAMP:20260419T211029
CREATED:20251027T204629Z
LAST-MODIFIED:20251027T204629Z
UID:10000065-1792432800-1792440000@haisla.ca
SUMMARY:Wellbriety Women's Group
DESCRIPTION:A culturally grounded recovery group rooted in Indigenous teachings and the Medicine Wheel.
URL:https://haisla.ca/event/wellbriety-womens-group/2026-10-19/
CATEGORIES:Health and Wellness
END:VEVENT
BEGIN:VEVENT
DTSTART;TZID=America/Vancouver:20261026T180000
DTEND;TZID=America/Vancouver:20261026T200000
DTSTAMP:20260419T211029
CREATED:20251027T204629Z
LAST-MODIFIED:20251027T204629Z
UID:10000066-1793037600-1793044800@haisla.ca
SUMMARY:Wellbriety Women's Group
DESCRIPTION:A culturally grounded recovery group rooted in Indigenous teachings and the Medicine Wheel.
URL:https://haisla.ca/event/wellbriety-womens-group/2026-10-26/
CATEGORIES:Health and Wellness
END:VEVENT
BEGIN:VEVENT
DTSTART;TZID=America/Vancouver:20261102T180000
DTEND;TZID=America/Vancouver:20261102T200000
DTSTAMP:20260419T211029
CREATED:20251027T204629Z
LAST-MODIFIED:20251027T204629Z
UID:10000067-1793642400-1793649600@haisla.ca
SUMMARY:Wellbriety Women's Group
DESCRIPTION:A culturally grounded recovery group rooted in Indigenous teachings and the Medicine Wheel.
URL:https://haisla.ca/event/wellbriety-womens-group/2026-11-02/
CATEGORIES:Health and Wellness
END:VEVENT
BEGIN:VEVENT
DTSTART;TZID=America/Vancouver:20261109T180000
DTEND;TZID=America/Vancouver:20261109T200000
DTSTAMP:20260419T211029
CREATED:20251027T204629Z
LAST-MODIFIED:20251027T204629Z
UID:10000068-1794247200-1794254400@haisla.ca
SUMMARY:Wellbriety Women's Group
DESCRIPTION:A culturally grounded recovery group rooted in Indigenous teachings and the Medicine Wheel.
URL:https://haisla.ca/event/wellbriety-womens-group/2026-11-09/
CATEGORIES:Health and Wellness
END:VEVENT
END:VCALENDAR